BEGIN:VCALENDAR
VERSION:2.0
PRODID:-//Universität Innsbruck//LFU:online//DE
METHOD:PUBLISH
BEGIN:VEVENT
UID:26S_100006_5056685@uibk.ac.at
ORGANIZER;CN="LFU:online Universität Innsbruck":MAILTO:Uni-Innsbruck-noreply@uibk.ac.at
SUMMARY:ABA: Work in Austria - How International Students Can Access the Austrian Labour Market (LV 100006-0 26S)
DESCRIPTION:Lehrveranstaltung 100006 26S, Gruppe 0\nTitel: ABA: Work in Austria - How International Students Can Access the Austrian Labour Market\nOrt: Kleiner Hörsaal\n\nhttps://lfuonline.uibk.ac.at/public/lfuonline_lv.details?sem_id_in=26S&lvnr_id_in=100006\n
CLASS:PUBLIC
DTSTART:20260430T133000Z
DTEND:20260430T150000Z
DTSTAMP:20260423T091601Z
LOCATION:Kleiner Hörsaal
END:VEVENT
END:VCALENDAR