BEGIN:VCALENDAR
VERSION:2.0
PRODID:-//Universität Innsbruck//LFU:online//DE
METHOD:PUBLISH
BEGIN:VEVENT
UID:26S_103116_5041513@uibk.ac.at
ORGANIZER;CN="LFU:online Universität Innsbruck":MAILTO:Uni-Innsbruck-noreply@uibk.ac.at
SUMMARY:SE Handlungsfelder der Unterstützung im Bereich Bildung und pädagogischer Intervention - Geschichte, Theorien, Entwicklungen: LehrerInnen-SchülerInnen-Beziehung in der Sekundarstufe (LV 103116-0 26S)
DESCRIPTION:Lehrveranstaltung 103116 26S, Gruppe 0\nTitel: SE Handlungsfelder der Unterstützung im Bereich Bildung und pädagogischer Intervention - Geschichte, Theorien, Entwicklungen: LehrerInnen-SchülerInnen-Beziehung in der Sekundarstufe\nOrt: Seminarraum  2 (Innrain 52a) 01M010\n\nhttps://lfuonline.uibk.ac.at/public/lfuonline_lv.details?sem_id_in=26S&lvnr_id_in=103116\n
CLASS:PUBLIC
DTSTART:20260303T110000Z
DTEND:20260303T123000Z
DTSTAMP:20260423T200928Z
LOCATION:Seminarraum  2 (Innrain 52a) 01M010
END:VEVENT
BEGIN:VEVENT
UID:26S_103116_5041514@uibk.ac.at
ORGANIZER;CN="LFU:online Universität Innsbruck":MAILTO:Uni-Innsbruck-noreply@uibk.ac.at
SUMMARY:SE Handlungsfelder der Unterstützung im Bereich Bildung und pädagogischer Intervention - Geschichte, Theorien, Entwicklungen: LehrerInnen-SchülerInnen-Beziehung in der Sekundarstufe (LV 103116-0 26S)
DESCRIPTION:Lehrveranstaltung 103116 26S, Gruppe 0\nTitel: SE Handlungsfelder der Unterstützung im Bereich Bildung und pädagogischer Intervention - Geschichte, Theorien, Entwicklungen: LehrerInnen-SchülerInnen-Beziehung in der Sekundarstufe\nOrt: Seminarraum  2 (Innrain 52a) 01M010\n\nhttps://lfuonline.uibk.ac.at/public/lfuonline_lv.details?sem_id_in=26S&lvnr_id_in=103116\n
CLASS:PUBLIC
DTSTART:20260310T110000Z
DTEND:20260310T123000Z
DTSTAMP:20260423T200928Z
LOCATION:Seminarraum  2 (Innrain 52a) 01M010
END:VEVENT
BEGIN:VEVENT
UID:26S_103116_5041515@uibk.ac.at
ORGANIZER;CN="LFU:online Universität Innsbruck":MAILTO:Uni-Innsbruck-noreply@uibk.ac.at
SUMMARY:SE Handlungsfelder der Unterstützung im Bereich Bildung und pädagogischer Intervention - Geschichte, Theorien, Entwicklungen: LehrerInnen-SchülerInnen-Beziehung in der Sekundarstufe (LV 103116-0 26S)
DESCRIPTION:Lehrveranstaltung 103116 26S, Gruppe 0\nTitel: SE Handlungsfelder der Unterstützung im Bereich Bildung und pädagogischer Intervention - Geschichte, Theorien, Entwicklungen: LehrerInnen-SchülerInnen-Beziehung in der Sekundarstufe\nOrt: Seminarraum  2 (Innrain 52a) 01M010\n\nhttps://lfuonline.uibk.ac.at/public/lfuonline_lv.details?sem_id_in=26S&lvnr_id_in=103116\n
CLASS:PUBLIC
DTSTART:20260317T110000Z
DTEND:20260317T123000Z
DTSTAMP:20260423T200928Z
LOCATION:Seminarraum  2 (Innrain 52a) 01M010
END:VEVENT
BEGIN:VEVENT
UID:26S_103116_5041516@uibk.ac.at
ORGANIZER;CN="LFU:online Universität Innsbruck":MAILTO:Uni-Innsbruck-noreply@uibk.ac.at
SUMMARY:SE Handlungsfelder der Unterstützung im Bereich Bildung und pädagogischer Intervention - Geschichte, Theorien, Entwicklungen: LehrerInnen-SchülerInnen-Beziehung in der Sekundarstufe (LV 103116-0 26S)
DESCRIPTION:Lehrveranstaltung 103116 26S, Gruppe 0\nTitel: SE Handlungsfelder der Unterstützung im Bereich Bildung und pädagogischer Intervention - Geschichte, Theorien, Entwicklungen: LehrerInnen-SchülerInnen-Beziehung in der Sekundarstufe\nOrt: Seminarraum  2 (Innrain 52a) 01M010\n\nhttps://lfuonline.uibk.ac.at/public/lfuonline_lv.details?sem_id_in=26S&lvnr_id_in=103116\n
CLASS:PUBLIC
DTSTART:20260324T110000Z
DTEND:20260324T123000Z
DTSTAMP:20260423T200928Z
LOCATION:Seminarraum  2 (Innrain 52a) 01M010
END:VEVENT
BEGIN:VEVENT
UID:26S_103116_5041517@uibk.ac.at
ORGANIZER;CN="LFU:online Universität Innsbruck":MAILTO:Uni-Innsbruck-noreply@uibk.ac.at
SUMMARY:SE Handlungsfelder der Unterstützung im Bereich Bildung und pädagogischer Intervention - Geschichte, Theorien, Entwicklungen: LehrerInnen-SchülerInnen-Beziehung in der Sekundarstufe (LV 103116-0 26S)
DESCRIPTION:Lehrveranstaltung 103116 26S, Gruppe 0\nTitel: SE Handlungsfelder der Unterstützung im Bereich Bildung und pädagogischer Intervention - Geschichte, Theorien, Entwicklungen: LehrerInnen-SchülerInnen-Beziehung in der Sekundarstufe\nOrt: Seminarraum  2 (Innrain 52a) 01M010\n\nhttps://lfuonline.uibk.ac.at/public/lfuonline_lv.details?sem_id_in=26S&lvnr_id_in=103116\n
CLASS:PUBLIC
DTSTART:20260414T100000Z
DTEND:20260414T113000Z
DTSTAMP:20260423T200928Z
LOCATION:Seminarraum  2 (Innrain 52a) 01M010
END:VEVENT
BEGIN:VEVENT
UID:26S_103116_5041518@uibk.ac.at
ORGANIZER;CN="LFU:online Universität Innsbruck":MAILTO:Uni-Innsbruck-noreply@uibk.ac.at
SUMMARY:SE Handlungsfelder der Unterstützung im Bereich Bildung und pädagogischer Intervention - Geschichte, Theorien, Entwicklungen: LehrerInnen-SchülerInnen-Beziehung in der Sekundarstufe (LV 103116-0 26S)
DESCRIPTION:Lehrveranstaltung 103116 26S, Gruppe 0\nTitel: SE Handlungsfelder der Unterstützung im Bereich Bildung und pädagogischer Intervention - Geschichte, Theorien, Entwicklungen: LehrerInnen-SchülerInnen-Beziehung in der Sekundarstufe\nOrt: Seminarraum  2 (Innrain 52a) 01M010\n\nhttps://lfuonline.uibk.ac.at/public/lfuonline_lv.details?sem_id_in=26S&lvnr_id_in=103116\n
CLASS:PUBLIC
DTSTART:20260421T100000Z
DTEND:20260421T113000Z
DTSTAMP:20260423T200928Z
LOCATION:Seminarraum  2 (Innrain 52a) 01M010
END:VEVENT
BEGIN:VEVENT
UID:26S_103116_5041519@uibk.ac.at
ORGANIZER;CN="LFU:online Universität Innsbruck":MAILTO:Uni-Innsbruck-noreply@uibk.ac.at
SUMMARY:SE Handlungsfelder der Unterstützung im Bereich Bildung und pädagogischer Intervention - Geschichte, Theorien, Entwicklungen: LehrerInnen-SchülerInnen-Beziehung in der Sekundarstufe (LV 103116-0 26S)
DESCRIPTION:Lehrveranstaltung 103116 26S, Gruppe 0\nTitel: SE Handlungsfelder der Unterstützung im Bereich Bildung und pädagogischer Intervention - Geschichte, Theorien, Entwicklungen: LehrerInnen-SchülerInnen-Beziehung in der Sekundarstufe\nOrt: Seminarraum  2 (Innrain 52a) 01M010\n\nhttps://lfuonline.uibk.ac.at/public/lfuonline_lv.details?sem_id_in=26S&lvnr_id_in=103116\n
CLASS:PUBLIC
DTSTART:20260428T100000Z
DTEND:20260428T113000Z
DTSTAMP:20260423T200928Z
LOCATION:Seminarraum  2 (Innrain 52a) 01M010
END:VEVENT
BEGIN:VEVENT
UID:26S_103116_5041520@uibk.ac.at
ORGANIZER;CN="LFU:online Universität Innsbruck":MAILTO:Uni-Innsbruck-noreply@uibk.ac.at
SUMMARY:SE Handlungsfelder der Unterstützung im Bereich Bildung und pädagogischer Intervention - Geschichte, Theorien, Entwicklungen: LehrerInnen-SchülerInnen-Beziehung in der Sekundarstufe (LV 103116-0 26S)
DESCRIPTION:Lehrveranstaltung 103116 26S, Gruppe 0\nTitel: SE Handlungsfelder der Unterstützung im Bereich Bildung und pädagogischer Intervention - Geschichte, Theorien, Entwicklungen: LehrerInnen-SchülerInnen-Beziehung in der Sekundarstufe\nOrt: Seminarraum  2 (Innrain 52a) 01M010\n\nhttps://lfuonline.uibk.ac.at/public/lfuonline_lv.details?sem_id_in=26S&lvnr_id_in=103116\n
CLASS:PUBLIC
DTSTART:20260505T100000Z
DTEND:20260505T113000Z
DTSTAMP:20260423T200928Z
LOCATION:Seminarraum  2 (Innrain 52a) 01M010
END:VEVENT
BEGIN:VEVENT
UID:26S_103116_5041521@uibk.ac.at
ORGANIZER;CN="LFU:online Universität Innsbruck":MAILTO:Uni-Innsbruck-noreply@uibk.ac.at
SUMMARY:SE Handlungsfelder der Unterstützung im Bereich Bildung und pädagogischer Intervention - Geschichte, Theorien, Entwicklungen: LehrerInnen-SchülerInnen-Beziehung in der Sekundarstufe (LV 103116-0 26S)
DESCRIPTION:Lehrveranstaltung 103116 26S, Gruppe 0\nTitel: SE Handlungsfelder der Unterstützung im Bereich Bildung und pädagogischer Intervention - Geschichte, Theorien, Entwicklungen: LehrerInnen-SchülerInnen-Beziehung in der Sekundarstufe\nOrt: Seminarraum  2 (Innrain 52a) 01M010\n\nhttps://lfuonline.uibk.ac.at/public/lfuonline_lv.details?sem_id_in=26S&lvnr_id_in=103116\n
CLASS:PUBLIC
DTSTART:20260512T100000Z
DTEND:20260512T113000Z
DTSTAMP:20260423T200928Z
LOCATION:Seminarraum  2 (Innrain 52a) 01M010
END:VEVENT
BEGIN:VEVENT
UID:26S_103116_5041522@uibk.ac.at
ORGANIZER;CN="LFU:online Universität Innsbruck":MAILTO:Uni-Innsbruck-noreply@uibk.ac.at
SUMMARY:SE Handlungsfelder der Unterstützung im Bereich Bildung und pädagogischer Intervention - Geschichte, Theorien, Entwicklungen: LehrerInnen-SchülerInnen-Beziehung in der Sekundarstufe (LV 103116-0 26S)
DESCRIPTION:Lehrveranstaltung 103116 26S, Gruppe 0\nTitel: SE Handlungsfelder der Unterstützung im Bereich Bildung und pädagogischer Intervention - Geschichte, Theorien, Entwicklungen: LehrerInnen-SchülerInnen-Beziehung in der Sekundarstufe\nOrt: Seminarraum  2 (Innrain 52a) 01M010\n\nhttps://lfuonline.uibk.ac.at/public/lfuonline_lv.details?sem_id_in=26S&lvnr_id_in=103116\n
CLASS:PUBLIC
DTSTART:20260519T100000Z
DTEND:20260519T113000Z
DTSTAMP:20260423T200928Z
LOCATION:Seminarraum  2 (Innrain 52a) 01M010
END:VEVENT
BEGIN:VEVENT
UID:26S_103116_5041523@uibk.ac.at
ORGANIZER;CN="LFU:online Universität Innsbruck":MAILTO:Uni-Innsbruck-noreply@uibk.ac.at
SUMMARY:SE Handlungsfelder der Unterstützung im Bereich Bildung und pädagogischer Intervention - Geschichte, Theorien, Entwicklungen: LehrerInnen-SchülerInnen-Beziehung in der Sekundarstufe (LV 103116-0 26S)
DESCRIPTION:Lehrveranstaltung 103116 26S, Gruppe 0\nTitel: SE Handlungsfelder der Unterstützung im Bereich Bildung und pädagogischer Intervention - Geschichte, Theorien, Entwicklungen: LehrerInnen-SchülerInnen-Beziehung in der Sekundarstufe\nOrt: Seminarraum  2 (Innrain 52a) 01M010\n\nhttps://lfuonline.uibk.ac.at/public/lfuonline_lv.details?sem_id_in=26S&lvnr_id_in=103116\n
CLASS:PUBLIC
DTSTART:20260526T100000Z
DTEND:20260526T113000Z
DTSTAMP:20260423T200928Z
LOCATION:Seminarraum  2 (Innrain 52a) 01M010
END:VEVENT
BEGIN:VEVENT
UID:26S_103116_5041524@uibk.ac.at
ORGANIZER;CN="LFU:online Universität Innsbruck":MAILTO:Uni-Innsbruck-noreply@uibk.ac.at
SUMMARY:SE Handlungsfelder der Unterstützung im Bereich Bildung und pädagogischer Intervention - Geschichte, Theorien, Entwicklungen: LehrerInnen-SchülerInnen-Beziehung in der Sekundarstufe (LV 103116-0 26S)
DESCRIPTION:Lehrveranstaltung 103116 26S, Gruppe 0\nTitel: SE Handlungsfelder der Unterstützung im Bereich Bildung und pädagogischer Intervention - Geschichte, Theorien, Entwicklungen: LehrerInnen-SchülerInnen-Beziehung in der Sekundarstufe\nOrt: Seminarraum  2 (Innrain 52a) 01M010\n\nhttps://lfuonline.uibk.ac.at/public/lfuonline_lv.details?sem_id_in=26S&lvnr_id_in=103116\n
CLASS:PUBLIC
DTSTART:20260602T100000Z
DTEND:20260602T113000Z
DTSTAMP:20260423T200928Z
LOCATION:Seminarraum  2 (Innrain 52a) 01M010
END:VEVENT
BEGIN:VEVENT
UID:26S_103116_5041525@uibk.ac.at
ORGANIZER;CN="LFU:online Universität Innsbruck":MAILTO:Uni-Innsbruck-noreply@uibk.ac.at
SUMMARY:SE Handlungsfelder der Unterstützung im Bereich Bildung und pädagogischer Intervention - Geschichte, Theorien, Entwicklungen: LehrerInnen-SchülerInnen-Beziehung in der Sekundarstufe (LV 103116-0 26S)
DESCRIPTION:Lehrveranstaltung 103116 26S, Gruppe 0\nTitel: SE Handlungsfelder der Unterstützung im Bereich Bildung und pädagogischer Intervention - Geschichte, Theorien, Entwicklungen: LehrerInnen-SchülerInnen-Beziehung in der Sekundarstufe\nOrt: Seminarraum  2 (Innrain 52a) 01M010\n\nhttps://lfuonline.uibk.ac.at/public/lfuonline_lv.details?sem_id_in=26S&lvnr_id_in=103116\n
CLASS:PUBLIC
DTSTART:20260609T100000Z
DTEND:20260609T113000Z
DTSTAMP:20260423T200928Z
LOCATION:Seminarraum  2 (Innrain 52a) 01M010
END:VEVENT
BEGIN:VEVENT
UID:26S_103116_5041526@uibk.ac.at
ORGANIZER;CN="LFU:online Universität Innsbruck":MAILTO:Uni-Innsbruck-noreply@uibk.ac.at
SUMMARY:SE Handlungsfelder der Unterstützung im Bereich Bildung und pädagogischer Intervention - Geschichte, Theorien, Entwicklungen: LehrerInnen-SchülerInnen-Beziehung in der Sekundarstufe (LV 103116-0 26S)
DESCRIPTION:Lehrveranstaltung 103116 26S, Gruppe 0\nTitel: SE Handlungsfelder der Unterstützung im Bereich Bildung und pädagogischer Intervention - Geschichte, Theorien, Entwicklungen: LehrerInnen-SchülerInnen-Beziehung in der Sekundarstufe\nOrt: Seminarraum  2 (Innrain 52a) 01M010\n\nhttps://lfuonline.uibk.ac.at/public/lfuonline_lv.details?sem_id_in=26S&lvnr_id_in=103116\n
CLASS:PUBLIC
DTSTART:20260616T100000Z
DTEND:20260616T113000Z
DTSTAMP:20260423T200928Z
LOCATION:Seminarraum  2 (Innrain 52a) 01M010
END:VEVENT
BEGIN:VEVENT
UID:26S_103116_5041527@uibk.ac.at
ORGANIZER;CN="LFU:online Universität Innsbruck":MAILTO:Uni-Innsbruck-noreply@uibk.ac.at
SUMMARY:SE Handlungsfelder der Unterstützung im Bereich Bildung und pädagogischer Intervention - Geschichte, Theorien, Entwicklungen: LehrerInnen-SchülerInnen-Beziehung in der Sekundarstufe (LV 103116-0 26S)
DESCRIPTION:Lehrveranstaltung 103116 26S, Gruppe 0\nTitel: SE Handlungsfelder der Unterstützung im Bereich Bildung und pädagogischer Intervention - Geschichte, Theorien, Entwicklungen: LehrerInnen-SchülerInnen-Beziehung in der Sekundarstufe\nOrt: Seminarraum  2 (Innrain 52a) 01M010\n\nhttps://lfuonline.uibk.ac.at/public/lfuonline_lv.details?sem_id_in=26S&lvnr_id_in=103116\n
CLASS:PUBLIC
DTSTART:20260623T100000Z
DTEND:20260623T113000Z
DTSTAMP:20260423T200928Z
LOCATION:Seminarraum  2 (Innrain 52a) 01M010
END:VEVENT
END:VCALENDAR