BEGIN:VCALENDAR
VERSION:2.0
PRODID:-//Universität Innsbruck//LFU:online//DE
METHOD:PUBLISH
BEGIN:VEVENT
UID:16S_103265_2675872@uibk.ac.at
ORGANIZER;CN="LFU:online Universität Innsbruck":MAILTO:Uni-Innsbruck-noreply@uibk.ac.at
SUMMARY:Spezielle Kommunikations- und Handlungskompetenzen 1: Beratung und Coaching (LV 103265-0 16S)
DESCRIPTION:Lehrveranstaltung 103265 16S, Gruppe 0\nTitel: Spezielle Kommunikations- und Handlungskompetenzen 1: Beratung und Coaching\nOrt: HS Schöpfstrasse\n\nhttps://lfuonline.uibk.ac.at/public/lfuonline_lv.details?sem_id_in=16S&lvnr_id_in=103265\n
CLASS:PUBLIC
DTSTART:20160307T140000Z
DTEND:20160307T171500Z
DTSTAMP:20260420T051612Z
LOCATION:HS Schöpfstrasse
END:VEVENT
BEGIN:VEVENT
UID:16S_103265_2675873@uibk.ac.at
ORGANIZER;CN="LFU:online Universität Innsbruck":MAILTO:Uni-Innsbruck-noreply@uibk.ac.at
SUMMARY:Spezielle Kommunikations- und Handlungskompetenzen 1: Beratung und Coaching (LV 103265-0 16S)
DESCRIPTION:Lehrveranstaltung 103265 16S, Gruppe 0\nTitel: Spezielle Kommunikations- und Handlungskompetenzen 1: Beratung und Coaching\nOrt: HS Schöpfstrasse\n\nhttps://lfuonline.uibk.ac.at/public/lfuonline_lv.details?sem_id_in=16S&lvnr_id_in=103265\n
CLASS:PUBLIC
DTSTART:20160411T130000Z
DTEND:20160411T161500Z
DTSTAMP:20260420T051612Z
LOCATION:HS Schöpfstrasse
END:VEVENT
BEGIN:VEVENT
UID:16S_103265_2675874@uibk.ac.at
ORGANIZER;CN="LFU:online Universität Innsbruck":MAILTO:Uni-Innsbruck-noreply@uibk.ac.at
SUMMARY:Spezielle Kommunikations- und Handlungskompetenzen 1: Beratung und Coaching (LV 103265-0 16S)
DESCRIPTION:Lehrveranstaltung 103265 16S, Gruppe 0\nTitel: Spezielle Kommunikations- und Handlungskompetenzen 1: Beratung und Coaching\nOrt: HS Schöpfstrasse\n\nhttps://lfuonline.uibk.ac.at/public/lfuonline_lv.details?sem_id_in=16S&lvnr_id_in=103265\n
CLASS:PUBLIC
DTSTART:20160425T130000Z
DTEND:20160425T161500Z
DTSTAMP:20260420T051612Z
LOCATION:HS Schöpfstrasse
END:VEVENT
BEGIN:VEVENT
UID:16S_103265_2675875@uibk.ac.at
ORGANIZER;CN="LFU:online Universität Innsbruck":MAILTO:Uni-Innsbruck-noreply@uibk.ac.at
SUMMARY:Spezielle Kommunikations- und Handlungskompetenzen 1: Beratung und Coaching (LV 103265-0 16S)
DESCRIPTION:Lehrveranstaltung 103265 16S, Gruppe 0\nTitel: Spezielle Kommunikations- und Handlungskompetenzen 1: Beratung und Coaching\nOrt: HS Schöpfstrasse\n\nhttps://lfuonline.uibk.ac.at/public/lfuonline_lv.details?sem_id_in=16S&lvnr_id_in=103265\n
CLASS:PUBLIC
DTSTART:20160509T130000Z
DTEND:20160509T161500Z
DTSTAMP:20260420T051612Z
LOCATION:HS Schöpfstrasse
END:VEVENT
BEGIN:VEVENT
UID:16S_103265_2675876@uibk.ac.at
ORGANIZER;CN="LFU:online Universität Innsbruck":MAILTO:Uni-Innsbruck-noreply@uibk.ac.at
SUMMARY:Spezielle Kommunikations- und Handlungskompetenzen 1: Beratung und Coaching (LV 103265-0 16S)
DESCRIPTION:Lehrveranstaltung 103265 16S, Gruppe 0\nTitel: Spezielle Kommunikations- und Handlungskompetenzen 1: Beratung und Coaching\nOrt: HS Schöpfstrasse\n\nhttps://lfuonline.uibk.ac.at/public/lfuonline_lv.details?sem_id_in=16S&lvnr_id_in=103265\n
CLASS:PUBLIC
DTSTART:20160606T130000Z
DTEND:20160606T161500Z
DTSTAMP:20260420T051612Z
LOCATION:HS Schöpfstrasse
END:VEVENT
BEGIN:VEVENT
UID:16S_103265_2675877@uibk.ac.at
ORGANIZER;CN="LFU:online Universität Innsbruck":MAILTO:Uni-Innsbruck-noreply@uibk.ac.at
SUMMARY:Spezielle Kommunikations- und Handlungskompetenzen 1: Beratung und Coaching (LV 103265-0 16S)
DESCRIPTION:Lehrveranstaltung 103265 16S, Gruppe 0\nTitel: Spezielle Kommunikations- und Handlungskompetenzen 1: Beratung und Coaching\nOrt: HS Schöpfstrasse\n\nhttps://lfuonline.uibk.ac.at/public/lfuonline_lv.details?sem_id_in=16S&lvnr_id_in=103265\n
CLASS:PUBLIC
DTSTART:20160620T130000Z
DTEND:20160620T161500Z
DTSTAMP:20260420T051612Z
LOCATION:HS Schöpfstrasse
END:VEVENT
BEGIN:VEVENT
UID:16S_103265_2675878@uibk.ac.at
ORGANIZER;CN="LFU:online Universität Innsbruck":MAILTO:Uni-Innsbruck-noreply@uibk.ac.at
SUMMARY:Spezielle Kommunikations- und Handlungskompetenzen 1: Beratung und Coaching (LV 103265-0 16S)
DESCRIPTION:Lehrveranstaltung 103265 16S, Gruppe 0\nTitel: Spezielle Kommunikations- und Handlungskompetenzen 1: Beratung und Coaching\nOrt: HS Schöpfstrasse\n\nhttps://lfuonline.uibk.ac.at/public/lfuonline_lv.details?sem_id_in=16S&lvnr_id_in=103265\n
CLASS:PUBLIC
DTSTART:20160704T130000Z
DTEND:20160704T161500Z
DTSTAMP:20260420T051612Z
LOCATION:HS Schöpfstrasse
END:VEVENT
END:VCALENDAR