BEGIN:VCALENDAR
VERSION:2.0
PRODID:-//Universität Innsbruck//LFU:online//DE
METHOD:PUBLISH
BEGIN:VEVENT
UID:16S_103266_2689960@uibk.ac.at
ORGANIZER;CN="LFU:online Universität Innsbruck":MAILTO:Uni-Innsbruck-noreply@uibk.ac.at
SUMMARY:Spezielle Kommunikations- und Handlungskompetenzen 2 (LV 103266-0 16S)
DESCRIPTION:Lehrveranstaltung 103266 16S, Gruppe 0\nTitel: Spezielle Kommunikations- und Handlungskompetenzen 2\nOrt: ST Schöpfstraße\n\nhttps://lfuonline.uibk.ac.at/public/lfuonline_lv.details?sem_id_in=16S&lvnr_id_in=103266\n
CLASS:PUBLIC
DTSTART:20160405T143000Z
DTEND:20160405T173000Z
DTSTAMP:20260420T051612Z
LOCATION:ST Schöpfstraße
END:VEVENT
BEGIN:VEVENT
UID:16S_103266_2689961@uibk.ac.at
ORGANIZER;CN="LFU:online Universität Innsbruck":MAILTO:Uni-Innsbruck-noreply@uibk.ac.at
SUMMARY:Spezielle Kommunikations- und Handlungskompetenzen 2 (LV 103266-0 16S)
DESCRIPTION:Lehrveranstaltung 103266 16S, Gruppe 0\nTitel: Spezielle Kommunikations- und Handlungskompetenzen 2\nOrt: ST Schöpfstraße\n\nhttps://lfuonline.uibk.ac.at/public/lfuonline_lv.details?sem_id_in=16S&lvnr_id_in=103266\n
CLASS:PUBLIC
DTSTART:20160419T143000Z
DTEND:20160419T173000Z
DTSTAMP:20260420T051612Z
LOCATION:ST Schöpfstraße
END:VEVENT
BEGIN:VEVENT
UID:16S_103266_2689962@uibk.ac.at
ORGANIZER;CN="LFU:online Universität Innsbruck":MAILTO:Uni-Innsbruck-noreply@uibk.ac.at
SUMMARY:Spezielle Kommunikations- und Handlungskompetenzen 2 (LV 103266-0 16S)
DESCRIPTION:Lehrveranstaltung 103266 16S, Gruppe 0\nTitel: Spezielle Kommunikations- und Handlungskompetenzen 2\nOrt: ST Schöpfstraße\n\nhttps://lfuonline.uibk.ac.at/public/lfuonline_lv.details?sem_id_in=16S&lvnr_id_in=103266\n
CLASS:PUBLIC
DTSTART:20160524T143000Z
DTEND:20160524T173000Z
DTSTAMP:20260420T051612Z
LOCATION:ST Schöpfstraße
END:VEVENT
BEGIN:VEVENT
UID:16S_103266_2689963@uibk.ac.at
ORGANIZER;CN="LFU:online Universität Innsbruck":MAILTO:Uni-Innsbruck-noreply@uibk.ac.at
SUMMARY:Spezielle Kommunikations- und Handlungskompetenzen 2 (LV 103266-0 16S)
DESCRIPTION:Lehrveranstaltung 103266 16S, Gruppe 0\nTitel: Spezielle Kommunikations- und Handlungskompetenzen 2\nOrt: ST Schöpfstraße\n\nhttps://lfuonline.uibk.ac.at/public/lfuonline_lv.details?sem_id_in=16S&lvnr_id_in=103266\n
CLASS:PUBLIC
DTSTART:20160531T143000Z
DTEND:20160531T173000Z
DTSTAMP:20260420T051612Z
LOCATION:ST Schöpfstraße
END:VEVENT
BEGIN:VEVENT
UID:16S_103266_2689964@uibk.ac.at
ORGANIZER;CN="LFU:online Universität Innsbruck":MAILTO:Uni-Innsbruck-noreply@uibk.ac.at
SUMMARY:Spezielle Kommunikations- und Handlungskompetenzen 2 (LV 103266-0 16S)
DESCRIPTION:Lehrveranstaltung 103266 16S, Gruppe 0\nTitel: Spezielle Kommunikations- und Handlungskompetenzen 2\nOrt: ST Schöpfstraße\n\nhttps://lfuonline.uibk.ac.at/public/lfuonline_lv.details?sem_id_in=16S&lvnr_id_in=103266\n
CLASS:PUBLIC
DTSTART:20160607T143000Z
DTEND:20160607T173000Z
DTSTAMP:20260420T051612Z
LOCATION:ST Schöpfstraße
END:VEVENT
BEGIN:VEVENT
UID:16S_103266_2689965@uibk.ac.at
ORGANIZER;CN="LFU:online Universität Innsbruck":MAILTO:Uni-Innsbruck-noreply@uibk.ac.at
SUMMARY:Spezielle Kommunikations- und Handlungskompetenzen 2 (LV 103266-0 16S)
DESCRIPTION:Lehrveranstaltung 103266 16S, Gruppe 0\nTitel: Spezielle Kommunikations- und Handlungskompetenzen 2\nOrt: ST Schöpfstraße\n\nhttps://lfuonline.uibk.ac.at/public/lfuonline_lv.details?sem_id_in=16S&lvnr_id_in=103266\n
CLASS:PUBLIC
DTSTART:20160614T143000Z
DTEND:20160614T173000Z
DTSTAMP:20260420T051612Z
LOCATION:ST Schöpfstraße
END:VEVENT
BEGIN:VEVENT
UID:16S_103266_2689966@uibk.ac.at
ORGANIZER;CN="LFU:online Universität Innsbruck":MAILTO:Uni-Innsbruck-noreply@uibk.ac.at
SUMMARY:Spezielle Kommunikations- und Handlungskompetenzen 2 (LV 103266-0 16S)
DESCRIPTION:Lehrveranstaltung 103266 16S, Gruppe 0\nTitel: Spezielle Kommunikations- und Handlungskompetenzen 2\nOrt: ST Schöpfstraße\n\nhttps://lfuonline.uibk.ac.at/public/lfuonline_lv.details?sem_id_in=16S&lvnr_id_in=103266\n
CLASS:PUBLIC
DTSTART:20160621T143000Z
DTEND:20160621T173000Z
DTSTAMP:20260420T051612Z
LOCATION:ST Schöpfstraße
END:VEVENT
END:VCALENDAR