BEGIN:VCALENDAR
VERSION:2.0
PRODID:-//Universität Innsbruck//LFU:online//DE
METHOD:PUBLISH
BEGIN:VEVENT
UID:26S_115001_5017332@uibk.ac.at
ORGANIZER;CN="LFU:online Universität Innsbruck":MAILTO:Uni-Innsbruck-noreply@uibk.ac.at
SUMMARY:UE Stimmbildung (LV 115001-0 26S)
DESCRIPTION:Lehrveranstaltung 115001 26S, Gruppe 0\nTitel: UE Stimmbildung\nOrt: Kaiser-Leopold-Saal\n\nhttps://lfuonline.uibk.ac.at/public/lfuonline_lv.details?sem_id_in=26S&lvnr_id_in=115001\n
CLASS:PUBLIC
DTSTART:20260303T183000Z
DTEND:20260303T210000Z
DTSTAMP:20260423T231006Z
LOCATION:Kaiser-Leopold-Saal
END:VEVENT
BEGIN:VEVENT
UID:26S_115001_5017333@uibk.ac.at
ORGANIZER;CN="LFU:online Universität Innsbruck":MAILTO:Uni-Innsbruck-noreply@uibk.ac.at
SUMMARY:UE Stimmbildung (LV 115001-0 26S)
DESCRIPTION:Lehrveranstaltung 115001 26S, Gruppe 0\nTitel: UE Stimmbildung\nOrt: Kaiser-Leopold-Saal\n\nhttps://lfuonline.uibk.ac.at/public/lfuonline_lv.details?sem_id_in=26S&lvnr_id_in=115001\n
CLASS:PUBLIC
DTSTART:20260310T183000Z
DTEND:20260310T200000Z
DTSTAMP:20260423T231006Z
LOCATION:Kaiser-Leopold-Saal
END:VEVENT
BEGIN:VEVENT
UID:26S_115001_5017334@uibk.ac.at
ORGANIZER;CN="LFU:online Universität Innsbruck":MAILTO:Uni-Innsbruck-noreply@uibk.ac.at
SUMMARY:UE Stimmbildung (LV 115001-0 26S)
DESCRIPTION:Lehrveranstaltung 115001 26S, Gruppe 0\nTitel: UE Stimmbildung\nOrt: MS (Theologie)\n\nhttps://lfuonline.uibk.ac.at/public/lfuonline_lv.details?sem_id_in=26S&lvnr_id_in=115001\n
CLASS:PUBLIC
DTSTART:20260317T183000Z
DTEND:20260317T200000Z
DTSTAMP:20260423T231006Z
LOCATION:MS (Theologie)
END:VEVENT
BEGIN:VEVENT
UID:26S_115001_5017335@uibk.ac.at
ORGANIZER;CN="LFU:online Universität Innsbruck":MAILTO:Uni-Innsbruck-noreply@uibk.ac.at
SUMMARY:UE Stimmbildung (LV 115001-0 26S)
DESCRIPTION:Lehrveranstaltung 115001 26S, Gruppe 0\nTitel: UE Stimmbildung\nOrt: Kaiser-Leopold-Saal\n\nhttps://lfuonline.uibk.ac.at/public/lfuonline_lv.details?sem_id_in=26S&lvnr_id_in=115001\n
CLASS:PUBLIC
DTSTART:20260324T183000Z
DTEND:20260324T200000Z
DTSTAMP:20260423T231006Z
LOCATION:Kaiser-Leopold-Saal
END:VEVENT
BEGIN:VEVENT
UID:26S_115001_5017336@uibk.ac.at
ORGANIZER;CN="LFU:online Universität Innsbruck":MAILTO:Uni-Innsbruck-noreply@uibk.ac.at
SUMMARY:UE Stimmbildung (LV 115001-0 26S)
DESCRIPTION:Lehrveranstaltung 115001 26S, Gruppe 0\nTitel: UE Stimmbildung\nOrt: Kaiser-Leopold-Saal\n\nhttps://lfuonline.uibk.ac.at/public/lfuonline_lv.details?sem_id_in=26S&lvnr_id_in=115001\n
CLASS:PUBLIC
DTSTART:20260414T173000Z
DTEND:20260414T190000Z
DTSTAMP:20260423T231006Z
LOCATION:Kaiser-Leopold-Saal
END:VEVENT
BEGIN:VEVENT
UID:26S_115001_5017337@uibk.ac.at
ORGANIZER;CN="LFU:online Universität Innsbruck":MAILTO:Uni-Innsbruck-noreply@uibk.ac.at
SUMMARY:UE Stimmbildung (LV 115001-0 26S)
DESCRIPTION:Lehrveranstaltung 115001 26S, Gruppe 0\nTitel: UE Stimmbildung\nOrt: Kaiser-Leopold-Saal\n\nhttps://lfuonline.uibk.ac.at/public/lfuonline_lv.details?sem_id_in=26S&lvnr_id_in=115001\n
CLASS:PUBLIC
DTSTART:20260421T173000Z
DTEND:20260421T190000Z
DTSTAMP:20260423T231006Z
LOCATION:Kaiser-Leopold-Saal
END:VEVENT
BEGIN:VEVENT
UID:26S_115001_5017338@uibk.ac.at
ORGANIZER;CN="LFU:online Universität Innsbruck":MAILTO:Uni-Innsbruck-noreply@uibk.ac.at
SUMMARY:UE Stimmbildung (LV 115001-0 26S)
DESCRIPTION:Lehrveranstaltung 115001 26S, Gruppe 0\nTitel: UE Stimmbildung\nOrt: MS (Theologie)\n\nhttps://lfuonline.uibk.ac.at/public/lfuonline_lv.details?sem_id_in=26S&lvnr_id_in=115001\n
CLASS:PUBLIC
DTSTART:20260428T173000Z
DTEND:20260428T190000Z
DTSTAMP:20260423T231006Z
LOCATION:MS (Theologie)
END:VEVENT
BEGIN:VEVENT
UID:26S_115001_5017339@uibk.ac.at
ORGANIZER;CN="LFU:online Universität Innsbruck":MAILTO:Uni-Innsbruck-noreply@uibk.ac.at
SUMMARY:UE Stimmbildung (LV 115001-0 26S)
DESCRIPTION:Lehrveranstaltung 115001 26S, Gruppe 0\nTitel: UE Stimmbildung\nOrt: Kaiser-Leopold-Saal\n\nhttps://lfuonline.uibk.ac.at/public/lfuonline_lv.details?sem_id_in=26S&lvnr_id_in=115001\n
CLASS:PUBLIC
DTSTART:20260505T173000Z
DTEND:20260505T190000Z
DTSTAMP:20260423T231006Z
LOCATION:Kaiser-Leopold-Saal
END:VEVENT
BEGIN:VEVENT
UID:26S_115001_5017340@uibk.ac.at
ORGANIZER;CN="LFU:online Universität Innsbruck":MAILTO:Uni-Innsbruck-noreply@uibk.ac.at
SUMMARY:UE Stimmbildung (LV 115001-0 26S)
DESCRIPTION:Lehrveranstaltung 115001 26S, Gruppe 0\nTitel: UE Stimmbildung\nOrt: Kaiser-Leopold-Saal\n\nhttps://lfuonline.uibk.ac.at/public/lfuonline_lv.details?sem_id_in=26S&lvnr_id_in=115001\n
CLASS:PUBLIC
DTSTART:20260512T173000Z
DTEND:20260512T190000Z
DTSTAMP:20260423T231006Z
LOCATION:Kaiser-Leopold-Saal
END:VEVENT
BEGIN:VEVENT
UID:26S_115001_5017341@uibk.ac.at
ORGANIZER;CN="LFU:online Universität Innsbruck":MAILTO:Uni-Innsbruck-noreply@uibk.ac.at
SUMMARY:UE Stimmbildung (LV 115001-0 26S)
DESCRIPTION:Lehrveranstaltung 115001 26S, Gruppe 0\nTitel: UE Stimmbildung\nOrt: Kaiser-Leopold-Saal\n\nhttps://lfuonline.uibk.ac.at/public/lfuonline_lv.details?sem_id_in=26S&lvnr_id_in=115001\n
CLASS:PUBLIC
DTSTART:20260519T173000Z
DTEND:20260519T190000Z
DTSTAMP:20260423T231006Z
LOCATION:Kaiser-Leopold-Saal
END:VEVENT
BEGIN:VEVENT
UID:26S_115001_5017342@uibk.ac.at
ORGANIZER;CN="LFU:online Universität Innsbruck":MAILTO:Uni-Innsbruck-noreply@uibk.ac.at
SUMMARY:UE Stimmbildung (LV 115001-0 26S)
DESCRIPTION:Lehrveranstaltung 115001 26S, Gruppe 0\nTitel: UE Stimmbildung\nOrt: Kaiser-Leopold-Saal\n\nhttps://lfuonline.uibk.ac.at/public/lfuonline_lv.details?sem_id_in=26S&lvnr_id_in=115001\n
CLASS:PUBLIC
DTSTART:20260526T173000Z
DTEND:20260526T190000Z
DTSTAMP:20260423T231006Z
LOCATION:Kaiser-Leopold-Saal
END:VEVENT
BEGIN:VEVENT
UID:26S_115001_5017343@uibk.ac.at
ORGANIZER;CN="LFU:online Universität Innsbruck":MAILTO:Uni-Innsbruck-noreply@uibk.ac.at
SUMMARY:UE Stimmbildung (LV 115001-0 26S)
DESCRIPTION:Lehrveranstaltung 115001 26S, Gruppe 0\nTitel: UE Stimmbildung\nOrt: Kaiser-Leopold-Saal\n\nhttps://lfuonline.uibk.ac.at/public/lfuonline_lv.details?sem_id_in=26S&lvnr_id_in=115001\n
CLASS:PUBLIC
DTSTART:20260602T173000Z
DTEND:20260602T190000Z
DTSTAMP:20260423T231006Z
LOCATION:Kaiser-Leopold-Saal
END:VEVENT
BEGIN:VEVENT
UID:26S_115001_5017344@uibk.ac.at
ORGANIZER;CN="LFU:online Universität Innsbruck":MAILTO:Uni-Innsbruck-noreply@uibk.ac.at
SUMMARY:UE Stimmbildung (LV 115001-0 26S)
DESCRIPTION:Lehrveranstaltung 115001 26S, Gruppe 0\nTitel: UE Stimmbildung\nOrt: Kaiser-Leopold-Saal\n\nhttps://lfuonline.uibk.ac.at/public/lfuonline_lv.details?sem_id_in=26S&lvnr_id_in=115001\n
CLASS:PUBLIC
DTSTART:20260609T173000Z
DTEND:20260609T190000Z
DTSTAMP:20260423T231006Z
LOCATION:Kaiser-Leopold-Saal
END:VEVENT
BEGIN:VEVENT
UID:26S_115001_5017345@uibk.ac.at
ORGANIZER;CN="LFU:online Universität Innsbruck":MAILTO:Uni-Innsbruck-noreply@uibk.ac.at
SUMMARY:UE Stimmbildung (LV 115001-0 26S)
DESCRIPTION:Lehrveranstaltung 115001 26S, Gruppe 0\nTitel: UE Stimmbildung\nOrt: Kaiser-Leopold-Saal\n\nhttps://lfuonline.uibk.ac.at/public/lfuonline_lv.details?sem_id_in=26S&lvnr_id_in=115001\n
CLASS:PUBLIC
DTSTART:20260616T173000Z
DTEND:20260616T190000Z
DTSTAMP:20260423T231006Z
LOCATION:Kaiser-Leopold-Saal
END:VEVENT
BEGIN:VEVENT
UID:26S_115001_5017346@uibk.ac.at
ORGANIZER;CN="LFU:online Universität Innsbruck":MAILTO:Uni-Innsbruck-noreply@uibk.ac.at
SUMMARY:UE Stimmbildung (LV 115001-0 26S)
DESCRIPTION:Lehrveranstaltung 115001 26S, Gruppe 0\nTitel: UE Stimmbildung\nOrt: Kaiser-Leopold-Saal\n\nhttps://lfuonline.uibk.ac.at/public/lfuonline_lv.details?sem_id_in=26S&lvnr_id_in=115001\n
CLASS:PUBLIC
DTSTART:20260623T173000Z
DTEND:20260623T190000Z
DTSTAMP:20260423T231006Z
LOCATION:Kaiser-Leopold-Saal
END:VEVENT
END:VCALENDAR