BEGIN:VCALENDAR
VERSION:2.0
PRODID:-//Universität Innsbruck//LFU:online//DE
METHOD:PUBLISH
BEGIN:VEVENT
UID:26S_115004_5017376@uibk.ac.at
ORGANIZER;CN="LFU:online Universität Innsbruck":MAILTO:Uni-Innsbruck-noreply@uibk.ac.at
SUMMARY:UE Chorgesang (LV 115004-0 26S)
DESCRIPTION:Lehrveranstaltung 115004 26S, Gruppe 0\nTitel: UE Chorgesang\nOrt: Kaiser-Leopold-Saal\n\nhttps://lfuonline.uibk.ac.at/public/lfuonline_lv.details?sem_id_in=26S&lvnr_id_in=115004\n
CLASS:PUBLIC
DTSTART:20260304T170000Z
DTEND:20260304T210000Z
DTSTAMP:20260423T230854Z
LOCATION:Kaiser-Leopold-Saal
END:VEVENT
BEGIN:VEVENT
UID:26S_115004_5017377@uibk.ac.at
ORGANIZER;CN="LFU:online Universität Innsbruck":MAILTO:Uni-Innsbruck-noreply@uibk.ac.at
SUMMARY:UE Chorgesang (LV 115004-0 26S)
DESCRIPTION:Lehrveranstaltung 115004 26S, Gruppe 0\nTitel: UE Chorgesang\nOrt: Kaiser-Leopold-Saal\n\nhttps://lfuonline.uibk.ac.at/public/lfuonline_lv.details?sem_id_in=26S&lvnr_id_in=115004\n
CLASS:PUBLIC
DTSTART:20260311T183000Z
DTEND:20260311T203000Z
DTSTAMP:20260423T230854Z
LOCATION:Kaiser-Leopold-Saal
END:VEVENT
BEGIN:VEVENT
UID:26S_115004_5017378@uibk.ac.at
ORGANIZER;CN="LFU:online Universität Innsbruck":MAILTO:Uni-Innsbruck-noreply@uibk.ac.at
SUMMARY:UE Chorgesang (LV 115004-0 26S)
DESCRIPTION:Lehrveranstaltung 115004 26S, Gruppe 0\nTitel: UE Chorgesang\nOrt: Kaiser-Leopold-Saal\n\nhttps://lfuonline.uibk.ac.at/public/lfuonline_lv.details?sem_id_in=26S&lvnr_id_in=115004\n
CLASS:PUBLIC
DTSTART:20260318T183000Z
DTEND:20260318T203000Z
DTSTAMP:20260423T230854Z
LOCATION:Kaiser-Leopold-Saal
END:VEVENT
BEGIN:VEVENT
UID:26S_115004_5017379@uibk.ac.at
ORGANIZER;CN="LFU:online Universität Innsbruck":MAILTO:Uni-Innsbruck-noreply@uibk.ac.at
SUMMARY:UE Chorgesang (LV 115004-0 26S)
DESCRIPTION:Lehrveranstaltung 115004 26S, Gruppe 0\nTitel: UE Chorgesang\nOrt: MS (Theologie)\n\nhttps://lfuonline.uibk.ac.at/public/lfuonline_lv.details?sem_id_in=26S&lvnr_id_in=115004\n
CLASS:PUBLIC
DTSTART:20260325T183000Z
DTEND:20260325T203000Z
DTSTAMP:20260423T230854Z
LOCATION:MS (Theologie)
END:VEVENT
BEGIN:VEVENT
UID:26S_115004_5017380@uibk.ac.at
ORGANIZER;CN="LFU:online Universität Innsbruck":MAILTO:Uni-Innsbruck-noreply@uibk.ac.at
SUMMARY:UE Chorgesang (LV 115004-0 26S)
DESCRIPTION:Lehrveranstaltung 115004 26S, Gruppe 0\nTitel: UE Chorgesang\nOrt: Kaiser-Leopold-Saal\n\nhttps://lfuonline.uibk.ac.at/public/lfuonline_lv.details?sem_id_in=26S&lvnr_id_in=115004\n
CLASS:PUBLIC
DTSTART:20260415T173000Z
DTEND:20260415T193000Z
DTSTAMP:20260423T230854Z
LOCATION:Kaiser-Leopold-Saal
END:VEVENT
BEGIN:VEVENT
UID:26S_115004_5017381@uibk.ac.at
ORGANIZER;CN="LFU:online Universität Innsbruck":MAILTO:Uni-Innsbruck-noreply@uibk.ac.at
SUMMARY:UE Chorgesang (LV 115004-0 26S)
DESCRIPTION:Lehrveranstaltung 115004 26S, Gruppe 0\nTitel: UE Chorgesang\nOrt: Kaiser-Leopold-Saal\n\nhttps://lfuonline.uibk.ac.at/public/lfuonline_lv.details?sem_id_in=26S&lvnr_id_in=115004\n
CLASS:PUBLIC
DTSTART:20260422T173000Z
DTEND:20260422T193000Z
DTSTAMP:20260423T230854Z
LOCATION:Kaiser-Leopold-Saal
END:VEVENT
BEGIN:VEVENT
UID:26S_115004_5017382@uibk.ac.at
ORGANIZER;CN="LFU:online Universität Innsbruck":MAILTO:Uni-Innsbruck-noreply@uibk.ac.at
SUMMARY:UE Chorgesang (LV 115004-0 26S)
DESCRIPTION:Lehrveranstaltung 115004 26S, Gruppe 0\nTitel: UE Chorgesang\nOrt: Kaiser-Leopold-Saal\n\nhttps://lfuonline.uibk.ac.at/public/lfuonline_lv.details?sem_id_in=26S&lvnr_id_in=115004\n
CLASS:PUBLIC
DTSTART:20260429T173000Z
DTEND:20260429T193000Z
DTSTAMP:20260423T230854Z
LOCATION:Kaiser-Leopold-Saal
END:VEVENT
BEGIN:VEVENT
UID:26S_115004_5017383@uibk.ac.at
ORGANIZER;CN="LFU:online Universität Innsbruck":MAILTO:Uni-Innsbruck-noreply@uibk.ac.at
SUMMARY:UE Chorgesang (LV 115004-0 26S)
DESCRIPTION:Lehrveranstaltung 115004 26S, Gruppe 0\nTitel: UE Chorgesang\nOrt: Kaiser-Leopold-Saal\n\nhttps://lfuonline.uibk.ac.at/public/lfuonline_lv.details?sem_id_in=26S&lvnr_id_in=115004\n
CLASS:PUBLIC
DTSTART:20260506T173000Z
DTEND:20260506T193000Z
DTSTAMP:20260423T230854Z
LOCATION:Kaiser-Leopold-Saal
END:VEVENT
BEGIN:VEVENT
UID:26S_115004_5017384@uibk.ac.at
ORGANIZER;CN="LFU:online Universität Innsbruck":MAILTO:Uni-Innsbruck-noreply@uibk.ac.at
SUMMARY:UE Chorgesang (LV 115004-0 26S)
DESCRIPTION:Lehrveranstaltung 115004 26S, Gruppe 0\nTitel: UE Chorgesang\nOrt: Kaiser-Leopold-Saal\n\nhttps://lfuonline.uibk.ac.at/public/lfuonline_lv.details?sem_id_in=26S&lvnr_id_in=115004\n
CLASS:PUBLIC
DTSTART:20260513T173000Z
DTEND:20260513T193000Z
DTSTAMP:20260423T230854Z
LOCATION:Kaiser-Leopold-Saal
END:VEVENT
BEGIN:VEVENT
UID:26S_115004_5017385@uibk.ac.at
ORGANIZER;CN="LFU:online Universität Innsbruck":MAILTO:Uni-Innsbruck-noreply@uibk.ac.at
SUMMARY:UE Chorgesang (LV 115004-0 26S)
DESCRIPTION:Lehrveranstaltung 115004 26S, Gruppe 0\nTitel: UE Chorgesang\nOrt: Kaiser-Leopold-Saal\n\nhttps://lfuonline.uibk.ac.at/public/lfuonline_lv.details?sem_id_in=26S&lvnr_id_in=115004\n
CLASS:PUBLIC
DTSTART:20260520T173000Z
DTEND:20260520T193000Z
DTSTAMP:20260423T230854Z
LOCATION:Kaiser-Leopold-Saal
END:VEVENT
BEGIN:VEVENT
UID:26S_115004_5017386@uibk.ac.at
ORGANIZER;CN="LFU:online Universität Innsbruck":MAILTO:Uni-Innsbruck-noreply@uibk.ac.at
SUMMARY:UE Chorgesang (LV 115004-0 26S)
DESCRIPTION:Lehrveranstaltung 115004 26S, Gruppe 0\nTitel: UE Chorgesang\nOrt: Kaiser-Leopold-Saal\n\nhttps://lfuonline.uibk.ac.at/public/lfuonline_lv.details?sem_id_in=26S&lvnr_id_in=115004\n
CLASS:PUBLIC
DTSTART:20260527T173000Z
DTEND:20260527T193000Z
DTSTAMP:20260423T230854Z
LOCATION:Kaiser-Leopold-Saal
END:VEVENT
BEGIN:VEVENT
UID:26S_115004_5017387@uibk.ac.at
ORGANIZER;CN="LFU:online Universität Innsbruck":MAILTO:Uni-Innsbruck-noreply@uibk.ac.at
SUMMARY:UE Chorgesang (LV 115004-0 26S)
DESCRIPTION:Lehrveranstaltung 115004 26S, Gruppe 0\nTitel: UE Chorgesang\nOrt: Kaiser-Leopold-Saal\n\nhttps://lfuonline.uibk.ac.at/public/lfuonline_lv.details?sem_id_in=26S&lvnr_id_in=115004\n
CLASS:PUBLIC
DTSTART:20260603T173000Z
DTEND:20260603T193000Z
DTSTAMP:20260423T230854Z
LOCATION:Kaiser-Leopold-Saal
END:VEVENT
BEGIN:VEVENT
UID:26S_115004_5017388@uibk.ac.at
ORGANIZER;CN="LFU:online Universität Innsbruck":MAILTO:Uni-Innsbruck-noreply@uibk.ac.at
SUMMARY:UE Chorgesang (LV 115004-0 26S)
DESCRIPTION:Lehrveranstaltung 115004 26S, Gruppe 0\nTitel: UE Chorgesang\nOrt: Kaiser-Leopold-Saal\n\nhttps://lfuonline.uibk.ac.at/public/lfuonline_lv.details?sem_id_in=26S&lvnr_id_in=115004\n
CLASS:PUBLIC
DTSTART:20260610T173000Z
DTEND:20260610T193000Z
DTSTAMP:20260423T230854Z
LOCATION:Kaiser-Leopold-Saal
END:VEVENT
BEGIN:VEVENT
UID:26S_115004_5017389@uibk.ac.at
ORGANIZER;CN="LFU:online Universität Innsbruck":MAILTO:Uni-Innsbruck-noreply@uibk.ac.at
SUMMARY:UE Chorgesang (LV 115004-0 26S)
DESCRIPTION:Lehrveranstaltung 115004 26S, Gruppe 0\nTitel: UE Chorgesang\nOrt: Kaiser-Leopold-Saal\n\nhttps://lfuonline.uibk.ac.at/public/lfuonline_lv.details?sem_id_in=26S&lvnr_id_in=115004\n
CLASS:PUBLIC
DTSTART:20260617T173000Z
DTEND:20260617T193000Z
DTSTAMP:20260423T230854Z
LOCATION:Kaiser-Leopold-Saal
END:VEVENT
BEGIN:VEVENT
UID:26S_115004_5017390@uibk.ac.at
ORGANIZER;CN="LFU:online Universität Innsbruck":MAILTO:Uni-Innsbruck-noreply@uibk.ac.at
SUMMARY:UE Chorgesang (LV 115004-0 26S)
DESCRIPTION:Lehrveranstaltung 115004 26S, Gruppe 0\nTitel: UE Chorgesang\nOrt: Kaiser-Leopold-Saal\n\nhttps://lfuonline.uibk.ac.at/public/lfuonline_lv.details?sem_id_in=26S&lvnr_id_in=115004\n
CLASS:PUBLIC
DTSTART:20260624T173000Z
DTEND:20260624T193000Z
DTSTAMP:20260423T230854Z
LOCATION:Kaiser-Leopold-Saal
END:VEVENT
END:VCALENDAR