BEGIN:VCALENDAR
VERSION:2.0
PRODID:-//Universität Innsbruck//LFU:online//DE
METHOD:PUBLISH
BEGIN:VEVENT
UID:21W_124145_3887476@uibk.ac.at
ORGANIZER;CN="LFU:online Universität Innsbruck":MAILTO:Uni-Innsbruck-noreply@uibk.ac.at
SUMMARY:Französisch Aufbaustufe I (B1) (LV 124145-0 21W)
DESCRIPTION:Lehrveranstaltung 124145 21W, Gruppe 0\nTitel: Französisch Aufbaustufe I (B1)\nOrt: Online-Unterricht\n\nhttps://lfuonline.uibk.ac.at/public/lfuonline_lv.details?sem_id_in=21W&lvnr_id_in=124145\n
CLASS:PUBLIC
DTSTART:20211012T151500Z
DTEND:20211012T180000Z
DTSTAMP:20260422T191801Z
LOCATION:Online-Unterricht
END:VEVENT
BEGIN:VEVENT
UID:21W_124145_3887477@uibk.ac.at
ORGANIZER;CN="LFU:online Universität Innsbruck":MAILTO:Uni-Innsbruck-noreply@uibk.ac.at
SUMMARY:Französisch Aufbaustufe I (B1) (LV 124145-0 21W)
DESCRIPTION:Lehrveranstaltung 124145 21W, Gruppe 0\nTitel: Französisch Aufbaustufe I (B1)\nOrt: Online-Unterricht\n\nhttps://lfuonline.uibk.ac.at/public/lfuonline_lv.details?sem_id_in=21W&lvnr_id_in=124145\n
CLASS:PUBLIC
DTSTART:20211019T151500Z
DTEND:20211019T180000Z
DTSTAMP:20260422T191801Z
LOCATION:Online-Unterricht
END:VEVENT
BEGIN:VEVENT
UID:21W_124145_3887480@uibk.ac.at
ORGANIZER;CN="LFU:online Universität Innsbruck":MAILTO:Uni-Innsbruck-noreply@uibk.ac.at
SUMMARY:Französisch Aufbaustufe I (B1) (LV 124145-0 21W)
DESCRIPTION:Lehrveranstaltung 124145 21W, Gruppe 0\nTitel: Französisch Aufbaustufe I (B1)\nOrt: Online-Unterricht\n\nhttps://lfuonline.uibk.ac.at/public/lfuonline_lv.details?sem_id_in=21W&lvnr_id_in=124145\n
CLASS:PUBLIC
DTSTART:20211109T161500Z
DTEND:20211109T190000Z
DTSTAMP:20260422T191801Z
LOCATION:Online-Unterricht
END:VEVENT
BEGIN:VEVENT
UID:21W_124145_3887481@uibk.ac.at
ORGANIZER;CN="LFU:online Universität Innsbruck":MAILTO:Uni-Innsbruck-noreply@uibk.ac.at
SUMMARY:Französisch Aufbaustufe I (B1) (LV 124145-0 21W)
DESCRIPTION:Lehrveranstaltung 124145 21W, Gruppe 0\nTitel: Französisch Aufbaustufe I (B1)\nOrt: Online-Unterricht\n\nhttps://lfuonline.uibk.ac.at/public/lfuonline_lv.details?sem_id_in=21W&lvnr_id_in=124145\n
CLASS:PUBLIC
DTSTART:20211116T161500Z
DTEND:20211116T190000Z
DTSTAMP:20260422T191801Z
LOCATION:Online-Unterricht
END:VEVENT
BEGIN:VEVENT
UID:21W_124145_3887482@uibk.ac.at
ORGANIZER;CN="LFU:online Universität Innsbruck":MAILTO:Uni-Innsbruck-noreply@uibk.ac.at
SUMMARY:Französisch Aufbaustufe I (B1) (LV 124145-0 21W)
DESCRIPTION:Lehrveranstaltung 124145 21W, Gruppe 0\nTitel: Französisch Aufbaustufe I (B1)\nOrt: Online-Unterricht\n\nhttps://lfuonline.uibk.ac.at/public/lfuonline_lv.details?sem_id_in=21W&lvnr_id_in=124145\n
CLASS:PUBLIC
DTSTART:20211123T161500Z
DTEND:20211123T190000Z
DTSTAMP:20260422T191801Z
LOCATION:Online-Unterricht
END:VEVENT
BEGIN:VEVENT
UID:21W_124145_3887483@uibk.ac.at
ORGANIZER;CN="LFU:online Universität Innsbruck":MAILTO:Uni-Innsbruck-noreply@uibk.ac.at
SUMMARY:Französisch Aufbaustufe I (B1) (LV 124145-0 21W)
DESCRIPTION:Lehrveranstaltung 124145 21W, Gruppe 0\nTitel: Französisch Aufbaustufe I (B1)\nOrt: Online-Unterricht\n\nhttps://lfuonline.uibk.ac.at/public/lfuonline_lv.details?sem_id_in=21W&lvnr_id_in=124145\n
CLASS:PUBLIC
DTSTART:20211130T161500Z
DTEND:20211130T190000Z
DTSTAMP:20260422T191801Z
LOCATION:Online-Unterricht
END:VEVENT
BEGIN:VEVENT
UID:21W_124145_3937184@uibk.ac.at
ORGANIZER;CN="LFU:online Universität Innsbruck":MAILTO:Uni-Innsbruck-noreply@uibk.ac.at
SUMMARY:Französisch Aufbaustufe I (B1) (LV 124145-0 21W)
DESCRIPTION:Lehrveranstaltung 124145 21W, Gruppe 0\nTitel: Französisch Aufbaustufe I (B1)\nOrt: Online-Unterricht\n\nhttps://lfuonline.uibk.ac.at/public/lfuonline_lv.details?sem_id_in=21W&lvnr_id_in=124145\n
CLASS:PUBLIC
DTSTART:20211207T161500Z
DTEND:20211207T190000Z
DTSTAMP:20260422T191801Z
LOCATION:Online-Unterricht
END:VEVENT
BEGIN:VEVENT
UID:21W_124145_3887484@uibk.ac.at
ORGANIZER;CN="LFU:online Universität Innsbruck":MAILTO:Uni-Innsbruck-noreply@uibk.ac.at
SUMMARY:Französisch Aufbaustufe I (B1) (LV 124145-0 21W)
DESCRIPTION:Lehrveranstaltung 124145 21W, Gruppe 0\nTitel: Französisch Aufbaustufe I (B1)\nOrt: Online-Unterricht\n\nhttps://lfuonline.uibk.ac.at/public/lfuonline_lv.details?sem_id_in=21W&lvnr_id_in=124145\n
CLASS:PUBLIC
DTSTART:20211214T161500Z
DTEND:20211214T190000Z
DTSTAMP:20260422T191801Z
LOCATION:Online-Unterricht
END:VEVENT
BEGIN:VEVENT
UID:21W_124145_3887485@uibk.ac.at
ORGANIZER;CN="LFU:online Universität Innsbruck":MAILTO:Uni-Innsbruck-noreply@uibk.ac.at
SUMMARY:Französisch Aufbaustufe I (B1) (LV 124145-0 21W)
DESCRIPTION:Lehrveranstaltung 124145 21W, Gruppe 0\nTitel: Französisch Aufbaustufe I (B1)\nOrt: Online-Unterricht\n\nhttps://lfuonline.uibk.ac.at/public/lfuonline_lv.details?sem_id_in=21W&lvnr_id_in=124145\n
CLASS:PUBLIC
DTSTART:20220111T161500Z
DTEND:20220111T190000Z
DTSTAMP:20260422T191801Z
LOCATION:Online-Unterricht
END:VEVENT
BEGIN:VEVENT
UID:21W_124145_3887486@uibk.ac.at
ORGANIZER;CN="LFU:online Universität Innsbruck":MAILTO:Uni-Innsbruck-noreply@uibk.ac.at
SUMMARY:Französisch Aufbaustufe I (B1) (LV 124145-0 21W)
DESCRIPTION:Lehrveranstaltung 124145 21W, Gruppe 0\nTitel: Französisch Aufbaustufe I (B1)\nOrt: Online-Unterricht\n\nhttps://lfuonline.uibk.ac.at/public/lfuonline_lv.details?sem_id_in=21W&lvnr_id_in=124145\n
CLASS:PUBLIC
DTSTART:20220118T161500Z
DTEND:20220118T184500Z
DTSTAMP:20260422T191801Z
LOCATION:Online-Unterricht
END:VEVENT
BEGIN:VEVENT
UID:21W_124145_3887487@uibk.ac.at
ORGANIZER;CN="LFU:online Universität Innsbruck":MAILTO:Uni-Innsbruck-noreply@uibk.ac.at
SUMMARY:Französisch Aufbaustufe I (B1) (LV 124145-0 21W)
DESCRIPTION:Lehrveranstaltung 124145 21W, Gruppe 0\nTitel: Französisch Aufbaustufe I (B1)\nOrt: Online-Unterricht\n\nhttps://lfuonline.uibk.ac.at/public/lfuonline_lv.details?sem_id_in=21W&lvnr_id_in=124145\n
CLASS:PUBLIC
DTSTART:20220125T161500Z
DTEND:20220125T184500Z
DTSTAMP:20260422T191801Z
LOCATION:Online-Unterricht
END:VEVENT
BEGIN:VEVENT
UID:21W_124145_3887488@uibk.ac.at
ORGANIZER;CN="LFU:online Universität Innsbruck":MAILTO:Uni-Innsbruck-noreply@uibk.ac.at
SUMMARY:Französisch Aufbaustufe I (B1) (LV 124145-0 21W)
DESCRIPTION:Lehrveranstaltung 124145 21W, Gruppe 0\nTitel: Französisch Aufbaustufe I (B1)\nOrt: Online-Unterricht\n\nhttps://lfuonline.uibk.ac.at/public/lfuonline_lv.details?sem_id_in=21W&lvnr_id_in=124145\n
CLASS:PUBLIC
DTSTART:20220201T161500Z
DTEND:20220201T184500Z
DTSTAMP:20260422T191801Z
LOCATION:Online-Unterricht
END:VEVENT
END:VCALENDAR