BEGIN:VCALENDAR
VERSION:2.0
PRODID:-//Universität Innsbruck//LFU:online//DE
METHOD:PUBLISH
BEGIN:VEVENT
UID:22W_124241_4074565@uibk.ac.at
ORGANIZER;CN="LFU:online Universität Innsbruck":MAILTO:Uni-Innsbruck-noreply@uibk.ac.at
SUMMARY:Präsenz-Kurs: Japanisch Basisstufe I (LV 124241-0 22W)
DESCRIPTION:Lehrveranstaltung 124241 22W, Gruppe 0\nTitel: Präsenz-Kurs: Japanisch Basisstufe I\nOrt: 50105/2 SR\n\nhttps://lfuonline.uibk.ac.at/public/lfuonline_lv.details?sem_id_in=22W&lvnr_id_in=124241\n
CLASS:PUBLIC
DTSTART:20221010T151500Z
DTEND:20221010T170000Z
DTSTAMP:20260426T040338Z
LOCATION:50105/2 SR
END:VEVENT
BEGIN:VEVENT
UID:22W_124241_4074566@uibk.ac.at
ORGANIZER;CN="LFU:online Universität Innsbruck":MAILTO:Uni-Innsbruck-noreply@uibk.ac.at
SUMMARY:Präsenz-Kurs: Japanisch Basisstufe I (LV 124241-0 22W)
DESCRIPTION:Lehrveranstaltung 124241 22W, Gruppe 0\nTitel: Präsenz-Kurs: Japanisch Basisstufe I\nOrt: 50105/2 SR\n\nhttps://lfuonline.uibk.ac.at/public/lfuonline_lv.details?sem_id_in=22W&lvnr_id_in=124241\n
CLASS:PUBLIC
DTSTART:20221017T151500Z
DTEND:20221017T170000Z
DTSTAMP:20260426T040338Z
LOCATION:50105/2 SR
END:VEVENT
BEGIN:VEVENT
UID:22W_124241_4074567@uibk.ac.at
ORGANIZER;CN="LFU:online Universität Innsbruck":MAILTO:Uni-Innsbruck-noreply@uibk.ac.at
SUMMARY:Präsenz-Kurs: Japanisch Basisstufe I (LV 124241-0 22W)
DESCRIPTION:Lehrveranstaltung 124241 22W, Gruppe 0\nTitel: Präsenz-Kurs: Japanisch Basisstufe I\nOrt: 50105/2 SR\n\nhttps://lfuonline.uibk.ac.at/public/lfuonline_lv.details?sem_id_in=22W&lvnr_id_in=124241\n
CLASS:PUBLIC
DTSTART:20221024T151500Z
DTEND:20221024T170000Z
DTSTAMP:20260426T040338Z
LOCATION:50105/2 SR
END:VEVENT
BEGIN:VEVENT
UID:22W_124241_4074568@uibk.ac.at
ORGANIZER;CN="LFU:online Universität Innsbruck":MAILTO:Uni-Innsbruck-noreply@uibk.ac.at
SUMMARY:Präsenz-Kurs: Japanisch Basisstufe I (LV 124241-0 22W)
DESCRIPTION:Lehrveranstaltung 124241 22W, Gruppe 0\nTitel: Präsenz-Kurs: Japanisch Basisstufe I\nOrt: 50105/2 SR\n\nhttps://lfuonline.uibk.ac.at/public/lfuonline_lv.details?sem_id_in=22W&lvnr_id_in=124241\n
CLASS:PUBLIC
DTSTART:20221031T161500Z
DTEND:20221031T180000Z
DTSTAMP:20260426T040338Z
LOCATION:50105/2 SR
END:VEVENT
BEGIN:VEVENT
UID:22W_124241_4074569@uibk.ac.at
ORGANIZER;CN="LFU:online Universität Innsbruck":MAILTO:Uni-Innsbruck-noreply@uibk.ac.at
SUMMARY:Präsenz-Kurs: Japanisch Basisstufe I (LV 124241-0 22W)
DESCRIPTION:Lehrveranstaltung 124241 22W, Gruppe 0\nTitel: Präsenz-Kurs: Japanisch Basisstufe I\nOrt: 50105/2 SR\n\nhttps://lfuonline.uibk.ac.at/public/lfuonline_lv.details?sem_id_in=22W&lvnr_id_in=124241\n
CLASS:PUBLIC
DTSTART:20221107T161500Z
DTEND:20221107T180000Z
DTSTAMP:20260426T040338Z
LOCATION:50105/2 SR
END:VEVENT
BEGIN:VEVENT
UID:22W_124241_4074570@uibk.ac.at
ORGANIZER;CN="LFU:online Universität Innsbruck":MAILTO:Uni-Innsbruck-noreply@uibk.ac.at
SUMMARY:Präsenz-Kurs: Japanisch Basisstufe I (LV 124241-0 22W)
DESCRIPTION:Lehrveranstaltung 124241 22W, Gruppe 0\nTitel: Präsenz-Kurs: Japanisch Basisstufe I\nOrt: 50105/2 SR\n\nhttps://lfuonline.uibk.ac.at/public/lfuonline_lv.details?sem_id_in=22W&lvnr_id_in=124241\n
CLASS:PUBLIC
DTSTART:20221114T161500Z
DTEND:20221114T180000Z
DTSTAMP:20260426T040338Z
LOCATION:50105/2 SR
END:VEVENT
BEGIN:VEVENT
UID:22W_124241_4074571@uibk.ac.at
ORGANIZER;CN="LFU:online Universität Innsbruck":MAILTO:Uni-Innsbruck-noreply@uibk.ac.at
SUMMARY:Präsenz-Kurs: Japanisch Basisstufe I (LV 124241-0 22W)
DESCRIPTION:Lehrveranstaltung 124241 22W, Gruppe 0\nTitel: Präsenz-Kurs: Japanisch Basisstufe I\nOrt: 50105/2 SR\n\nhttps://lfuonline.uibk.ac.at/public/lfuonline_lv.details?sem_id_in=22W&lvnr_id_in=124241\n
CLASS:PUBLIC
DTSTART:20221121T161500Z
DTEND:20221121T174500Z
DTSTAMP:20260426T040338Z
LOCATION:50105/2 SR
END:VEVENT
BEGIN:VEVENT
UID:22W_124241_4074572@uibk.ac.at
ORGANIZER;CN="LFU:online Universität Innsbruck":MAILTO:Uni-Innsbruck-noreply@uibk.ac.at
SUMMARY:Präsenz-Kurs: Japanisch Basisstufe I (LV 124241-0 22W)
DESCRIPTION:Lehrveranstaltung 124241 22W, Gruppe 0\nTitel: Präsenz-Kurs: Japanisch Basisstufe I\nOrt: 50105/2 SR\n\nhttps://lfuonline.uibk.ac.at/public/lfuonline_lv.details?sem_id_in=22W&lvnr_id_in=124241\n
CLASS:PUBLIC
DTSTART:20221128T161500Z
DTEND:20221128T174500Z
DTSTAMP:20260426T040338Z
LOCATION:50105/2 SR
END:VEVENT
BEGIN:VEVENT
UID:22W_124241_4074573@uibk.ac.at
ORGANIZER;CN="LFU:online Universität Innsbruck":MAILTO:Uni-Innsbruck-noreply@uibk.ac.at
SUMMARY:Präsenz-Kurs: Japanisch Basisstufe I (LV 124241-0 22W)
DESCRIPTION:Lehrveranstaltung 124241 22W, Gruppe 0\nTitel: Präsenz-Kurs: Japanisch Basisstufe I\nOrt: 50105/2 SR\n\nhttps://lfuonline.uibk.ac.at/public/lfuonline_lv.details?sem_id_in=22W&lvnr_id_in=124241\n
CLASS:PUBLIC
DTSTART:20221205T161500Z
DTEND:20221205T174500Z
DTSTAMP:20260426T040338Z
LOCATION:50105/2 SR
END:VEVENT
BEGIN:VEVENT
UID:22W_124241_4074574@uibk.ac.at
ORGANIZER;CN="LFU:online Universität Innsbruck":MAILTO:Uni-Innsbruck-noreply@uibk.ac.at
SUMMARY:Präsenz-Kurs: Japanisch Basisstufe I (LV 124241-0 22W)
DESCRIPTION:Lehrveranstaltung 124241 22W, Gruppe 0\nTitel: Präsenz-Kurs: Japanisch Basisstufe I\nOrt: 50105/2 SR\n\nhttps://lfuonline.uibk.ac.at/public/lfuonline_lv.details?sem_id_in=22W&lvnr_id_in=124241\n
CLASS:PUBLIC
DTSTART:20221212T161500Z
DTEND:20221212T174500Z
DTSTAMP:20260426T040338Z
LOCATION:50105/2 SR
END:VEVENT
BEGIN:VEVENT
UID:22W_124241_4074575@uibk.ac.at
ORGANIZER;CN="LFU:online Universität Innsbruck":MAILTO:Uni-Innsbruck-noreply@uibk.ac.at
SUMMARY:Präsenz-Kurs: Japanisch Basisstufe I (LV 124241-0 22W)
DESCRIPTION:Lehrveranstaltung 124241 22W, Gruppe 0\nTitel: Präsenz-Kurs: Japanisch Basisstufe I\nOrt: 50105/2 SR\n\nhttps://lfuonline.uibk.ac.at/public/lfuonline_lv.details?sem_id_in=22W&lvnr_id_in=124241\n
CLASS:PUBLIC
DTSTART:20230109T161500Z
DTEND:20230109T174500Z
DTSTAMP:20260426T040338Z
LOCATION:50105/2 SR
END:VEVENT
BEGIN:VEVENT
UID:22W_124241_4074576@uibk.ac.at
ORGANIZER;CN="LFU:online Universität Innsbruck":MAILTO:Uni-Innsbruck-noreply@uibk.ac.at
SUMMARY:Präsenz-Kurs: Japanisch Basisstufe I (LV 124241-0 22W)
DESCRIPTION:Lehrveranstaltung 124241 22W, Gruppe 0\nTitel: Präsenz-Kurs: Japanisch Basisstufe I\nOrt: 50105/2 SR\n\nhttps://lfuonline.uibk.ac.at/public/lfuonline_lv.details?sem_id_in=22W&lvnr_id_in=124241\n
CLASS:PUBLIC
DTSTART:20230116T161500Z
DTEND:20230116T174500Z
DTSTAMP:20260426T040338Z
LOCATION:50105/2 SR
END:VEVENT
BEGIN:VEVENT
UID:22W_124241_4074577@uibk.ac.at
ORGANIZER;CN="LFU:online Universität Innsbruck":MAILTO:Uni-Innsbruck-noreply@uibk.ac.at
SUMMARY:Präsenz-Kurs: Japanisch Basisstufe I (LV 124241-0 22W)
DESCRIPTION:Lehrveranstaltung 124241 22W, Gruppe 0\nTitel: Präsenz-Kurs: Japanisch Basisstufe I\nOrt: 50105/2 SR\n\nhttps://lfuonline.uibk.ac.at/public/lfuonline_lv.details?sem_id_in=22W&lvnr_id_in=124241\n
CLASS:PUBLIC
DTSTART:20230123T161500Z
DTEND:20230123T174500Z
DTSTAMP:20260426T040338Z
LOCATION:50105/2 SR
END:VEVENT
BEGIN:VEVENT
UID:22W_124241_4074578@uibk.ac.at
ORGANIZER;CN="LFU:online Universität Innsbruck":MAILTO:Uni-Innsbruck-noreply@uibk.ac.at
SUMMARY:Präsenz-Kurs: Japanisch Basisstufe I (LV 124241-0 22W)
DESCRIPTION:Lehrveranstaltung 124241 22W, Gruppe 0\nTitel: Präsenz-Kurs: Japanisch Basisstufe I\nOrt: 50105/2 SR\n\nhttps://lfuonline.uibk.ac.at/public/lfuonline_lv.details?sem_id_in=22W&lvnr_id_in=124241\n
CLASS:PUBLIC
DTSTART:20230130T161500Z
DTEND:20230130T174500Z
DTSTAMP:20260426T040338Z
LOCATION:50105/2 SR
END:VEVENT
END:VCALENDAR