BEGIN:VCALENDAR
VERSION:2.0
PRODID:-//Universität Innsbruck//LFU:online//DE
METHOD:PUBLISH
BEGIN:VEVENT
UID:16W_124423_2724197@uibk.ac.at
ORGANIZER;CN="LFU:online Universität Innsbruck":MAILTO:Uni-Innsbruck-noreply@uibk.ac.at
SUMMARY:Türkisch Basisstufe II (LV 124423-0 16W)
DESCRIPTION:Lehrveranstaltung 124423 16W, Gruppe 0\nTitel: Türkisch Basisstufe II\nOrt: 40123\n\nhttps://lfuonline.uibk.ac.at/public/lfuonline_lv.details?sem_id_in=16W&lvnr_id_in=124423\n
CLASS:PUBLIC
DTSTART:20161013T151500Z
DTEND:20161013T164500Z
DTSTAMP:20260422T043039Z
LOCATION:40123
END:VEVENT
BEGIN:VEVENT
UID:16W_124423_2724198@uibk.ac.at
ORGANIZER;CN="LFU:online Universität Innsbruck":MAILTO:Uni-Innsbruck-noreply@uibk.ac.at
SUMMARY:Türkisch Basisstufe II (LV 124423-0 16W)
DESCRIPTION:Lehrveranstaltung 124423 16W, Gruppe 0\nTitel: Türkisch Basisstufe II\nOrt: 40123\n\nhttps://lfuonline.uibk.ac.at/public/lfuonline_lv.details?sem_id_in=16W&lvnr_id_in=124423\n
CLASS:PUBLIC
DTSTART:20161020T151500Z
DTEND:20161020T164500Z
DTSTAMP:20260422T043039Z
LOCATION:40123
END:VEVENT
BEGIN:VEVENT
UID:16W_124423_2724199@uibk.ac.at
ORGANIZER;CN="LFU:online Universität Innsbruck":MAILTO:Uni-Innsbruck-noreply@uibk.ac.at
SUMMARY:Türkisch Basisstufe II (LV 124423-0 16W)
DESCRIPTION:Lehrveranstaltung 124423 16W, Gruppe 0\nTitel: Türkisch Basisstufe II\nOrt: 40123\n\nhttps://lfuonline.uibk.ac.at/public/lfuonline_lv.details?sem_id_in=16W&lvnr_id_in=124423\n
CLASS:PUBLIC
DTSTART:20161027T151500Z
DTEND:20161027T164500Z
DTSTAMP:20260422T043039Z
LOCATION:40123
END:VEVENT
BEGIN:VEVENT
UID:16W_124423_2724200@uibk.ac.at
ORGANIZER;CN="LFU:online Universität Innsbruck":MAILTO:Uni-Innsbruck-noreply@uibk.ac.at
SUMMARY:Türkisch Basisstufe II (LV 124423-0 16W)
DESCRIPTION:Lehrveranstaltung 124423 16W, Gruppe 0\nTitel: Türkisch Basisstufe II\nOrt: 40123\n\nhttps://lfuonline.uibk.ac.at/public/lfuonline_lv.details?sem_id_in=16W&lvnr_id_in=124423\n
CLASS:PUBLIC
DTSTART:20161103T161500Z
DTEND:20161103T174500Z
DTSTAMP:20260422T043039Z
LOCATION:40123
END:VEVENT
BEGIN:VEVENT
UID:16W_124423_2724201@uibk.ac.at
ORGANIZER;CN="LFU:online Universität Innsbruck":MAILTO:Uni-Innsbruck-noreply@uibk.ac.at
SUMMARY:Türkisch Basisstufe II (LV 124423-0 16W)
DESCRIPTION:Lehrveranstaltung 124423 16W, Gruppe 0\nTitel: Türkisch Basisstufe II\nOrt: 40123\n\nhttps://lfuonline.uibk.ac.at/public/lfuonline_lv.details?sem_id_in=16W&lvnr_id_in=124423\n
CLASS:PUBLIC
DTSTART:20161110T161500Z
DTEND:20161110T174500Z
DTSTAMP:20260422T043039Z
LOCATION:40123
END:VEVENT
BEGIN:VEVENT
UID:16W_124423_2724202@uibk.ac.at
ORGANIZER;CN="LFU:online Universität Innsbruck":MAILTO:Uni-Innsbruck-noreply@uibk.ac.at
SUMMARY:Türkisch Basisstufe II (LV 124423-0 16W)
DESCRIPTION:Lehrveranstaltung 124423 16W, Gruppe 0\nTitel: Türkisch Basisstufe II\nOrt: 40123\n\nhttps://lfuonline.uibk.ac.at/public/lfuonline_lv.details?sem_id_in=16W&lvnr_id_in=124423\n
CLASS:PUBLIC
DTSTART:20161117T161500Z
DTEND:20161117T174500Z
DTSTAMP:20260422T043039Z
LOCATION:40123
END:VEVENT
BEGIN:VEVENT
UID:16W_124423_2724203@uibk.ac.at
ORGANIZER;CN="LFU:online Universität Innsbruck":MAILTO:Uni-Innsbruck-noreply@uibk.ac.at
SUMMARY:Türkisch Basisstufe II (LV 124423-0 16W)
DESCRIPTION:Lehrveranstaltung 124423 16W, Gruppe 0\nTitel: Türkisch Basisstufe II\nOrt: 40123\n\nhttps://lfuonline.uibk.ac.at/public/lfuonline_lv.details?sem_id_in=16W&lvnr_id_in=124423\n
CLASS:PUBLIC
DTSTART:20161124T161500Z
DTEND:20161124T174500Z
DTSTAMP:20260422T043039Z
LOCATION:40123
END:VEVENT
BEGIN:VEVENT
UID:16W_124423_2843434@uibk.ac.at
ORGANIZER;CN="LFU:online Universität Innsbruck":MAILTO:Uni-Innsbruck-noreply@uibk.ac.at
SUMMARY:Türkisch Basisstufe II (LV 124423-0 16W)
DESCRIPTION:Lehrveranstaltung 124423 16W, Gruppe 0\nTitel: Türkisch Basisstufe II\nOrt: 40123\n\nhttps://lfuonline.uibk.ac.at/public/lfuonline_lv.details?sem_id_in=16W&lvnr_id_in=124423\n
CLASS:PUBLIC
DTSTART:20161130T180000Z
DTEND:20161130T193000Z
DTSTAMP:20260422T043039Z
LOCATION:40123
END:VEVENT
BEGIN:VEVENT
UID:16W_124423_2724204@uibk.ac.at
ORGANIZER;CN="LFU:online Universität Innsbruck":MAILTO:Uni-Innsbruck-noreply@uibk.ac.at
SUMMARY:Türkisch Basisstufe II (LV 124423-0 16W)
DESCRIPTION:Lehrveranstaltung 124423 16W, Gruppe 0\nTitel: Türkisch Basisstufe II\nOrt: 40123\n\nhttps://lfuonline.uibk.ac.at/public/lfuonline_lv.details?sem_id_in=16W&lvnr_id_in=124423\n
CLASS:PUBLIC
DTSTART:20161201T161500Z
DTEND:20161201T174500Z
DTSTAMP:20260422T043039Z
LOCATION:40123
END:VEVENT
BEGIN:VEVENT
UID:16W_124423_2724205@uibk.ac.at
ORGANIZER;CN="LFU:online Universität Innsbruck":MAILTO:Uni-Innsbruck-noreply@uibk.ac.at
SUMMARY:Türkisch Basisstufe II (LV 124423-0 16W)
DESCRIPTION:Lehrveranstaltung 124423 16W, Gruppe 0\nTitel: Türkisch Basisstufe II\nOrt: 40123\n\nhttps://lfuonline.uibk.ac.at/public/lfuonline_lv.details?sem_id_in=16W&lvnr_id_in=124423\n
CLASS:PUBLIC
DTSTART:20161215T161500Z
DTEND:20161215T174500Z
DTSTAMP:20260422T043039Z
LOCATION:40123
END:VEVENT
BEGIN:VEVENT
UID:16W_124423_2724206@uibk.ac.at
ORGANIZER;CN="LFU:online Universität Innsbruck":MAILTO:Uni-Innsbruck-noreply@uibk.ac.at
SUMMARY:Türkisch Basisstufe II (LV 124423-0 16W)
DESCRIPTION:Lehrveranstaltung 124423 16W, Gruppe 0\nTitel: Türkisch Basisstufe II\nOrt: 40123\n\nhttps://lfuonline.uibk.ac.at/public/lfuonline_lv.details?sem_id_in=16W&lvnr_id_in=124423\n
CLASS:PUBLIC
DTSTART:20170112T161500Z
DTEND:20170112T174500Z
DTSTAMP:20260422T043039Z
LOCATION:40123
END:VEVENT
BEGIN:VEVENT
UID:16W_124423_2724207@uibk.ac.at
ORGANIZER;CN="LFU:online Universität Innsbruck":MAILTO:Uni-Innsbruck-noreply@uibk.ac.at
SUMMARY:Türkisch Basisstufe II (LV 124423-0 16W)
DESCRIPTION:Lehrveranstaltung 124423 16W, Gruppe 0\nTitel: Türkisch Basisstufe II\nOrt: 40123\n\nhttps://lfuonline.uibk.ac.at/public/lfuonline_lv.details?sem_id_in=16W&lvnr_id_in=124423\n
CLASS:PUBLIC
DTSTART:20170119T161500Z
DTEND:20170119T174500Z
DTSTAMP:20260422T043039Z
LOCATION:40123
END:VEVENT
BEGIN:VEVENT
UID:16W_124423_2724208@uibk.ac.at
ORGANIZER;CN="LFU:online Universität Innsbruck":MAILTO:Uni-Innsbruck-noreply@uibk.ac.at
SUMMARY:Türkisch Basisstufe II (LV 124423-0 16W)
DESCRIPTION:Lehrveranstaltung 124423 16W, Gruppe 0\nTitel: Türkisch Basisstufe II\nOrt: 40123\n\nhttps://lfuonline.uibk.ac.at/public/lfuonline_lv.details?sem_id_in=16W&lvnr_id_in=124423\n
CLASS:PUBLIC
DTSTART:20170126T161500Z
DTEND:20170126T174500Z
DTSTAMP:20260422T043039Z
LOCATION:40123
END:VEVENT
BEGIN:VEVENT
UID:16W_124423_2724209@uibk.ac.at
ORGANIZER;CN="LFU:online Universität Innsbruck":MAILTO:Uni-Innsbruck-noreply@uibk.ac.at
SUMMARY:Türkisch Basisstufe II (LV 124423-0 16W)
DESCRIPTION:Lehrveranstaltung 124423 16W, Gruppe 0\nTitel: Türkisch Basisstufe II\nOrt: 40123\n\nhttps://lfuonline.uibk.ac.at/public/lfuonline_lv.details?sem_id_in=16W&lvnr_id_in=124423\n
CLASS:PUBLIC
DTSTART:20170202T161500Z
DTEND:20170202T174500Z
DTSTAMP:20260422T043039Z
LOCATION:40123
END:VEVENT
END:VCALENDAR