BEGIN:VCALENDAR
VERSION:2.0
PRODID:-//Universität Innsbruck//LFU:online//DE
METHOD:PUBLISH
BEGIN:VEVENT
UID:19S_146469_3284184@uibk.ac.at
ORGANIZER;CN="LFU:online Universität Innsbruck":MAILTO:Uni-Innsbruck-noreply@uibk.ac.at
SUMMARY:VO Genderlecture (LV 146469-0 19S)
DESCRIPTION:Lehrveranstaltung 146469 19S, Gruppe 0\nTitel: VO Genderlecture\nOrt: UR 1 (Landeck)\n\nhttps://lfuonline.uibk.ac.at/public/lfuonline_lv.details?sem_id_in=19S&lvnr_id_in=146469\n
CLASS:PUBLIC
DTSTART:20190320T133000Z
DTEND:20190320T150000Z
DTSTAMP:20260423T031258Z
LOCATION:UR 1 (Landeck)
END:VEVENT
BEGIN:VEVENT
UID:19S_146469_3284204@uibk.ac.at
ORGANIZER;CN="LFU:online Universität Innsbruck":MAILTO:Uni-Innsbruck-noreply@uibk.ac.at
SUMMARY:VO Genderlecture (LV 146469-0 19S)
DESCRIPTION:Lehrveranstaltung 146469 19S, Gruppe 0\nTitel: VO Genderlecture\nOrt: UR 1 (Landeck)\n\nhttps://lfuonline.uibk.ac.at/public/lfuonline_lv.details?sem_id_in=19S&lvnr_id_in=146469\n
CLASS:PUBLIC
DTSTART:20190320T151500Z
DTEND:20190320T164500Z
DTSTAMP:20260423T031258Z
LOCATION:UR 1 (Landeck)
END:VEVENT
BEGIN:VEVENT
UID:19S_146469_3284198@uibk.ac.at
ORGANIZER;CN="LFU:online Universität Innsbruck":MAILTO:Uni-Innsbruck-noreply@uibk.ac.at
SUMMARY:VO Genderlecture (LV 146469-0 19S)
DESCRIPTION:Lehrveranstaltung 146469 19S, Gruppe 0\nTitel: VO Genderlecture\nOrt: UR 1 (Landeck)\n\nhttps://lfuonline.uibk.ac.at/public/lfuonline_lv.details?sem_id_in=19S&lvnr_id_in=146469\n
CLASS:PUBLIC
DTSTART:20190410T123000Z
DTEND:20190410T140000Z
DTSTAMP:20260423T031258Z
LOCATION:UR 1 (Landeck)
END:VEVENT
BEGIN:VEVENT
UID:19S_146469_3284203@uibk.ac.at
ORGANIZER;CN="LFU:online Universität Innsbruck":MAILTO:Uni-Innsbruck-noreply@uibk.ac.at
SUMMARY:VO Genderlecture (LV 146469-0 19S)
DESCRIPTION:Lehrveranstaltung 146469 19S, Gruppe 0\nTitel: VO Genderlecture\nOrt: UR 1 (Landeck)\n\nhttps://lfuonline.uibk.ac.at/public/lfuonline_lv.details?sem_id_in=19S&lvnr_id_in=146469\n
CLASS:PUBLIC
DTSTART:20190410T141500Z
DTEND:20190410T154500Z
DTSTAMP:20260423T031258Z
LOCATION:UR 1 (Landeck)
END:VEVENT
BEGIN:VEVENT
UID:19S_146469_3284199@uibk.ac.at
ORGANIZER;CN="LFU:online Universität Innsbruck":MAILTO:Uni-Innsbruck-noreply@uibk.ac.at
SUMMARY:VO Genderlecture (LV 146469-0 19S)
DESCRIPTION:Lehrveranstaltung 146469 19S, Gruppe 0\nTitel: VO Genderlecture\nOrt: UR 1 (Landeck)\n\nhttps://lfuonline.uibk.ac.at/public/lfuonline_lv.details?sem_id_in=19S&lvnr_id_in=146469\n
CLASS:PUBLIC
DTSTART:20190515T123000Z
DTEND:20190515T140000Z
DTSTAMP:20260423T031258Z
LOCATION:UR 1 (Landeck)
END:VEVENT
BEGIN:VEVENT
UID:19S_146469_3284202@uibk.ac.at
ORGANIZER;CN="LFU:online Universität Innsbruck":MAILTO:Uni-Innsbruck-noreply@uibk.ac.at
SUMMARY:VO Genderlecture (LV 146469-0 19S)
DESCRIPTION:Lehrveranstaltung 146469 19S, Gruppe 0\nTitel: VO Genderlecture\nOrt: UR 1 (Landeck)\n\nhttps://lfuonline.uibk.ac.at/public/lfuonline_lv.details?sem_id_in=19S&lvnr_id_in=146469\n
CLASS:PUBLIC
DTSTART:20190515T141500Z
DTEND:20190515T154500Z
DTSTAMP:20260423T031258Z
LOCATION:UR 1 (Landeck)
END:VEVENT
BEGIN:VEVENT
UID:19S_146469_3284200@uibk.ac.at
ORGANIZER;CN="LFU:online Universität Innsbruck":MAILTO:Uni-Innsbruck-noreply@uibk.ac.at
SUMMARY:VO Genderlecture (LV 146469-0 19S)
DESCRIPTION:Lehrveranstaltung 146469 19S, Gruppe 0\nTitel: VO Genderlecture\nOrt: UR 1 (Landeck)\n\nhttps://lfuonline.uibk.ac.at/public/lfuonline_lv.details?sem_id_in=19S&lvnr_id_in=146469\n
CLASS:PUBLIC
DTSTART:20190522T123000Z
DTEND:20190522T140000Z
DTSTAMP:20260423T031258Z
LOCATION:UR 1 (Landeck)
END:VEVENT
BEGIN:VEVENT
UID:19S_146469_3284201@uibk.ac.at
ORGANIZER;CN="LFU:online Universität Innsbruck":MAILTO:Uni-Innsbruck-noreply@uibk.ac.at
SUMMARY:VO Genderlecture (LV 146469-0 19S)
DESCRIPTION:Lehrveranstaltung 146469 19S, Gruppe 0\nTitel: VO Genderlecture\nOrt: UR 1 (Landeck)\n\nhttps://lfuonline.uibk.ac.at/public/lfuonline_lv.details?sem_id_in=19S&lvnr_id_in=146469\n
CLASS:PUBLIC
DTSTART:20190522T141500Z
DTEND:20190522T154500Z
DTSTAMP:20260423T031258Z
LOCATION:UR 1 (Landeck)
END:VEVENT
END:VCALENDAR