BEGIN:VCALENDAR
VERSION:2.0
PRODID:-//Universität Innsbruck//LFU:online//DE
METHOD:PUBLISH
BEGIN:VEVENT
UID:19S_146659_3339860@uibk.ac.at
ORGANIZER;CN="LFU:online Universität Innsbruck":MAILTO:Uni-Innsbruck-noreply@uibk.ac.at
SUMMARY:FA 1010 - Art Appreciation (LV 146659-0 19S)
DESCRIPTION:Lehrveranstaltung 146659 19S, Gruppe 0\nTitel: FA 1010 - Art Appreciation\nOrt: 40123\n\nhttps://lfuonline.uibk.ac.at/public/lfuonline_lv.details?sem_id_in=19S&lvnr_id_in=146659\n
CLASS:PUBLIC
DTSTART:20190701T060000Z
DTEND:20190701T073000Z
DTSTAMP:20260421T003755Z
LOCATION:40123
END:VEVENT
BEGIN:VEVENT
UID:19S_146659_3339861@uibk.ac.at
ORGANIZER;CN="LFU:online Universität Innsbruck":MAILTO:Uni-Innsbruck-noreply@uibk.ac.at
SUMMARY:FA 1010 - Art Appreciation (LV 146659-0 19S)
DESCRIPTION:Lehrveranstaltung 146659 19S, Gruppe 0\nTitel: FA 1010 - Art Appreciation\nOrt: 40123\n\nhttps://lfuonline.uibk.ac.at/public/lfuonline_lv.details?sem_id_in=19S&lvnr_id_in=146659\n
CLASS:PUBLIC
DTSTART:20190702T060000Z
DTEND:20190702T073000Z
DTSTAMP:20260421T003755Z
LOCATION:40123
END:VEVENT
BEGIN:VEVENT
UID:19S_146659_3339862@uibk.ac.at
ORGANIZER;CN="LFU:online Universität Innsbruck":MAILTO:Uni-Innsbruck-noreply@uibk.ac.at
SUMMARY:FA 1010 - Art Appreciation (LV 146659-0 19S)
DESCRIPTION:Lehrveranstaltung 146659 19S, Gruppe 0\nTitel: FA 1010 - Art Appreciation\nOrt: 40123\n\nhttps://lfuonline.uibk.ac.at/public/lfuonline_lv.details?sem_id_in=19S&lvnr_id_in=146659\n
CLASS:PUBLIC
DTSTART:20190703T060000Z
DTEND:20190703T073000Z
DTSTAMP:20260421T003755Z
LOCATION:40123
END:VEVENT
BEGIN:VEVENT
UID:19S_146659_3339863@uibk.ac.at
ORGANIZER;CN="LFU:online Universität Innsbruck":MAILTO:Uni-Innsbruck-noreply@uibk.ac.at
SUMMARY:FA 1010 - Art Appreciation (LV 146659-0 19S)
DESCRIPTION:Lehrveranstaltung 146659 19S, Gruppe 0\nTitel: FA 1010 - Art Appreciation\nOrt: 40123\n\nhttps://lfuonline.uibk.ac.at/public/lfuonline_lv.details?sem_id_in=19S&lvnr_id_in=146659\n
CLASS:PUBLIC
DTSTART:20190704T060000Z
DTEND:20190704T073000Z
DTSTAMP:20260421T003755Z
LOCATION:40123
END:VEVENT
BEGIN:VEVENT
UID:19S_146659_3339884@uibk.ac.at
ORGANIZER;CN="LFU:online Universität Innsbruck":MAILTO:Uni-Innsbruck-noreply@uibk.ac.at
SUMMARY:FA 1010 - Art Appreciation (LV 146659-0 19S)
DESCRIPTION:Lehrveranstaltung 146659 19S, Gruppe 0\nTitel: FA 1010 - Art Appreciation\nOrt: 40123\n\nhttps://lfuonline.uibk.ac.at/public/lfuonline_lv.details?sem_id_in=19S&lvnr_id_in=146659\n
CLASS:PUBLIC
DTSTART:20190705T060000Z
DTEND:20190705T073000Z
DTSTAMP:20260421T003755Z
LOCATION:40123
END:VEVENT
BEGIN:VEVENT
UID:19S_146659_3339864@uibk.ac.at
ORGANIZER;CN="LFU:online Universität Innsbruck":MAILTO:Uni-Innsbruck-noreply@uibk.ac.at
SUMMARY:FA 1010 - Art Appreciation (LV 146659-0 19S)
DESCRIPTION:Lehrveranstaltung 146659 19S, Gruppe 0\nTitel: FA 1010 - Art Appreciation\nOrt: 40123\n\nhttps://lfuonline.uibk.ac.at/public/lfuonline_lv.details?sem_id_in=19S&lvnr_id_in=146659\n
CLASS:PUBLIC
DTSTART:20190708T060000Z
DTEND:20190708T073000Z
DTSTAMP:20260421T003755Z
LOCATION:40123
END:VEVENT
BEGIN:VEVENT
UID:19S_146659_3339865@uibk.ac.at
ORGANIZER;CN="LFU:online Universität Innsbruck":MAILTO:Uni-Innsbruck-noreply@uibk.ac.at
SUMMARY:FA 1010 - Art Appreciation (LV 146659-0 19S)
DESCRIPTION:Lehrveranstaltung 146659 19S, Gruppe 0\nTitel: FA 1010 - Art Appreciation\nOrt: 40123\n\nhttps://lfuonline.uibk.ac.at/public/lfuonline_lv.details?sem_id_in=19S&lvnr_id_in=146659\n
CLASS:PUBLIC
DTSTART:20190709T060000Z
DTEND:20190709T073000Z
DTSTAMP:20260421T003755Z
LOCATION:40123
END:VEVENT
BEGIN:VEVENT
UID:19S_146659_3339866@uibk.ac.at
ORGANIZER;CN="LFU:online Universität Innsbruck":MAILTO:Uni-Innsbruck-noreply@uibk.ac.at
SUMMARY:FA 1010 - Art Appreciation (LV 146659-0 19S)
DESCRIPTION:Lehrveranstaltung 146659 19S, Gruppe 0\nTitel: FA 1010 - Art Appreciation\nOrt: 40123\n\nhttps://lfuonline.uibk.ac.at/public/lfuonline_lv.details?sem_id_in=19S&lvnr_id_in=146659\n
CLASS:PUBLIC
DTSTART:20190710T060000Z
DTEND:20190710T073000Z
DTSTAMP:20260421T003755Z
LOCATION:40123
END:VEVENT
BEGIN:VEVENT
UID:19S_146659_3339867@uibk.ac.at
ORGANIZER;CN="LFU:online Universität Innsbruck":MAILTO:Uni-Innsbruck-noreply@uibk.ac.at
SUMMARY:FA 1010 - Art Appreciation (LV 146659-0 19S)
DESCRIPTION:Lehrveranstaltung 146659 19S, Gruppe 0\nTitel: FA 1010 - Art Appreciation\nOrt: 40123\n\nhttps://lfuonline.uibk.ac.at/public/lfuonline_lv.details?sem_id_in=19S&lvnr_id_in=146659\n
CLASS:PUBLIC
DTSTART:20190711T060000Z
DTEND:20190711T073000Z
DTSTAMP:20260421T003755Z
LOCATION:40123
END:VEVENT
BEGIN:VEVENT
UID:19S_146659_3339868@uibk.ac.at
ORGANIZER;CN="LFU:online Universität Innsbruck":MAILTO:Uni-Innsbruck-noreply@uibk.ac.at
SUMMARY:FA 1010 - Art Appreciation (LV 146659-0 19S)
DESCRIPTION:Lehrveranstaltung 146659 19S, Gruppe 0\nTitel: FA 1010 - Art Appreciation\nOrt: 40123\n\nhttps://lfuonline.uibk.ac.at/public/lfuonline_lv.details?sem_id_in=19S&lvnr_id_in=146659\n
CLASS:PUBLIC
DTSTART:20190715T060000Z
DTEND:20190715T073000Z
DTSTAMP:20260421T003755Z
LOCATION:40123
END:VEVENT
BEGIN:VEVENT
UID:19S_146659_3339869@uibk.ac.at
ORGANIZER;CN="LFU:online Universität Innsbruck":MAILTO:Uni-Innsbruck-noreply@uibk.ac.at
SUMMARY:FA 1010 - Art Appreciation (LV 146659-0 19S)
DESCRIPTION:Lehrveranstaltung 146659 19S, Gruppe 0\nTitel: FA 1010 - Art Appreciation\nOrt: 40123\n\nhttps://lfuonline.uibk.ac.at/public/lfuonline_lv.details?sem_id_in=19S&lvnr_id_in=146659\n
CLASS:PUBLIC
DTSTART:20190716T060000Z
DTEND:20190716T073000Z
DTSTAMP:20260421T003755Z
LOCATION:40123
END:VEVENT
BEGIN:VEVENT
UID:19S_146659_3339870@uibk.ac.at
ORGANIZER;CN="LFU:online Universität Innsbruck":MAILTO:Uni-Innsbruck-noreply@uibk.ac.at
SUMMARY:FA 1010 - Art Appreciation (LV 146659-0 19S)
DESCRIPTION:Lehrveranstaltung 146659 19S, Gruppe 0\nTitel: FA 1010 - Art Appreciation\nOrt: 40123\n\nhttps://lfuonline.uibk.ac.at/public/lfuonline_lv.details?sem_id_in=19S&lvnr_id_in=146659\n
CLASS:PUBLIC
DTSTART:20190717T060000Z
DTEND:20190717T073000Z
DTSTAMP:20260421T003755Z
LOCATION:40123
END:VEVENT
BEGIN:VEVENT
UID:19S_146659_3339871@uibk.ac.at
ORGANIZER;CN="LFU:online Universität Innsbruck":MAILTO:Uni-Innsbruck-noreply@uibk.ac.at
SUMMARY:FA 1010 - Art Appreciation (LV 146659-0 19S)
DESCRIPTION:Lehrveranstaltung 146659 19S, Gruppe 0\nTitel: FA 1010 - Art Appreciation\nOrt: 40123\n\nhttps://lfuonline.uibk.ac.at/public/lfuonline_lv.details?sem_id_in=19S&lvnr_id_in=146659\n
CLASS:PUBLIC
DTSTART:20190718T060000Z
DTEND:20190718T073000Z
DTSTAMP:20260421T003755Z
LOCATION:40123
END:VEVENT
BEGIN:VEVENT
UID:19S_146659_3339872@uibk.ac.at
ORGANIZER;CN="LFU:online Universität Innsbruck":MAILTO:Uni-Innsbruck-noreply@uibk.ac.at
SUMMARY:FA 1010 - Art Appreciation (LV 146659-0 19S)
DESCRIPTION:Lehrveranstaltung 146659 19S, Gruppe 0\nTitel: FA 1010 - Art Appreciation\nOrt: 40123\n\nhttps://lfuonline.uibk.ac.at/public/lfuonline_lv.details?sem_id_in=19S&lvnr_id_in=146659\n
CLASS:PUBLIC
DTSTART:20190722T060000Z
DTEND:20190722T073000Z
DTSTAMP:20260421T003755Z
LOCATION:40123
END:VEVENT
BEGIN:VEVENT
UID:19S_146659_3339873@uibk.ac.at
ORGANIZER;CN="LFU:online Universität Innsbruck":MAILTO:Uni-Innsbruck-noreply@uibk.ac.at
SUMMARY:FA 1010 - Art Appreciation (LV 146659-0 19S)
DESCRIPTION:Lehrveranstaltung 146659 19S, Gruppe 0\nTitel: FA 1010 - Art Appreciation\nOrt: 40123\n\nhttps://lfuonline.uibk.ac.at/public/lfuonline_lv.details?sem_id_in=19S&lvnr_id_in=146659\n
CLASS:PUBLIC
DTSTART:20190723T060000Z
DTEND:20190723T073000Z
DTSTAMP:20260421T003755Z
LOCATION:40123
END:VEVENT
BEGIN:VEVENT
UID:19S_146659_3339874@uibk.ac.at
ORGANIZER;CN="LFU:online Universität Innsbruck":MAILTO:Uni-Innsbruck-noreply@uibk.ac.at
SUMMARY:FA 1010 - Art Appreciation (LV 146659-0 19S)
DESCRIPTION:Lehrveranstaltung 146659 19S, Gruppe 0\nTitel: FA 1010 - Art Appreciation\nOrt: 40123\n\nhttps://lfuonline.uibk.ac.at/public/lfuonline_lv.details?sem_id_in=19S&lvnr_id_in=146659\n
CLASS:PUBLIC
DTSTART:20190724T060000Z
DTEND:20190724T073000Z
DTSTAMP:20260421T003755Z
LOCATION:40123
END:VEVENT
BEGIN:VEVENT
UID:19S_146659_3339875@uibk.ac.at
ORGANIZER;CN="LFU:online Universität Innsbruck":MAILTO:Uni-Innsbruck-noreply@uibk.ac.at
SUMMARY:FA 1010 - Art Appreciation (LV 146659-0 19S)
DESCRIPTION:Lehrveranstaltung 146659 19S, Gruppe 0\nTitel: FA 1010 - Art Appreciation\nOrt: 40123\n\nhttps://lfuonline.uibk.ac.at/public/lfuonline_lv.details?sem_id_in=19S&lvnr_id_in=146659\n
CLASS:PUBLIC
DTSTART:20190725T060000Z
DTEND:20190725T073000Z
DTSTAMP:20260421T003755Z
LOCATION:40123
END:VEVENT
BEGIN:VEVENT
UID:19S_146659_3339876@uibk.ac.at
ORGANIZER;CN="LFU:online Universität Innsbruck":MAILTO:Uni-Innsbruck-noreply@uibk.ac.at
SUMMARY:FA 1010 - Art Appreciation (LV 146659-0 19S)
DESCRIPTION:Lehrveranstaltung 146659 19S, Gruppe 0\nTitel: FA 1010 - Art Appreciation\nOrt: 40123\n\nhttps://lfuonline.uibk.ac.at/public/lfuonline_lv.details?sem_id_in=19S&lvnr_id_in=146659\n
CLASS:PUBLIC
DTSTART:20190729T060000Z
DTEND:20190729T073000Z
DTSTAMP:20260421T003755Z
LOCATION:40123
END:VEVENT
BEGIN:VEVENT
UID:19S_146659_3339877@uibk.ac.at
ORGANIZER;CN="LFU:online Universität Innsbruck":MAILTO:Uni-Innsbruck-noreply@uibk.ac.at
SUMMARY:FA 1010 - Art Appreciation (LV 146659-0 19S)
DESCRIPTION:Lehrveranstaltung 146659 19S, Gruppe 0\nTitel: FA 1010 - Art Appreciation\nOrt: 40123\n\nhttps://lfuonline.uibk.ac.at/public/lfuonline_lv.details?sem_id_in=19S&lvnr_id_in=146659\n
CLASS:PUBLIC
DTSTART:20190730T060000Z
DTEND:20190730T073000Z
DTSTAMP:20260421T003755Z
LOCATION:40123
END:VEVENT
BEGIN:VEVENT
UID:19S_146659_3339878@uibk.ac.at
ORGANIZER;CN="LFU:online Universität Innsbruck":MAILTO:Uni-Innsbruck-noreply@uibk.ac.at
SUMMARY:FA 1010 - Art Appreciation (LV 146659-0 19S)
DESCRIPTION:Lehrveranstaltung 146659 19S, Gruppe 0\nTitel: FA 1010 - Art Appreciation\nOrt: 40123\n\nhttps://lfuonline.uibk.ac.at/public/lfuonline_lv.details?sem_id_in=19S&lvnr_id_in=146659\n
CLASS:PUBLIC
DTSTART:20190731T060000Z
DTEND:20190731T073000Z
DTSTAMP:20260421T003755Z
LOCATION:40123
END:VEVENT
BEGIN:VEVENT
UID:19S_146659_3339879@uibk.ac.at
ORGANIZER;CN="LFU:online Universität Innsbruck":MAILTO:Uni-Innsbruck-noreply@uibk.ac.at
SUMMARY:FA 1010 - Art Appreciation (LV 146659-0 19S)
DESCRIPTION:Lehrveranstaltung 146659 19S, Gruppe 0\nTitel: FA 1010 - Art Appreciation\nOrt: 40123\n\nhttps://lfuonline.uibk.ac.at/public/lfuonline_lv.details?sem_id_in=19S&lvnr_id_in=146659\n
CLASS:PUBLIC
DTSTART:20190801T060000Z
DTEND:20190801T073000Z
DTSTAMP:20260421T003755Z
LOCATION:40123
END:VEVENT
BEGIN:VEVENT
UID:19S_146659_3339880@uibk.ac.at
ORGANIZER;CN="LFU:online Universität Innsbruck":MAILTO:Uni-Innsbruck-noreply@uibk.ac.at
SUMMARY:FA 1010 - Art Appreciation (LV 146659-0 19S)
DESCRIPTION:Lehrveranstaltung 146659 19S, Gruppe 0\nTitel: FA 1010 - Art Appreciation\nOrt: 40123\n\nhttps://lfuonline.uibk.ac.at/public/lfuonline_lv.details?sem_id_in=19S&lvnr_id_in=146659\n
CLASS:PUBLIC
DTSTART:20190805T060000Z
DTEND:20190805T073000Z
DTSTAMP:20260421T003755Z
LOCATION:40123
END:VEVENT
BEGIN:VEVENT
UID:19S_146659_3339881@uibk.ac.at
ORGANIZER;CN="LFU:online Universität Innsbruck":MAILTO:Uni-Innsbruck-noreply@uibk.ac.at
SUMMARY:FA 1010 - Art Appreciation (LV 146659-0 19S)
DESCRIPTION:Lehrveranstaltung 146659 19S, Gruppe 0\nTitel: FA 1010 - Art Appreciation\nOrt: 40123\n\nhttps://lfuonline.uibk.ac.at/public/lfuonline_lv.details?sem_id_in=19S&lvnr_id_in=146659\n
CLASS:PUBLIC
DTSTART:20190806T060000Z
DTEND:20190806T073000Z
DTSTAMP:20260421T003755Z
LOCATION:40123
END:VEVENT
BEGIN:VEVENT
UID:19S_146659_3339882@uibk.ac.at
ORGANIZER;CN="LFU:online Universität Innsbruck":MAILTO:Uni-Innsbruck-noreply@uibk.ac.at
SUMMARY:FA 1010 - Art Appreciation (LV 146659-0 19S)
DESCRIPTION:Lehrveranstaltung 146659 19S, Gruppe 0\nTitel: FA 1010 - Art Appreciation\nOrt: 40123\n\nhttps://lfuonline.uibk.ac.at/public/lfuonline_lv.details?sem_id_in=19S&lvnr_id_in=146659\n
CLASS:PUBLIC
DTSTART:20190807T060000Z
DTEND:20190807T073000Z
DTSTAMP:20260421T003755Z
LOCATION:40123
END:VEVENT
BEGIN:VEVENT
UID:19S_146659_3339883@uibk.ac.at
ORGANIZER;CN="LFU:online Universität Innsbruck":MAILTO:Uni-Innsbruck-noreply@uibk.ac.at
SUMMARY:FA 1010 - Art Appreciation (LV 146659-0 19S)
DESCRIPTION:Lehrveranstaltung 146659 19S, Gruppe 0\nTitel: FA 1010 - Art Appreciation\nOrt: 40123\n\nhttps://lfuonline.uibk.ac.at/public/lfuonline_lv.details?sem_id_in=19S&lvnr_id_in=146659\n
CLASS:PUBLIC
DTSTART:20190808T060000Z
DTEND:20190808T073000Z
DTSTAMP:20260421T003755Z
LOCATION:40123
END:VEVENT
END:VCALENDAR