BEGIN:VCALENDAR
VERSION:2.0
PRODID:-//Universität Innsbruck//LFU:online//DE
METHOD:PUBLISH
BEGIN:VEVENT
UID:25S_146693_4800823@uibk.ac.at
ORGANIZER;CN="LFU:online Universität Innsbruck":MAILTO:Uni-Innsbruck-noreply@uibk.ac.at
SUMMARY:MUS 1000 - Music Appreciation (LV 146693-0 25S)
DESCRIPTION:Lehrveranstaltung 146693 25S, Gruppe 0\nTitel: MUS 1000 - Music Appreciation\nOrt: 40901 SR\n\nhttps://lfuonline.uibk.ac.at/public/lfuonline_lv.details?sem_id_in=25S&lvnr_id_in=146693\n
CLASS:PUBLIC
DTSTART:20250704T073000Z
DTEND:20250704T090000Z
DTSTAMP:20260419T160505Z
LOCATION:40901 SR
END:VEVENT
BEGIN:VEVENT
UID:25S_146693_4800803@uibk.ac.at
ORGANIZER;CN="LFU:online Universität Innsbruck":MAILTO:Uni-Innsbruck-noreply@uibk.ac.at
SUMMARY:MUS 1000 - Music Appreciation (LV 146693-0 25S)
DESCRIPTION:Lehrveranstaltung 146693 25S, Gruppe 0\nTitel: MUS 1000 - Music Appreciation\nOrt: 40901 SR\n\nhttps://lfuonline.uibk.ac.at/public/lfuonline_lv.details?sem_id_in=25S&lvnr_id_in=146693\n
CLASS:PUBLIC
DTSTART:20250707T073000Z
DTEND:20250707T090000Z
DTSTAMP:20260419T160505Z
LOCATION:40901 SR
END:VEVENT
BEGIN:VEVENT
UID:25S_146693_4800804@uibk.ac.at
ORGANIZER;CN="LFU:online Universität Innsbruck":MAILTO:Uni-Innsbruck-noreply@uibk.ac.at
SUMMARY:MUS 1000 - Music Appreciation (LV 146693-0 25S)
DESCRIPTION:Lehrveranstaltung 146693 25S, Gruppe 0\nTitel: MUS 1000 - Music Appreciation\nOrt: 40901 SR\n\nhttps://lfuonline.uibk.ac.at/public/lfuonline_lv.details?sem_id_in=25S&lvnr_id_in=146693\n
CLASS:PUBLIC
DTSTART:20250708T073000Z
DTEND:20250708T090000Z
DTSTAMP:20260419T160505Z
LOCATION:40901 SR
END:VEVENT
BEGIN:VEVENT
UID:25S_146693_4800805@uibk.ac.at
ORGANIZER;CN="LFU:online Universität Innsbruck":MAILTO:Uni-Innsbruck-noreply@uibk.ac.at
SUMMARY:MUS 1000 - Music Appreciation (LV 146693-0 25S)
DESCRIPTION:Lehrveranstaltung 146693 25S, Gruppe 0\nTitel: MUS 1000 - Music Appreciation\nOrt: 40901 SR\n\nhttps://lfuonline.uibk.ac.at/public/lfuonline_lv.details?sem_id_in=25S&lvnr_id_in=146693\n
CLASS:PUBLIC
DTSTART:20250709T073000Z
DTEND:20250709T090000Z
DTSTAMP:20260419T160505Z
LOCATION:40901 SR
END:VEVENT
BEGIN:VEVENT
UID:25S_146693_4800806@uibk.ac.at
ORGANIZER;CN="LFU:online Universität Innsbruck":MAILTO:Uni-Innsbruck-noreply@uibk.ac.at
SUMMARY:MUS 1000 - Music Appreciation (LV 146693-0 25S)
DESCRIPTION:Lehrveranstaltung 146693 25S, Gruppe 0\nTitel: MUS 1000 - Music Appreciation\nOrt: 40901 SR\n\nhttps://lfuonline.uibk.ac.at/public/lfuonline_lv.details?sem_id_in=25S&lvnr_id_in=146693\n
CLASS:PUBLIC
DTSTART:20250710T073000Z
DTEND:20250710T090000Z
DTSTAMP:20260419T160505Z
LOCATION:40901 SR
END:VEVENT
BEGIN:VEVENT
UID:25S_146693_4800807@uibk.ac.at
ORGANIZER;CN="LFU:online Universität Innsbruck":MAILTO:Uni-Innsbruck-noreply@uibk.ac.at
SUMMARY:MUS 1000 - Music Appreciation (LV 146693-0 25S)
DESCRIPTION:Lehrveranstaltung 146693 25S, Gruppe 0\nTitel: MUS 1000 - Music Appreciation\nOrt: 40901 SR\n\nhttps://lfuonline.uibk.ac.at/public/lfuonline_lv.details?sem_id_in=25S&lvnr_id_in=146693\n
CLASS:PUBLIC
DTSTART:20250714T073000Z
DTEND:20250714T090000Z
DTSTAMP:20260419T160505Z
LOCATION:40901 SR
END:VEVENT
BEGIN:VEVENT
UID:25S_146693_4800808@uibk.ac.at
ORGANIZER;CN="LFU:online Universität Innsbruck":MAILTO:Uni-Innsbruck-noreply@uibk.ac.at
SUMMARY:MUS 1000 - Music Appreciation (LV 146693-0 25S)
DESCRIPTION:Lehrveranstaltung 146693 25S, Gruppe 0\nTitel: MUS 1000 - Music Appreciation\nOrt: 40901 SR\n\nhttps://lfuonline.uibk.ac.at/public/lfuonline_lv.details?sem_id_in=25S&lvnr_id_in=146693\n
CLASS:PUBLIC
DTSTART:20250715T073000Z
DTEND:20250715T090000Z
DTSTAMP:20260419T160505Z
LOCATION:40901 SR
END:VEVENT
BEGIN:VEVENT
UID:25S_146693_4800809@uibk.ac.at
ORGANIZER;CN="LFU:online Universität Innsbruck":MAILTO:Uni-Innsbruck-noreply@uibk.ac.at
SUMMARY:MUS 1000 - Music Appreciation (LV 146693-0 25S)
DESCRIPTION:Lehrveranstaltung 146693 25S, Gruppe 0\nTitel: MUS 1000 - Music Appreciation\nOrt: 40901 SR\n\nhttps://lfuonline.uibk.ac.at/public/lfuonline_lv.details?sem_id_in=25S&lvnr_id_in=146693\n
CLASS:PUBLIC
DTSTART:20250716T073000Z
DTEND:20250716T090000Z
DTSTAMP:20260419T160505Z
LOCATION:40901 SR
END:VEVENT
BEGIN:VEVENT
UID:25S_146693_4800810@uibk.ac.at
ORGANIZER;CN="LFU:online Universität Innsbruck":MAILTO:Uni-Innsbruck-noreply@uibk.ac.at
SUMMARY:MUS 1000 - Music Appreciation (LV 146693-0 25S)
DESCRIPTION:Lehrveranstaltung 146693 25S, Gruppe 0\nTitel: MUS 1000 - Music Appreciation\nOrt: 40901 SR\n\nhttps://lfuonline.uibk.ac.at/public/lfuonline_lv.details?sem_id_in=25S&lvnr_id_in=146693\n
CLASS:PUBLIC
DTSTART:20250717T073000Z
DTEND:20250717T090000Z
DTSTAMP:20260419T160505Z
LOCATION:40901 SR
END:VEVENT
BEGIN:VEVENT
UID:25S_146693_4800811@uibk.ac.at
ORGANIZER;CN="LFU:online Universität Innsbruck":MAILTO:Uni-Innsbruck-noreply@uibk.ac.at
SUMMARY:MUS 1000 - Music Appreciation (LV 146693-0 25S)
DESCRIPTION:Lehrveranstaltung 146693 25S, Gruppe 0\nTitel: MUS 1000 - Music Appreciation\nOrt: 40901 SR\n\nhttps://lfuonline.uibk.ac.at/public/lfuonline_lv.details?sem_id_in=25S&lvnr_id_in=146693\n
CLASS:PUBLIC
DTSTART:20250721T073000Z
DTEND:20250721T090000Z
DTSTAMP:20260419T160505Z
LOCATION:40901 SR
END:VEVENT
BEGIN:VEVENT
UID:25S_146693_4800812@uibk.ac.at
ORGANIZER;CN="LFU:online Universität Innsbruck":MAILTO:Uni-Innsbruck-noreply@uibk.ac.at
SUMMARY:MUS 1000 - Music Appreciation (LV 146693-0 25S)
DESCRIPTION:Lehrveranstaltung 146693 25S, Gruppe 0\nTitel: MUS 1000 - Music Appreciation\nOrt: 40901 SR\n\nhttps://lfuonline.uibk.ac.at/public/lfuonline_lv.details?sem_id_in=25S&lvnr_id_in=146693\n
CLASS:PUBLIC
DTSTART:20250722T073000Z
DTEND:20250722T090000Z
DTSTAMP:20260419T160505Z
LOCATION:40901 SR
END:VEVENT
BEGIN:VEVENT
UID:25S_146693_4800813@uibk.ac.at
ORGANIZER;CN="LFU:online Universität Innsbruck":MAILTO:Uni-Innsbruck-noreply@uibk.ac.at
SUMMARY:MUS 1000 - Music Appreciation (LV 146693-0 25S)
DESCRIPTION:Lehrveranstaltung 146693 25S, Gruppe 0\nTitel: MUS 1000 - Music Appreciation\nOrt: 40901 SR\n\nhttps://lfuonline.uibk.ac.at/public/lfuonline_lv.details?sem_id_in=25S&lvnr_id_in=146693\n
CLASS:PUBLIC
DTSTART:20250723T073000Z
DTEND:20250723T090000Z
DTSTAMP:20260419T160505Z
LOCATION:40901 SR
END:VEVENT
BEGIN:VEVENT
UID:25S_146693_4800814@uibk.ac.at
ORGANIZER;CN="LFU:online Universität Innsbruck":MAILTO:Uni-Innsbruck-noreply@uibk.ac.at
SUMMARY:MUS 1000 - Music Appreciation (LV 146693-0 25S)
DESCRIPTION:Lehrveranstaltung 146693 25S, Gruppe 0\nTitel: MUS 1000 - Music Appreciation\nOrt: 40901 SR\n\nhttps://lfuonline.uibk.ac.at/public/lfuonline_lv.details?sem_id_in=25S&lvnr_id_in=146693\n
CLASS:PUBLIC
DTSTART:20250724T073000Z
DTEND:20250724T090000Z
DTSTAMP:20260419T160505Z
LOCATION:40901 SR
END:VEVENT
BEGIN:VEVENT
UID:25S_146693_4800815@uibk.ac.at
ORGANIZER;CN="LFU:online Universität Innsbruck":MAILTO:Uni-Innsbruck-noreply@uibk.ac.at
SUMMARY:MUS 1000 - Music Appreciation (LV 146693-0 25S)
DESCRIPTION:Lehrveranstaltung 146693 25S, Gruppe 0\nTitel: MUS 1000 - Music Appreciation\nOrt: 40901 SR\n\nhttps://lfuonline.uibk.ac.at/public/lfuonline_lv.details?sem_id_in=25S&lvnr_id_in=146693\n
CLASS:PUBLIC
DTSTART:20250728T073000Z
DTEND:20250728T090000Z
DTSTAMP:20260419T160505Z
LOCATION:40901 SR
END:VEVENT
BEGIN:VEVENT
UID:25S_146693_4800816@uibk.ac.at
ORGANIZER;CN="LFU:online Universität Innsbruck":MAILTO:Uni-Innsbruck-noreply@uibk.ac.at
SUMMARY:MUS 1000 - Music Appreciation (LV 146693-0 25S)
DESCRIPTION:Lehrveranstaltung 146693 25S, Gruppe 0\nTitel: MUS 1000 - Music Appreciation\nOrt: 40901 SR\n\nhttps://lfuonline.uibk.ac.at/public/lfuonline_lv.details?sem_id_in=25S&lvnr_id_in=146693\n
CLASS:PUBLIC
DTSTART:20250729T073000Z
DTEND:20250729T090000Z
DTSTAMP:20260419T160505Z
LOCATION:40901 SR
END:VEVENT
BEGIN:VEVENT
UID:25S_146693_4800817@uibk.ac.at
ORGANIZER;CN="LFU:online Universität Innsbruck":MAILTO:Uni-Innsbruck-noreply@uibk.ac.at
SUMMARY:MUS 1000 - Music Appreciation (LV 146693-0 25S)
DESCRIPTION:Lehrveranstaltung 146693 25S, Gruppe 0\nTitel: MUS 1000 - Music Appreciation\nOrt: 40901 SR\n\nhttps://lfuonline.uibk.ac.at/public/lfuonline_lv.details?sem_id_in=25S&lvnr_id_in=146693\n
CLASS:PUBLIC
DTSTART:20250730T073000Z
DTEND:20250730T090000Z
DTSTAMP:20260419T160505Z
LOCATION:40901 SR
END:VEVENT
BEGIN:VEVENT
UID:25S_146693_4800818@uibk.ac.at
ORGANIZER;CN="LFU:online Universität Innsbruck":MAILTO:Uni-Innsbruck-noreply@uibk.ac.at
SUMMARY:MUS 1000 - Music Appreciation (LV 146693-0 25S)
DESCRIPTION:Lehrveranstaltung 146693 25S, Gruppe 0\nTitel: MUS 1000 - Music Appreciation\nOrt: 40901 SR\n\nhttps://lfuonline.uibk.ac.at/public/lfuonline_lv.details?sem_id_in=25S&lvnr_id_in=146693\n
CLASS:PUBLIC
DTSTART:20250731T073000Z
DTEND:20250731T090000Z
DTSTAMP:20260419T160505Z
LOCATION:40901 SR
END:VEVENT
BEGIN:VEVENT
UID:25S_146693_4800819@uibk.ac.at
ORGANIZER;CN="LFU:online Universität Innsbruck":MAILTO:Uni-Innsbruck-noreply@uibk.ac.at
SUMMARY:MUS 1000 - Music Appreciation (LV 146693-0 25S)
DESCRIPTION:Lehrveranstaltung 146693 25S, Gruppe 0\nTitel: MUS 1000 - Music Appreciation\nOrt: 40901 SR\n\nhttps://lfuonline.uibk.ac.at/public/lfuonline_lv.details?sem_id_in=25S&lvnr_id_in=146693\n
CLASS:PUBLIC
DTSTART:20250804T073000Z
DTEND:20250804T090000Z
DTSTAMP:20260419T160505Z
LOCATION:40901 SR
END:VEVENT
BEGIN:VEVENT
UID:25S_146693_4800820@uibk.ac.at
ORGANIZER;CN="LFU:online Universität Innsbruck":MAILTO:Uni-Innsbruck-noreply@uibk.ac.at
SUMMARY:MUS 1000 - Music Appreciation (LV 146693-0 25S)
DESCRIPTION:Lehrveranstaltung 146693 25S, Gruppe 0\nTitel: MUS 1000 - Music Appreciation\nOrt: 40901 SR\n\nhttps://lfuonline.uibk.ac.at/public/lfuonline_lv.details?sem_id_in=25S&lvnr_id_in=146693\n
CLASS:PUBLIC
DTSTART:20250805T073000Z
DTEND:20250805T090000Z
DTSTAMP:20260419T160505Z
LOCATION:40901 SR
END:VEVENT
BEGIN:VEVENT
UID:25S_146693_4800821@uibk.ac.at
ORGANIZER;CN="LFU:online Universität Innsbruck":MAILTO:Uni-Innsbruck-noreply@uibk.ac.at
SUMMARY:MUS 1000 - Music Appreciation (LV 146693-0 25S)
DESCRIPTION:Lehrveranstaltung 146693 25S, Gruppe 0\nTitel: MUS 1000 - Music Appreciation\nOrt: 40901 SR\n\nhttps://lfuonline.uibk.ac.at/public/lfuonline_lv.details?sem_id_in=25S&lvnr_id_in=146693\n
CLASS:PUBLIC
DTSTART:20250806T073000Z
DTEND:20250806T090000Z
DTSTAMP:20260419T160505Z
LOCATION:40901 SR
END:VEVENT
BEGIN:VEVENT
UID:25S_146693_4800822@uibk.ac.at
ORGANIZER;CN="LFU:online Universität Innsbruck":MAILTO:Uni-Innsbruck-noreply@uibk.ac.at
SUMMARY:MUS 1000 - Music Appreciation (LV 146693-0 25S)
DESCRIPTION:Lehrveranstaltung 146693 25S, Gruppe 0\nTitel: MUS 1000 - Music Appreciation\nOrt: 40901 SR\n\nhttps://lfuonline.uibk.ac.at/public/lfuonline_lv.details?sem_id_in=25S&lvnr_id_in=146693\n
CLASS:PUBLIC
DTSTART:20250807T073000Z
DTEND:20250807T090000Z
DTSTAMP:20260419T160505Z
LOCATION:40901 SR
END:VEVENT
END:VCALENDAR