BEGIN:VCALENDAR
VERSION:2.0
PRODID:-//Universität Innsbruck//LFU:online//DE
METHOD:PUBLISH
BEGIN:VEVENT
UID:18W_222032_3141537@uibk.ac.at
ORGANIZER;CN="LFU:online Universität Innsbruck":MAILTO:Uni-Innsbruck-noreply@uibk.ac.at
SUMMARY:SE Dogmatik: Themenschwerpunkte nach der Fachliteratur: Auf der Suche nach einem christlichen Opferbegriff (LV 222032-0 18W)
DESCRIPTION:Lehrveranstaltung 222032 18W, Gruppe 0\nTitel: SE Dogmatik: Themenschwerpunkte nach der Fachliteratur: Auf der Suche nach einem christlichen Opferbegriff\nOrt: SR III (Theologie)\n\nhttps://lfuonline.uibk.ac.at/public/lfuonline_lv.details?sem_id_in=18W&lvnr_id_in=222032\n
CLASS:PUBLIC
DTSTART:20181003T120000Z
DTEND:20181003T134500Z
DTSTAMP:20260419T221038Z
LOCATION:SR III (Theologie)
END:VEVENT
BEGIN:VEVENT
UID:18W_222032_3141538@uibk.ac.at
ORGANIZER;CN="LFU:online Universität Innsbruck":MAILTO:Uni-Innsbruck-noreply@uibk.ac.at
SUMMARY:SE Dogmatik: Themenschwerpunkte nach der Fachliteratur: Auf der Suche nach einem christlichen Opferbegriff (LV 222032-0 18W)
DESCRIPTION:Lehrveranstaltung 222032 18W, Gruppe 0\nTitel: SE Dogmatik: Themenschwerpunkte nach der Fachliteratur: Auf der Suche nach einem christlichen Opferbegriff\nOrt: SR III (Theologie)\n\nhttps://lfuonline.uibk.ac.at/public/lfuonline_lv.details?sem_id_in=18W&lvnr_id_in=222032\n
CLASS:PUBLIC
DTSTART:20181010T120000Z
DTEND:20181010T134500Z
DTSTAMP:20260419T221038Z
LOCATION:SR III (Theologie)
END:VEVENT
BEGIN:VEVENT
UID:18W_222032_3141539@uibk.ac.at
ORGANIZER;CN="LFU:online Universität Innsbruck":MAILTO:Uni-Innsbruck-noreply@uibk.ac.at
SUMMARY:SE Dogmatik: Themenschwerpunkte nach der Fachliteratur: Auf der Suche nach einem christlichen Opferbegriff (LV 222032-0 18W)
DESCRIPTION:Lehrveranstaltung 222032 18W, Gruppe 0\nTitel: SE Dogmatik: Themenschwerpunkte nach der Fachliteratur: Auf der Suche nach einem christlichen Opferbegriff\nOrt: SR III (Theologie)\n\nhttps://lfuonline.uibk.ac.at/public/lfuonline_lv.details?sem_id_in=18W&lvnr_id_in=222032\n
CLASS:PUBLIC
DTSTART:20181017T120000Z
DTEND:20181017T134500Z
DTSTAMP:20260419T221038Z
LOCATION:SR III (Theologie)
END:VEVENT
BEGIN:VEVENT
UID:18W_222032_3141540@uibk.ac.at
ORGANIZER;CN="LFU:online Universität Innsbruck":MAILTO:Uni-Innsbruck-noreply@uibk.ac.at
SUMMARY:SE Dogmatik: Themenschwerpunkte nach der Fachliteratur: Auf der Suche nach einem christlichen Opferbegriff (LV 222032-0 18W)
DESCRIPTION:Lehrveranstaltung 222032 18W, Gruppe 0\nTitel: SE Dogmatik: Themenschwerpunkte nach der Fachliteratur: Auf der Suche nach einem christlichen Opferbegriff\nOrt: SR III (Theologie)\n\nhttps://lfuonline.uibk.ac.at/public/lfuonline_lv.details?sem_id_in=18W&lvnr_id_in=222032\n
CLASS:PUBLIC
DTSTART:20181024T120000Z
DTEND:20181024T134500Z
DTSTAMP:20260419T221038Z
LOCATION:SR III (Theologie)
END:VEVENT
BEGIN:VEVENT
UID:18W_222032_3141541@uibk.ac.at
ORGANIZER;CN="LFU:online Universität Innsbruck":MAILTO:Uni-Innsbruck-noreply@uibk.ac.at
SUMMARY:SE Dogmatik: Themenschwerpunkte nach der Fachliteratur: Auf der Suche nach einem christlichen Opferbegriff (LV 222032-0 18W)
DESCRIPTION:Lehrveranstaltung 222032 18W, Gruppe 0\nTitel: SE Dogmatik: Themenschwerpunkte nach der Fachliteratur: Auf der Suche nach einem christlichen Opferbegriff\nOrt: SR III (Theologie)\n\nhttps://lfuonline.uibk.ac.at/public/lfuonline_lv.details?sem_id_in=18W&lvnr_id_in=222032\n
CLASS:PUBLIC
DTSTART:20181031T130000Z
DTEND:20181031T144500Z
DTSTAMP:20260419T221038Z
LOCATION:SR III (Theologie)
END:VEVENT
BEGIN:VEVENT
UID:18W_222032_3141542@uibk.ac.at
ORGANIZER;CN="LFU:online Universität Innsbruck":MAILTO:Uni-Innsbruck-noreply@uibk.ac.at
SUMMARY:SE Dogmatik: Themenschwerpunkte nach der Fachliteratur: Auf der Suche nach einem christlichen Opferbegriff (LV 222032-0 18W)
DESCRIPTION:Lehrveranstaltung 222032 18W, Gruppe 0\nTitel: SE Dogmatik: Themenschwerpunkte nach der Fachliteratur: Auf der Suche nach einem christlichen Opferbegriff\nOrt: SR III (Theologie)\n\nhttps://lfuonline.uibk.ac.at/public/lfuonline_lv.details?sem_id_in=18W&lvnr_id_in=222032\n
CLASS:PUBLIC
DTSTART:20181107T130000Z
DTEND:20181107T144500Z
DTSTAMP:20260419T221038Z
LOCATION:SR III (Theologie)
END:VEVENT
BEGIN:VEVENT
UID:18W_222032_3141543@uibk.ac.at
ORGANIZER;CN="LFU:online Universität Innsbruck":MAILTO:Uni-Innsbruck-noreply@uibk.ac.at
SUMMARY:SE Dogmatik: Themenschwerpunkte nach der Fachliteratur: Auf der Suche nach einem christlichen Opferbegriff (LV 222032-0 18W)
DESCRIPTION:Lehrveranstaltung 222032 18W, Gruppe 0\nTitel: SE Dogmatik: Themenschwerpunkte nach der Fachliteratur: Auf der Suche nach einem christlichen Opferbegriff\nOrt: SR III (Theologie)\n\nhttps://lfuonline.uibk.ac.at/public/lfuonline_lv.details?sem_id_in=18W&lvnr_id_in=222032\n
CLASS:PUBLIC
DTSTART:20181114T130000Z
DTEND:20181114T144500Z
DTSTAMP:20260419T221038Z
LOCATION:SR III (Theologie)
END:VEVENT
BEGIN:VEVENT
UID:18W_222032_3141544@uibk.ac.at
ORGANIZER;CN="LFU:online Universität Innsbruck":MAILTO:Uni-Innsbruck-noreply@uibk.ac.at
SUMMARY:SE Dogmatik: Themenschwerpunkte nach der Fachliteratur: Auf der Suche nach einem christlichen Opferbegriff (LV 222032-0 18W)
DESCRIPTION:Lehrveranstaltung 222032 18W, Gruppe 0\nTitel: SE Dogmatik: Themenschwerpunkte nach der Fachliteratur: Auf der Suche nach einem christlichen Opferbegriff\nOrt: SR III (Theologie)\n\nhttps://lfuonline.uibk.ac.at/public/lfuonline_lv.details?sem_id_in=18W&lvnr_id_in=222032\n
CLASS:PUBLIC
DTSTART:20181121T130000Z
DTEND:20181121T144500Z
DTSTAMP:20260419T221038Z
LOCATION:SR III (Theologie)
END:VEVENT
BEGIN:VEVENT
UID:18W_222032_3141545@uibk.ac.at
ORGANIZER;CN="LFU:online Universität Innsbruck":MAILTO:Uni-Innsbruck-noreply@uibk.ac.at
SUMMARY:SE Dogmatik: Themenschwerpunkte nach der Fachliteratur: Auf der Suche nach einem christlichen Opferbegriff (LV 222032-0 18W)
DESCRIPTION:Lehrveranstaltung 222032 18W, Gruppe 0\nTitel: SE Dogmatik: Themenschwerpunkte nach der Fachliteratur: Auf der Suche nach einem christlichen Opferbegriff\nOrt: SR III (Theologie)\n\nhttps://lfuonline.uibk.ac.at/public/lfuonline_lv.details?sem_id_in=18W&lvnr_id_in=222032\n
CLASS:PUBLIC
DTSTART:20181128T130000Z
DTEND:20181128T144500Z
DTSTAMP:20260419T221038Z
LOCATION:SR III (Theologie)
END:VEVENT
BEGIN:VEVENT
UID:18W_222032_3141546@uibk.ac.at
ORGANIZER;CN="LFU:online Universität Innsbruck":MAILTO:Uni-Innsbruck-noreply@uibk.ac.at
SUMMARY:SE Dogmatik: Themenschwerpunkte nach der Fachliteratur: Auf der Suche nach einem christlichen Opferbegriff (LV 222032-0 18W)
DESCRIPTION:Lehrveranstaltung 222032 18W, Gruppe 0\nTitel: SE Dogmatik: Themenschwerpunkte nach der Fachliteratur: Auf der Suche nach einem christlichen Opferbegriff\nOrt: SR III (Theologie)\n\nhttps://lfuonline.uibk.ac.at/public/lfuonline_lv.details?sem_id_in=18W&lvnr_id_in=222032\n
CLASS:PUBLIC
DTSTART:20181205T130000Z
DTEND:20181205T144500Z
DTSTAMP:20260419T221038Z
LOCATION:SR III (Theologie)
END:VEVENT
BEGIN:VEVENT
UID:18W_222032_3256916@uibk.ac.at
ORGANIZER;CN="LFU:online Universität Innsbruck":MAILTO:Uni-Innsbruck-noreply@uibk.ac.at
SUMMARY:SE Dogmatik: Themenschwerpunkte nach der Fachliteratur: Auf der Suche nach einem christlichen Opferbegriff (LV 222032-0 18W)
DESCRIPTION:Lehrveranstaltung 222032 18W, Gruppe 0\nTitel: SE Dogmatik: Themenschwerpunkte nach der Fachliteratur: Auf der Suche nach einem christlichen Opferbegriff\nOrt: HS I (Theologie)\n\nhttps://lfuonline.uibk.ac.at/public/lfuonline_lv.details?sem_id_in=18W&lvnr_id_in=222032\n
CLASS:PUBLIC
DTSTART:20181205T190000Z
DTEND:20181205T210000Z
DTSTAMP:20260419T221038Z
LOCATION:HS I (Theologie)
COMMENT:Filmvorführung 
END:VEVENT
BEGIN:VEVENT
UID:18W_222032_3141547@uibk.ac.at
ORGANIZER;CN="LFU:online Universität Innsbruck":MAILTO:Uni-Innsbruck-noreply@uibk.ac.at
SUMMARY:SE Dogmatik: Themenschwerpunkte nach der Fachliteratur: Auf der Suche nach einem christlichen Opferbegriff (LV 222032-0 18W)
DESCRIPTION:Lehrveranstaltung 222032 18W, Gruppe 0\nTitel: SE Dogmatik: Themenschwerpunkte nach der Fachliteratur: Auf der Suche nach einem christlichen Opferbegriff\nOrt: SR III (Theologie)\n\nhttps://lfuonline.uibk.ac.at/public/lfuonline_lv.details?sem_id_in=18W&lvnr_id_in=222032\n
CLASS:PUBLIC
DTSTART:20181212T130000Z
DTEND:20181212T144500Z
DTSTAMP:20260419T221038Z
LOCATION:SR III (Theologie)
END:VEVENT
BEGIN:VEVENT
UID:18W_222032_3141548@uibk.ac.at
ORGANIZER;CN="LFU:online Universität Innsbruck":MAILTO:Uni-Innsbruck-noreply@uibk.ac.at
SUMMARY:SE Dogmatik: Themenschwerpunkte nach der Fachliteratur: Auf der Suche nach einem christlichen Opferbegriff (LV 222032-0 18W)
DESCRIPTION:Lehrveranstaltung 222032 18W, Gruppe 0\nTitel: SE Dogmatik: Themenschwerpunkte nach der Fachliteratur: Auf der Suche nach einem christlichen Opferbegriff\nOrt: SR III (Theologie)\n\nhttps://lfuonline.uibk.ac.at/public/lfuonline_lv.details?sem_id_in=18W&lvnr_id_in=222032\n
CLASS:PUBLIC
DTSTART:20190109T130000Z
DTEND:20190109T144500Z
DTSTAMP:20260419T221038Z
LOCATION:SR III (Theologie)
END:VEVENT
BEGIN:VEVENT
UID:18W_222032_3141549@uibk.ac.at
ORGANIZER;CN="LFU:online Universität Innsbruck":MAILTO:Uni-Innsbruck-noreply@uibk.ac.at
SUMMARY:SE Dogmatik: Themenschwerpunkte nach der Fachliteratur: Auf der Suche nach einem christlichen Opferbegriff (LV 222032-0 18W)
DESCRIPTION:Lehrveranstaltung 222032 18W, Gruppe 0\nTitel: SE Dogmatik: Themenschwerpunkte nach der Fachliteratur: Auf der Suche nach einem christlichen Opferbegriff\nOrt: SR III (Theologie)\n\nhttps://lfuonline.uibk.ac.at/public/lfuonline_lv.details?sem_id_in=18W&lvnr_id_in=222032\n
CLASS:PUBLIC
DTSTART:20190116T130000Z
DTEND:20190116T144500Z
DTSTAMP:20260419T221038Z
LOCATION:SR III (Theologie)
END:VEVENT
BEGIN:VEVENT
UID:18W_222032_3141550@uibk.ac.at
ORGANIZER;CN="LFU:online Universität Innsbruck":MAILTO:Uni-Innsbruck-noreply@uibk.ac.at
SUMMARY:SE Dogmatik: Themenschwerpunkte nach der Fachliteratur: Auf der Suche nach einem christlichen Opferbegriff (LV 222032-0 18W)
DESCRIPTION:Lehrveranstaltung 222032 18W, Gruppe 0\nTitel: SE Dogmatik: Themenschwerpunkte nach der Fachliteratur: Auf der Suche nach einem christlichen Opferbegriff\nOrt: SR III (Theologie)\n\nhttps://lfuonline.uibk.ac.at/public/lfuonline_lv.details?sem_id_in=18W&lvnr_id_in=222032\n
CLASS:PUBLIC
DTSTART:20190123T130000Z
DTEND:20190123T144500Z
DTSTAMP:20260419T221038Z
LOCATION:SR III (Theologie)
END:VEVENT
BEGIN:VEVENT
UID:18W_222032_3141551@uibk.ac.at
ORGANIZER;CN="LFU:online Universität Innsbruck":MAILTO:Uni-Innsbruck-noreply@uibk.ac.at
SUMMARY:SE Dogmatik: Themenschwerpunkte nach der Fachliteratur: Auf der Suche nach einem christlichen Opferbegriff (LV 222032-0 18W)
DESCRIPTION:Lehrveranstaltung 222032 18W, Gruppe 0\nTitel: SE Dogmatik: Themenschwerpunkte nach der Fachliteratur: Auf der Suche nach einem christlichen Opferbegriff\nOrt: SR III (Theologie)\n\nhttps://lfuonline.uibk.ac.at/public/lfuonline_lv.details?sem_id_in=18W&lvnr_id_in=222032\n
CLASS:PUBLIC
DTSTART:20190130T130000Z
DTEND:20190130T144500Z
DTSTAMP:20260419T221038Z
LOCATION:SR III (Theologie)
END:VEVENT
END:VCALENDAR