BEGIN:VCALENDAR
VERSION:2.0
PRODID:-//Universität Innsbruck//LFU:online//DE
METHOD:PUBLISH
BEGIN:VEVENT
UID:24S_222041_4332085@uibk.ac.at
ORGANIZER;CN="LFU:online Universität Innsbruck":MAILTO:Uni-Innsbruck-noreply@uibk.ac.at
SUMMARY:SE Systematische Theologie: Exemplarische Themenerschließung: Exerzitien im Alltag (LV 222041-0 24S)
DESCRIPTION:Lehrveranstaltung 222041 24S, Gruppe 0\nTitel: SE Systematische Theologie: Exemplarische Themenerschließung: Exerzitien im Alltag\nOrt: SR III (Theologie)\n\nhttps://lfuonline.uibk.ac.at/public/lfuonline_lv.details?sem_id_in=24S&lvnr_id_in=222041\n
CLASS:PUBLIC
DTSTART:20240305T140000Z
DTEND:20240305T153000Z
DTSTAMP:20260425T174436Z
LOCATION:SR III (Theologie)
END:VEVENT
BEGIN:VEVENT
UID:24S_222041_4332086@uibk.ac.at
ORGANIZER;CN="LFU:online Universität Innsbruck":MAILTO:Uni-Innsbruck-noreply@uibk.ac.at
SUMMARY:SE Systematische Theologie: Exemplarische Themenerschließung: Exerzitien im Alltag (LV 222041-0 24S)
DESCRIPTION:Lehrveranstaltung 222041 24S, Gruppe 0\nTitel: SE Systematische Theologie: Exemplarische Themenerschließung: Exerzitien im Alltag\nOrt: SR III (Theologie)\n\nhttps://lfuonline.uibk.ac.at/public/lfuonline_lv.details?sem_id_in=24S&lvnr_id_in=222041\n
CLASS:PUBLIC
DTSTART:20240312T140000Z
DTEND:20240312T153000Z
DTSTAMP:20260425T174436Z
LOCATION:SR III (Theologie)
END:VEVENT
BEGIN:VEVENT
UID:24S_222041_4332087@uibk.ac.at
ORGANIZER;CN="LFU:online Universität Innsbruck":MAILTO:Uni-Innsbruck-noreply@uibk.ac.at
SUMMARY:SE Systematische Theologie: Exemplarische Themenerschließung: Exerzitien im Alltag (LV 222041-0 24S)
DESCRIPTION:Lehrveranstaltung 222041 24S, Gruppe 0\nTitel: SE Systematische Theologie: Exemplarische Themenerschließung: Exerzitien im Alltag\nOrt: SR III (Theologie)\n\nhttps://lfuonline.uibk.ac.at/public/lfuonline_lv.details?sem_id_in=24S&lvnr_id_in=222041\n
CLASS:PUBLIC
DTSTART:20240319T140000Z
DTEND:20240319T153000Z
DTSTAMP:20260425T174436Z
LOCATION:SR III (Theologie)
END:VEVENT
BEGIN:VEVENT
UID:24S_222041_4332088@uibk.ac.at
ORGANIZER;CN="LFU:online Universität Innsbruck":MAILTO:Uni-Innsbruck-noreply@uibk.ac.at
SUMMARY:SE Systematische Theologie: Exemplarische Themenerschließung: Exerzitien im Alltag (LV 222041-0 24S)
DESCRIPTION:Lehrveranstaltung 222041 24S, Gruppe 0\nTitel: SE Systematische Theologie: Exemplarische Themenerschließung: Exerzitien im Alltag\nOrt: SR III (Theologie)\n\nhttps://lfuonline.uibk.ac.at/public/lfuonline_lv.details?sem_id_in=24S&lvnr_id_in=222041\n
CLASS:PUBLIC
DTSTART:20240409T130000Z
DTEND:20240409T143000Z
DTSTAMP:20260425T174436Z
LOCATION:SR III (Theologie)
END:VEVENT
BEGIN:VEVENT
UID:24S_222041_4332089@uibk.ac.at
ORGANIZER;CN="LFU:online Universität Innsbruck":MAILTO:Uni-Innsbruck-noreply@uibk.ac.at
SUMMARY:SE Systematische Theologie: Exemplarische Themenerschließung: Exerzitien im Alltag (LV 222041-0 24S)
DESCRIPTION:Lehrveranstaltung 222041 24S, Gruppe 0\nTitel: SE Systematische Theologie: Exemplarische Themenerschließung: Exerzitien im Alltag\nOrt: SR III (Theologie)\n\nhttps://lfuonline.uibk.ac.at/public/lfuonline_lv.details?sem_id_in=24S&lvnr_id_in=222041\n
CLASS:PUBLIC
DTSTART:20240416T130000Z
DTEND:20240416T143000Z
DTSTAMP:20260425T174436Z
LOCATION:SR III (Theologie)
END:VEVENT
BEGIN:VEVENT
UID:24S_222041_4332090@uibk.ac.at
ORGANIZER;CN="LFU:online Universität Innsbruck":MAILTO:Uni-Innsbruck-noreply@uibk.ac.at
SUMMARY:SE Systematische Theologie: Exemplarische Themenerschließung: Exerzitien im Alltag (LV 222041-0 24S)
DESCRIPTION:Lehrveranstaltung 222041 24S, Gruppe 0\nTitel: SE Systematische Theologie: Exemplarische Themenerschließung: Exerzitien im Alltag\nOrt: SR III (Theologie)\n\nhttps://lfuonline.uibk.ac.at/public/lfuonline_lv.details?sem_id_in=24S&lvnr_id_in=222041\n
CLASS:PUBLIC
DTSTART:20240423T130000Z
DTEND:20240423T143000Z
DTSTAMP:20260425T174436Z
LOCATION:SR III (Theologie)
END:VEVENT
BEGIN:VEVENT
UID:24S_222041_4332091@uibk.ac.at
ORGANIZER;CN="LFU:online Universität Innsbruck":MAILTO:Uni-Innsbruck-noreply@uibk.ac.at
SUMMARY:SE Systematische Theologie: Exemplarische Themenerschließung: Exerzitien im Alltag (LV 222041-0 24S)
DESCRIPTION:Lehrveranstaltung 222041 24S, Gruppe 0\nTitel: SE Systematische Theologie: Exemplarische Themenerschließung: Exerzitien im Alltag\nOrt: SR III (Theologie)\n\nhttps://lfuonline.uibk.ac.at/public/lfuonline_lv.details?sem_id_in=24S&lvnr_id_in=222041\n
CLASS:PUBLIC
DTSTART:20240430T130000Z
DTEND:20240430T143000Z
DTSTAMP:20260425T174436Z
LOCATION:SR III (Theologie)
END:VEVENT
BEGIN:VEVENT
UID:24S_222041_4332092@uibk.ac.at
ORGANIZER;CN="LFU:online Universität Innsbruck":MAILTO:Uni-Innsbruck-noreply@uibk.ac.at
SUMMARY:SE Systematische Theologie: Exemplarische Themenerschließung: Exerzitien im Alltag (LV 222041-0 24S)
DESCRIPTION:Lehrveranstaltung 222041 24S, Gruppe 0\nTitel: SE Systematische Theologie: Exemplarische Themenerschließung: Exerzitien im Alltag\nOrt: SR III (Theologie)\n\nhttps://lfuonline.uibk.ac.at/public/lfuonline_lv.details?sem_id_in=24S&lvnr_id_in=222041\n
CLASS:PUBLIC
DTSTART:20240507T130000Z
DTEND:20240507T143000Z
DTSTAMP:20260425T174436Z
LOCATION:SR III (Theologie)
END:VEVENT
BEGIN:VEVENT
UID:24S_222041_4332093@uibk.ac.at
ORGANIZER;CN="LFU:online Universität Innsbruck":MAILTO:Uni-Innsbruck-noreply@uibk.ac.at
SUMMARY:SE Systematische Theologie: Exemplarische Themenerschließung: Exerzitien im Alltag (LV 222041-0 24S)
DESCRIPTION:Lehrveranstaltung 222041 24S, Gruppe 0\nTitel: SE Systematische Theologie: Exemplarische Themenerschließung: Exerzitien im Alltag\nOrt: SR III (Theologie)\n\nhttps://lfuonline.uibk.ac.at/public/lfuonline_lv.details?sem_id_in=24S&lvnr_id_in=222041\n
CLASS:PUBLIC
DTSTART:20240514T130000Z
DTEND:20240514T143000Z
DTSTAMP:20260425T174436Z
LOCATION:SR III (Theologie)
END:VEVENT
BEGIN:VEVENT
UID:24S_222041_4332094@uibk.ac.at
ORGANIZER;CN="LFU:online Universität Innsbruck":MAILTO:Uni-Innsbruck-noreply@uibk.ac.at
SUMMARY:SE Systematische Theologie: Exemplarische Themenerschließung: Exerzitien im Alltag (LV 222041-0 24S)
DESCRIPTION:Lehrveranstaltung 222041 24S, Gruppe 0\nTitel: SE Systematische Theologie: Exemplarische Themenerschließung: Exerzitien im Alltag\nOrt: SR III (Theologie)\n\nhttps://lfuonline.uibk.ac.at/public/lfuonline_lv.details?sem_id_in=24S&lvnr_id_in=222041\n
CLASS:PUBLIC
DTSTART:20240521T130000Z
DTEND:20240521T143000Z
DTSTAMP:20260425T174436Z
LOCATION:SR III (Theologie)
END:VEVENT
BEGIN:VEVENT
UID:24S_222041_4332095@uibk.ac.at
ORGANIZER;CN="LFU:online Universität Innsbruck":MAILTO:Uni-Innsbruck-noreply@uibk.ac.at
SUMMARY:SE Systematische Theologie: Exemplarische Themenerschließung: Exerzitien im Alltag (LV 222041-0 24S)
DESCRIPTION:Lehrveranstaltung 222041 24S, Gruppe 0\nTitel: SE Systematische Theologie: Exemplarische Themenerschließung: Exerzitien im Alltag\nOrt: SR III (Theologie)\n\nhttps://lfuonline.uibk.ac.at/public/lfuonline_lv.details?sem_id_in=24S&lvnr_id_in=222041\n
CLASS:PUBLIC
DTSTART:20240528T130000Z
DTEND:20240528T143000Z
DTSTAMP:20260425T174436Z
LOCATION:SR III (Theologie)
END:VEVENT
END:VCALENDAR