BEGIN:VCALENDAR
VERSION:2.0
PRODID:-//Universität Innsbruck//LFU:online//DE
METHOD:PUBLISH
BEGIN:VEVENT
UID:11W_223600_1637896@uibk.ac.at
ORGANIZER;CN="LFU:online Universität Innsbruck":MAILTO:Uni-Innsbruck-noreply@uibk.ac.at
SUMMARY:VO Sozialpsychologie des Jugendalters (Theologie) (LV 223600-0 11W)
DESCRIPTION:Lehrveranstaltung 223600 11W, Gruppe 0\nTitel: VO Sozialpsychologie des Jugendalters (Theologie)\nOrt: SR VI (Theologie)\n\nhttps://lfuonline.uibk.ac.at/public/lfuonline_lv.details?sem_id_in=11W&lvnr_id_in=223600\n
CLASS:PUBLIC
DTSTART:20111125T090000Z
DTEND:20111125T154500Z
DTSTAMP:20260419T121610Z
LOCATION:SR VI (Theologie)
END:VEVENT
BEGIN:VEVENT
UID:11W_223600_1637899@uibk.ac.at
ORGANIZER;CN="LFU:online Universität Innsbruck":MAILTO:Uni-Innsbruck-noreply@uibk.ac.at
SUMMARY:VO Sozialpsychologie des Jugendalters (Theologie) (LV 223600-0 11W)
DESCRIPTION:Lehrveranstaltung 223600 11W, Gruppe 0\nTitel: VO Sozialpsychologie des Jugendalters (Theologie)\nOrt: SR VI (Theologie)\n\nhttps://lfuonline.uibk.ac.at/public/lfuonline_lv.details?sem_id_in=11W&lvnr_id_in=223600\n
CLASS:PUBLIC
DTSTART:20111126T090000Z
DTEND:20111126T144500Z
DTSTAMP:20260419T121610Z
LOCATION:SR VI (Theologie)
END:VEVENT
BEGIN:VEVENT
UID:11W_223600_1641164@uibk.ac.at
ORGANIZER;CN="LFU:online Universität Innsbruck":MAILTO:Uni-Innsbruck-noreply@uibk.ac.at
SUMMARY:VO Sozialpsychologie des Jugendalters (Theologie) (LV 223600-0 11W)
DESCRIPTION:Lehrveranstaltung 223600 11W, Gruppe 0\nTitel: VO Sozialpsychologie des Jugendalters (Theologie)\nOrt: SR VI (Theologie)\n\nhttps://lfuonline.uibk.ac.at/public/lfuonline_lv.details?sem_id_in=11W&lvnr_id_in=223600\n
CLASS:PUBLIC
DTSTART:20120120T090000Z
DTEND:20120120T154500Z
DTSTAMP:20260419T121610Z
LOCATION:SR VI (Theologie)
END:VEVENT
BEGIN:VEVENT
UID:11W_223600_1641165@uibk.ac.at
ORGANIZER;CN="LFU:online Universität Innsbruck":MAILTO:Uni-Innsbruck-noreply@uibk.ac.at
SUMMARY:VO Sozialpsychologie des Jugendalters (Theologie) (LV 223600-0 11W)
DESCRIPTION:Lehrveranstaltung 223600 11W, Gruppe 0\nTitel: VO Sozialpsychologie des Jugendalters (Theologie)\nOrt: SR VI (Theologie)\n\nhttps://lfuonline.uibk.ac.at/public/lfuonline_lv.details?sem_id_in=11W&lvnr_id_in=223600\n
CLASS:PUBLIC
DTSTART:20120121T090000Z
DTEND:20120121T144500Z
DTSTAMP:20260419T121610Z
LOCATION:SR VI (Theologie)
END:VEVENT
END:VCALENDAR