BEGIN:VCALENDAR
VERSION:2.0
PRODID:-//Universität Innsbruck//LFU:online//DE
METHOD:PUBLISH
BEGIN:VEVENT
UID:26S_308202_5084199@uibk.ac.at
ORGANIZER;CN="LFU:online Universität Innsbruck":MAILTO:Uni-Innsbruck-noreply@uibk.ac.at
SUMMARY:RE Repetitorium aus Straf- und Strafprozessrecht (LV 308202-0 26S)
DESCRIPTION:Lehrveranstaltung 308202 26S, Gruppe 0\nTitel: RE Repetitorium aus Straf- und Strafprozessrecht\nOrt: Hörsaal A\n\nhttps://lfuonline.uibk.ac.at/public/lfuonline_lv.details?sem_id_in=26S&lvnr_id_in=308202\n
CLASS:PUBLIC
DTSTART:20260605T080000Z
DTEND:20260605T133000Z
DTSTAMP:20260422T191813Z
LOCATION:Hörsaal A
END:VEVENT
BEGIN:VEVENT
UID:26S_308202_5084200@uibk.ac.at
ORGANIZER;CN="LFU:online Universität Innsbruck":MAILTO:Uni-Innsbruck-noreply@uibk.ac.at
SUMMARY:RE Repetitorium aus Straf- und Strafprozessrecht (LV 308202-0 26S)
DESCRIPTION:Lehrveranstaltung 308202 26S, Gruppe 0\nTitel: RE Repetitorium aus Straf- und Strafprozessrecht\nOrt: Hörsaal A\n\nhttps://lfuonline.uibk.ac.at/public/lfuonline_lv.details?sem_id_in=26S&lvnr_id_in=308202\n
CLASS:PUBLIC
DTSTART:20260606T073000Z
DTEND:20260606T130000Z
DTSTAMP:20260422T191813Z
LOCATION:Hörsaal A
END:VEVENT
END:VCALENDAR