BEGIN:VCALENDAR
VERSION:2.0
PRODID:-//Universität Innsbruck//LFU:online//DE
METHOD:PUBLISH
BEGIN:VEVENT
UID:19S_312451_3299166@uibk.ac.at
ORGANIZER;CN="LFU:online Universität Innsbruck":MAILTO:Uni-Innsbruck-noreply@uibk.ac.at
SUMMARY:Repetitorium aus Einführung in das Unternehmensrecht (LV 312451-0 19S)
DESCRIPTION:Lehrveranstaltung 312451 19S, Gruppe 0\nTitel: Repetitorium aus Einführung in das Unternehmensrecht\nOrt: Hörsaal 5¾\n\nhttps://lfuonline.uibk.ac.at/public/lfuonline_lv.details?sem_id_in=19S&lvnr_id_in=312451\n
CLASS:PUBLIC
DTSTART:20190517T063000Z
DTEND:20190517T103000Z
DTSTAMP:20260423T053321Z
LOCATION:Hörsaal 5¾
END:VEVENT
BEGIN:VEVENT
UID:19S_312451_3299167@uibk.ac.at
ORGANIZER;CN="LFU:online Universität Innsbruck":MAILTO:Uni-Innsbruck-noreply@uibk.ac.at
SUMMARY:Repetitorium aus Einführung in das Unternehmensrecht (LV 312451-0 19S)
DESCRIPTION:Lehrveranstaltung 312451 19S, Gruppe 0\nTitel: Repetitorium aus Einführung in das Unternehmensrecht\nOrt: Hörsaal 5¾\n\nhttps://lfuonline.uibk.ac.at/public/lfuonline_lv.details?sem_id_in=19S&lvnr_id_in=312451\n
CLASS:PUBLIC
DTSTART:20190614T063000Z
DTEND:20190614T103000Z
DTSTAMP:20260423T053321Z
LOCATION:Hörsaal 5¾
END:VEVENT
BEGIN:VEVENT
UID:19S_312451_3299169@uibk.ac.at
ORGANIZER;CN="LFU:online Universität Innsbruck":MAILTO:Uni-Innsbruck-noreply@uibk.ac.at
SUMMARY:Repetitorium aus Einführung in das Unternehmensrecht (LV 312451-0 19S)
DESCRIPTION:Lehrveranstaltung 312451 19S, Gruppe 0\nTitel: Repetitorium aus Einführung in das Unternehmensrecht\nOrt: Hörsaal F\n\nhttps://lfuonline.uibk.ac.at/public/lfuonline_lv.details?sem_id_in=19S&lvnr_id_in=312451\n
CLASS:PUBLIC
DTSTART:20190927T063000Z
DTEND:20190927T103000Z
DTSTAMP:20260423T053321Z
LOCATION:Hörsaal F
END:VEVENT
END:VCALENDAR