BEGIN:VCALENDAR
VERSION:2.0
PRODID:-//Universität Innsbruck//LFU:online//DE
METHOD:PUBLISH
BEGIN:VEVENT
UID:26S_312501_5013680@uibk.ac.at
ORGANIZER;CN="LFU:online Universität Innsbruck":MAILTO:Uni-Innsbruck-noreply@uibk.ac.at
SUMMARY:VO Finanzrecht (LV 312501-0 26S)
DESCRIPTION:Lehrveranstaltung 312501 26S, Gruppe 0\nTitel: VO Finanzrecht\nOrt: Hörsaal G\n\nhttps://lfuonline.uibk.ac.at/public/lfuonline_lv.details?sem_id_in=26S&lvnr_id_in=312501\n
CLASS:PUBLIC
DTSTART:20260312T083000Z
DTEND:20260312T120000Z
DTSTAMP:20260423T230742Z
LOCATION:Hörsaal G
END:VEVENT
BEGIN:VEVENT
UID:26S_312501_5013681@uibk.ac.at
ORGANIZER;CN="LFU:online Universität Innsbruck":MAILTO:Uni-Innsbruck-noreply@uibk.ac.at
SUMMARY:VO Finanzrecht (LV 312501-0 26S)
DESCRIPTION:Lehrveranstaltung 312501 26S, Gruppe 0\nTitel: VO Finanzrecht\nOrt: Hörsaal G\n\nhttps://lfuonline.uibk.ac.at/public/lfuonline_lv.details?sem_id_in=26S&lvnr_id_in=312501\n
CLASS:PUBLIC
DTSTART:20260319T083000Z
DTEND:20260319T120000Z
DTSTAMP:20260423T230742Z
LOCATION:Hörsaal G
END:VEVENT
BEGIN:VEVENT
UID:26S_312501_5013682@uibk.ac.at
ORGANIZER;CN="LFU:online Universität Innsbruck":MAILTO:Uni-Innsbruck-noreply@uibk.ac.at
SUMMARY:VO Finanzrecht (LV 312501-0 26S)
DESCRIPTION:Lehrveranstaltung 312501 26S, Gruppe 0\nTitel: VO Finanzrecht\nOrt: Hörsaal G\n\nhttps://lfuonline.uibk.ac.at/public/lfuonline_lv.details?sem_id_in=26S&lvnr_id_in=312501\n
CLASS:PUBLIC
DTSTART:20260326T083000Z
DTEND:20260326T120000Z
DTSTAMP:20260423T230742Z
LOCATION:Hörsaal G
END:VEVENT
BEGIN:VEVENT
UID:26S_312501_5013684@uibk.ac.at
ORGANIZER;CN="LFU:online Universität Innsbruck":MAILTO:Uni-Innsbruck-noreply@uibk.ac.at
SUMMARY:VO Finanzrecht (LV 312501-0 26S)
DESCRIPTION:Lehrveranstaltung 312501 26S, Gruppe 0\nTitel: VO Finanzrecht\nOrt: Hörsaal G\n\nhttps://lfuonline.uibk.ac.at/public/lfuonline_lv.details?sem_id_in=26S&lvnr_id_in=312501\n
CLASS:PUBLIC
DTSTART:20260409T073000Z
DTEND:20260409T110000Z
DTSTAMP:20260423T230742Z
LOCATION:Hörsaal G
END:VEVENT
BEGIN:VEVENT
UID:26S_312501_5013683@uibk.ac.at
ORGANIZER;CN="LFU:online Universität Innsbruck":MAILTO:Uni-Innsbruck-noreply@uibk.ac.at
SUMMARY:VO Finanzrecht (LV 312501-0 26S)
DESCRIPTION:Lehrveranstaltung 312501 26S, Gruppe 0\nTitel: VO Finanzrecht\nOrt: Hörsaal G\n\nhttps://lfuonline.uibk.ac.at/public/lfuonline_lv.details?sem_id_in=26S&lvnr_id_in=312501\n
CLASS:PUBLIC
DTSTART:20260416T073000Z
DTEND:20260416T110000Z
DTSTAMP:20260423T230742Z
LOCATION:Hörsaal G
END:VEVENT
BEGIN:VEVENT
UID:26S_312501_5084700@uibk.ac.at
ORGANIZER;CN="LFU:online Universität Innsbruck":MAILTO:Uni-Innsbruck-noreply@uibk.ac.at
SUMMARY:VO Finanzrecht (LV 312501-0 26S)
DESCRIPTION:Lehrveranstaltung 312501 26S, Gruppe 0\nTitel: VO Finanzrecht\nOrt: Hörsaal G\n\nhttps://lfuonline.uibk.ac.at/public/lfuonline_lv.details?sem_id_in=26S&lvnr_id_in=312501\n
CLASS:PUBLIC
DTSTART:20260423T101500Z
DTEND:20260423T121500Z
DTSTAMP:20260423T230742Z
LOCATION:Hörsaal G
END:VEVENT
BEGIN:VEVENT
UID:26S_312501_5013686@uibk.ac.at
ORGANIZER;CN="LFU:online Universität Innsbruck":MAILTO:Uni-Innsbruck-noreply@uibk.ac.at
SUMMARY:VO Finanzrecht (LV 312501-0 26S)
DESCRIPTION:Lehrveranstaltung 312501 26S, Gruppe 0\nTitel: VO Finanzrecht\nOrt: Hörsaal G\n\nhttps://lfuonline.uibk.ac.at/public/lfuonline_lv.details?sem_id_in=26S&lvnr_id_in=312501\n
CLASS:PUBLIC
DTSTART:20260507T073000Z
DTEND:20260507T110000Z
DTSTAMP:20260423T230742Z
LOCATION:Hörsaal G
END:VEVENT
BEGIN:VEVENT
UID:26S_312501_5013687@uibk.ac.at
ORGANIZER;CN="LFU:online Universität Innsbruck":MAILTO:Uni-Innsbruck-noreply@uibk.ac.at
SUMMARY:VO Finanzrecht (LV 312501-0 26S)
DESCRIPTION:Lehrveranstaltung 312501 26S, Gruppe 0\nTitel: VO Finanzrecht\nOrt: Hörsaal G\n\nhttps://lfuonline.uibk.ac.at/public/lfuonline_lv.details?sem_id_in=26S&lvnr_id_in=312501\n
CLASS:PUBLIC
DTSTART:20260521T073000Z
DTEND:20260521T110000Z
DTSTAMP:20260423T230742Z
LOCATION:Hörsaal G
END:VEVENT
BEGIN:VEVENT
UID:26S_312501_5013688@uibk.ac.at
ORGANIZER;CN="LFU:online Universität Innsbruck":MAILTO:Uni-Innsbruck-noreply@uibk.ac.at
SUMMARY:VO Finanzrecht (LV 312501-0 26S)
DESCRIPTION:Lehrveranstaltung 312501 26S, Gruppe 0\nTitel: VO Finanzrecht\nOrt: Hörsaal G\n\nhttps://lfuonline.uibk.ac.at/public/lfuonline_lv.details?sem_id_in=26S&lvnr_id_in=312501\n
CLASS:PUBLIC
DTSTART:20260528T073000Z
DTEND:20260528T110000Z
DTSTAMP:20260423T230742Z
LOCATION:Hörsaal G
END:VEVENT
BEGIN:VEVENT
UID:26S_312501_5013689@uibk.ac.at
ORGANIZER;CN="LFU:online Universität Innsbruck":MAILTO:Uni-Innsbruck-noreply@uibk.ac.at
SUMMARY:VO Finanzrecht (LV 312501-0 26S)
DESCRIPTION:Lehrveranstaltung 312501 26S, Gruppe 0\nTitel: VO Finanzrecht\nOrt: Hörsaal G\n\nhttps://lfuonline.uibk.ac.at/public/lfuonline_lv.details?sem_id_in=26S&lvnr_id_in=312501\n
CLASS:PUBLIC
DTSTART:20260611T073000Z
DTEND:20260611T110000Z
DTSTAMP:20260423T230742Z
LOCATION:Hörsaal G
END:VEVENT
END:VCALENDAR