BEGIN:VCALENDAR
VERSION:2.0
PRODID:-//Universität Innsbruck//LFU:online//DE
METHOD:PUBLISH
BEGIN:VEVENT
UID:14S_312502_2227287@uibk.ac.at
ORGANIZER;CN="LFU:online Universität Innsbruck":MAILTO:Uni-Innsbruck-noreply@uibk.ac.at
SUMMARY:Umsatzsteuer und sonstige Verkehrsteuern (LV 312502-0 14S)
DESCRIPTION:Lehrveranstaltung 312502 14S, Gruppe 0\nTitel: Umsatzsteuer und sonstige Verkehrsteuern\nOrt: Hörsaal 1, Josef-Moeller-Haus\n\nhttps://lfuonline.uibk.ac.at/public/lfuonline_lv.details?sem_id_in=14S&lvnr_id_in=312502\n
CLASS:PUBLIC
DTSTART:20140310T090000Z
DTEND:20140310T103000Z
DTSTAMP:20260419T150826Z
LOCATION:Hörsaal 1, Josef-Moeller-Haus
END:VEVENT
BEGIN:VEVENT
UID:14S_312502_2227329@uibk.ac.at
ORGANIZER;CN="LFU:online Universität Innsbruck":MAILTO:Uni-Innsbruck-noreply@uibk.ac.at
SUMMARY:Umsatzsteuer und sonstige Verkehrsteuern (LV 312502-0 14S)
DESCRIPTION:Lehrveranstaltung 312502 14S, Gruppe 0\nTitel: Umsatzsteuer und sonstige Verkehrsteuern\nOrt: Hörsaal 1, Josef-Moeller-Haus\n\nhttps://lfuonline.uibk.ac.at/public/lfuonline_lv.details?sem_id_in=14S&lvnr_id_in=312502\n
CLASS:PUBLIC
DTSTART:20140310T110000Z
DTEND:20140310T123000Z
DTSTAMP:20260419T150826Z
LOCATION:Hörsaal 1, Josef-Moeller-Haus
END:VEVENT
BEGIN:VEVENT
UID:14S_312502_2227288@uibk.ac.at
ORGANIZER;CN="LFU:online Universität Innsbruck":MAILTO:Uni-Innsbruck-noreply@uibk.ac.at
SUMMARY:Umsatzsteuer und sonstige Verkehrsteuern (LV 312502-0 14S)
DESCRIPTION:Lehrveranstaltung 312502 14S, Gruppe 0\nTitel: Umsatzsteuer und sonstige Verkehrsteuern\nOrt: Hörsaal 1, Josef-Moeller-Haus\n\nhttps://lfuonline.uibk.ac.at/public/lfuonline_lv.details?sem_id_in=14S&lvnr_id_in=312502\n
CLASS:PUBLIC
DTSTART:20140324T090000Z
DTEND:20140324T103000Z
DTSTAMP:20260419T150826Z
LOCATION:Hörsaal 1, Josef-Moeller-Haus
END:VEVENT
BEGIN:VEVENT
UID:14S_312502_2227330@uibk.ac.at
ORGANIZER;CN="LFU:online Universität Innsbruck":MAILTO:Uni-Innsbruck-noreply@uibk.ac.at
SUMMARY:Umsatzsteuer und sonstige Verkehrsteuern (LV 312502-0 14S)
DESCRIPTION:Lehrveranstaltung 312502 14S, Gruppe 0\nTitel: Umsatzsteuer und sonstige Verkehrsteuern\nOrt: Hörsaal 1, Josef-Moeller-Haus\n\nhttps://lfuonline.uibk.ac.at/public/lfuonline_lv.details?sem_id_in=14S&lvnr_id_in=312502\n
CLASS:PUBLIC
DTSTART:20140324T110000Z
DTEND:20140324T123000Z
DTSTAMP:20260419T150826Z
LOCATION:Hörsaal 1, Josef-Moeller-Haus
END:VEVENT
BEGIN:VEVENT
UID:14S_312502_2227289@uibk.ac.at
ORGANIZER;CN="LFU:online Universität Innsbruck":MAILTO:Uni-Innsbruck-noreply@uibk.ac.at
SUMMARY:Umsatzsteuer und sonstige Verkehrsteuern (LV 312502-0 14S)
DESCRIPTION:Lehrveranstaltung 312502 14S, Gruppe 0\nTitel: Umsatzsteuer und sonstige Verkehrsteuern\nOrt: Hörsaal 1, Josef-Moeller-Haus\n\nhttps://lfuonline.uibk.ac.at/public/lfuonline_lv.details?sem_id_in=14S&lvnr_id_in=312502\n
CLASS:PUBLIC
DTSTART:20140407T080000Z
DTEND:20140407T093000Z
DTSTAMP:20260419T150826Z
LOCATION:Hörsaal 1, Josef-Moeller-Haus
END:VEVENT
BEGIN:VEVENT
UID:14S_312502_2227331@uibk.ac.at
ORGANIZER;CN="LFU:online Universität Innsbruck":MAILTO:Uni-Innsbruck-noreply@uibk.ac.at
SUMMARY:Umsatzsteuer und sonstige Verkehrsteuern (LV 312502-0 14S)
DESCRIPTION:Lehrveranstaltung 312502 14S, Gruppe 0\nTitel: Umsatzsteuer und sonstige Verkehrsteuern\nOrt: Hörsaal 1, Josef-Moeller-Haus\n\nhttps://lfuonline.uibk.ac.at/public/lfuonline_lv.details?sem_id_in=14S&lvnr_id_in=312502\n
CLASS:PUBLIC
DTSTART:20140407T100000Z
DTEND:20140407T113000Z
DTSTAMP:20260419T150826Z
LOCATION:Hörsaal 1, Josef-Moeller-Haus
END:VEVENT
BEGIN:VEVENT
UID:14S_312502_2227290@uibk.ac.at
ORGANIZER;CN="LFU:online Universität Innsbruck":MAILTO:Uni-Innsbruck-noreply@uibk.ac.at
SUMMARY:Umsatzsteuer und sonstige Verkehrsteuern (LV 312502-0 14S)
DESCRIPTION:Lehrveranstaltung 312502 14S, Gruppe 0\nTitel: Umsatzsteuer und sonstige Verkehrsteuern\nOrt: Hörsaal 1, Josef-Moeller-Haus\n\nhttps://lfuonline.uibk.ac.at/public/lfuonline_lv.details?sem_id_in=14S&lvnr_id_in=312502\n
CLASS:PUBLIC
DTSTART:20140428T080000Z
DTEND:20140428T093000Z
DTSTAMP:20260419T150826Z
LOCATION:Hörsaal 1, Josef-Moeller-Haus
END:VEVENT
BEGIN:VEVENT
UID:14S_312502_2227332@uibk.ac.at
ORGANIZER;CN="LFU:online Universität Innsbruck":MAILTO:Uni-Innsbruck-noreply@uibk.ac.at
SUMMARY:Umsatzsteuer und sonstige Verkehrsteuern (LV 312502-0 14S)
DESCRIPTION:Lehrveranstaltung 312502 14S, Gruppe 0\nTitel: Umsatzsteuer und sonstige Verkehrsteuern\nOrt: Hörsaal 1, Josef-Moeller-Haus\n\nhttps://lfuonline.uibk.ac.at/public/lfuonline_lv.details?sem_id_in=14S&lvnr_id_in=312502\n
CLASS:PUBLIC
DTSTART:20140428T100000Z
DTEND:20140428T113000Z
DTSTAMP:20260419T150826Z
LOCATION:Hörsaal 1, Josef-Moeller-Haus
END:VEVENT
BEGIN:VEVENT
UID:14S_312502_2227291@uibk.ac.at
ORGANIZER;CN="LFU:online Universität Innsbruck":MAILTO:Uni-Innsbruck-noreply@uibk.ac.at
SUMMARY:Umsatzsteuer und sonstige Verkehrsteuern (LV 312502-0 14S)
DESCRIPTION:Lehrveranstaltung 312502 14S, Gruppe 0\nTitel: Umsatzsteuer und sonstige Verkehrsteuern\nOrt: Hörsaal 1, Josef-Moeller-Haus\n\nhttps://lfuonline.uibk.ac.at/public/lfuonline_lv.details?sem_id_in=14S&lvnr_id_in=312502\n
CLASS:PUBLIC
DTSTART:20140512T080000Z
DTEND:20140512T093000Z
DTSTAMP:20260419T150826Z
LOCATION:Hörsaal 1, Josef-Moeller-Haus
END:VEVENT
BEGIN:VEVENT
UID:14S_312502_2227333@uibk.ac.at
ORGANIZER;CN="LFU:online Universität Innsbruck":MAILTO:Uni-Innsbruck-noreply@uibk.ac.at
SUMMARY:Umsatzsteuer und sonstige Verkehrsteuern (LV 312502-0 14S)
DESCRIPTION:Lehrveranstaltung 312502 14S, Gruppe 0\nTitel: Umsatzsteuer und sonstige Verkehrsteuern\nOrt: Hörsaal 1, Josef-Moeller-Haus\n\nhttps://lfuonline.uibk.ac.at/public/lfuonline_lv.details?sem_id_in=14S&lvnr_id_in=312502\n
CLASS:PUBLIC
DTSTART:20140512T100000Z
DTEND:20140512T113000Z
DTSTAMP:20260419T150826Z
LOCATION:Hörsaal 1, Josef-Moeller-Haus
END:VEVENT
BEGIN:VEVENT
UID:14S_312502_2227292@uibk.ac.at
ORGANIZER;CN="LFU:online Universität Innsbruck":MAILTO:Uni-Innsbruck-noreply@uibk.ac.at
SUMMARY:Umsatzsteuer und sonstige Verkehrsteuern (LV 312502-0 14S)
DESCRIPTION:Lehrveranstaltung 312502 14S, Gruppe 0\nTitel: Umsatzsteuer und sonstige Verkehrsteuern\nOrt: Hörsaal 1, Josef-Moeller-Haus\n\nhttps://lfuonline.uibk.ac.at/public/lfuonline_lv.details?sem_id_in=14S&lvnr_id_in=312502\n
CLASS:PUBLIC
DTSTART:20140526T080000Z
DTEND:20140526T093000Z
DTSTAMP:20260419T150826Z
LOCATION:Hörsaal 1, Josef-Moeller-Haus
END:VEVENT
BEGIN:VEVENT
UID:14S_312502_2227334@uibk.ac.at
ORGANIZER;CN="LFU:online Universität Innsbruck":MAILTO:Uni-Innsbruck-noreply@uibk.ac.at
SUMMARY:Umsatzsteuer und sonstige Verkehrsteuern (LV 312502-0 14S)
DESCRIPTION:Lehrveranstaltung 312502 14S, Gruppe 0\nTitel: Umsatzsteuer und sonstige Verkehrsteuern\nOrt: Hörsaal 1, Josef-Moeller-Haus\n\nhttps://lfuonline.uibk.ac.at/public/lfuonline_lv.details?sem_id_in=14S&lvnr_id_in=312502\n
CLASS:PUBLIC
DTSTART:20140526T100000Z
DTEND:20140526T113000Z
DTSTAMP:20260419T150826Z
LOCATION:Hörsaal 1, Josef-Moeller-Haus
END:VEVENT
BEGIN:VEVENT
UID:14S_312502_2288960@uibk.ac.at
ORGANIZER;CN="LFU:online Universität Innsbruck":MAILTO:Uni-Innsbruck-noreply@uibk.ac.at
SUMMARY:Umsatzsteuer und sonstige Verkehrsteuern (LV 312502-0 14S)
DESCRIPTION:Lehrveranstaltung 312502 14S, Gruppe 0\nTitel: Umsatzsteuer und sonstige Verkehrsteuern\nOrt: UNO Saal\n\nhttps://lfuonline.uibk.ac.at/public/lfuonline_lv.details?sem_id_in=14S&lvnr_id_in=312502\n
CLASS:PUBLIC
DTSTART:20140602T080000Z
DTEND:20140602T093000Z
DTSTAMP:20260419T150826Z
LOCATION:UNO Saal
END:VEVENT
BEGIN:VEVENT
UID:14S_312502_2288961@uibk.ac.at
ORGANIZER;CN="LFU:online Universität Innsbruck":MAILTO:Uni-Innsbruck-noreply@uibk.ac.at
SUMMARY:Umsatzsteuer und sonstige Verkehrsteuern (LV 312502-0 14S)
DESCRIPTION:Lehrveranstaltung 312502 14S, Gruppe 0\nTitel: Umsatzsteuer und sonstige Verkehrsteuern\nOrt: UNO Saal\n\nhttps://lfuonline.uibk.ac.at/public/lfuonline_lv.details?sem_id_in=14S&lvnr_id_in=312502\n
CLASS:PUBLIC
DTSTART:20140602T100000Z
DTEND:20140602T113000Z
DTSTAMP:20260419T150826Z
LOCATION:UNO Saal
END:VEVENT
BEGIN:VEVENT
UID:14S_312502_2227293@uibk.ac.at
ORGANIZER;CN="LFU:online Universität Innsbruck":MAILTO:Uni-Innsbruck-noreply@uibk.ac.at
SUMMARY:Umsatzsteuer und sonstige Verkehrsteuern (LV 312502-0 14S)
DESCRIPTION:Lehrveranstaltung 312502 14S, Gruppe 0\nTitel: Umsatzsteuer und sonstige Verkehrsteuern\nOrt: Hörsaal 1, Josef-Moeller-Haus\n\nhttps://lfuonline.uibk.ac.at/public/lfuonline_lv.details?sem_id_in=14S&lvnr_id_in=312502\n
CLASS:PUBLIC
DTSTART:20140616T080000Z
DTEND:20140616T093000Z
DTSTAMP:20260419T150826Z
LOCATION:Hörsaal 1, Josef-Moeller-Haus
END:VEVENT
BEGIN:VEVENT
UID:14S_312502_2227335@uibk.ac.at
ORGANIZER;CN="LFU:online Universität Innsbruck":MAILTO:Uni-Innsbruck-noreply@uibk.ac.at
SUMMARY:Umsatzsteuer und sonstige Verkehrsteuern (LV 312502-0 14S)
DESCRIPTION:Lehrveranstaltung 312502 14S, Gruppe 0\nTitel: Umsatzsteuer und sonstige Verkehrsteuern\nOrt: Hörsaal 1, Josef-Moeller-Haus\n\nhttps://lfuonline.uibk.ac.at/public/lfuonline_lv.details?sem_id_in=14S&lvnr_id_in=312502\n
CLASS:PUBLIC
DTSTART:20140616T100000Z
DTEND:20140616T113000Z
DTSTAMP:20260419T150826Z
LOCATION:Hörsaal 1, Josef-Moeller-Haus
END:VEVENT
END:VCALENDAR