BEGIN:VCALENDAR
VERSION:2.0
PRODID:-//Universität Innsbruck//LFU:online//DE
METHOD:PUBLISH
BEGIN:VEVENT
UID:26S_312502_4910496@uibk.ac.at
ORGANIZER;CN="LFU:online Universität Innsbruck":MAILTO:Uni-Innsbruck-noreply@uibk.ac.at
SUMMARY:UE Übung aus Finanzrecht: Einkommensteuerrecht (LV 312502-0 26S)
DESCRIPTION:Lehrveranstaltung 312502 26S, Gruppe 0\nTitel: UE Übung aus Finanzrecht: Einkommensteuerrecht\nOrt: Hörsaal G\n\nhttps://lfuonline.uibk.ac.at/public/lfuonline_lv.details?sem_id_in=26S&lvnr_id_in=312502\n
CLASS:PUBLIC
DTSTART:20260309T170000Z
DTEND:20260309T183000Z
DTSTAMP:20260423T230646Z
LOCATION:Hörsaal G
END:VEVENT
BEGIN:VEVENT
UID:26S_312502_4910497@uibk.ac.at
ORGANIZER;CN="LFU:online Universität Innsbruck":MAILTO:Uni-Innsbruck-noreply@uibk.ac.at
SUMMARY:UE Übung aus Finanzrecht: Einkommensteuerrecht (LV 312502-0 26S)
DESCRIPTION:Lehrveranstaltung 312502 26S, Gruppe 0\nTitel: UE Übung aus Finanzrecht: Einkommensteuerrecht\nOrt: Hörsaal G\n\nhttps://lfuonline.uibk.ac.at/public/lfuonline_lv.details?sem_id_in=26S&lvnr_id_in=312502\n
CLASS:PUBLIC
DTSTART:20260316T170000Z
DTEND:20260316T183000Z
DTSTAMP:20260423T230646Z
LOCATION:Hörsaal G
END:VEVENT
BEGIN:VEVENT
UID:26S_312502_4910498@uibk.ac.at
ORGANIZER;CN="LFU:online Universität Innsbruck":MAILTO:Uni-Innsbruck-noreply@uibk.ac.at
SUMMARY:UE Übung aus Finanzrecht: Einkommensteuerrecht (LV 312502-0 26S)
DESCRIPTION:Lehrveranstaltung 312502 26S, Gruppe 0\nTitel: UE Übung aus Finanzrecht: Einkommensteuerrecht\nOrt: Hörsaal G\n\nhttps://lfuonline.uibk.ac.at/public/lfuonline_lv.details?sem_id_in=26S&lvnr_id_in=312502\n
CLASS:PUBLIC
DTSTART:20260323T170000Z
DTEND:20260323T183000Z
DTSTAMP:20260423T230646Z
LOCATION:Hörsaal G
END:VEVENT
BEGIN:VEVENT
UID:26S_312502_4910499@uibk.ac.at
ORGANIZER;CN="LFU:online Universität Innsbruck":MAILTO:Uni-Innsbruck-noreply@uibk.ac.at
SUMMARY:UE Übung aus Finanzrecht: Einkommensteuerrecht (LV 312502-0 26S)
DESCRIPTION:Lehrveranstaltung 312502 26S, Gruppe 0\nTitel: UE Übung aus Finanzrecht: Einkommensteuerrecht\nOrt: Hörsaal G\n\nhttps://lfuonline.uibk.ac.at/public/lfuonline_lv.details?sem_id_in=26S&lvnr_id_in=312502\n
CLASS:PUBLIC
DTSTART:20260413T160000Z
DTEND:20260413T173000Z
DTSTAMP:20260423T230646Z
LOCATION:Hörsaal G
END:VEVENT
BEGIN:VEVENT
UID:26S_312502_4910500@uibk.ac.at
ORGANIZER;CN="LFU:online Universität Innsbruck":MAILTO:Uni-Innsbruck-noreply@uibk.ac.at
SUMMARY:UE Übung aus Finanzrecht: Einkommensteuerrecht (LV 312502-0 26S)
DESCRIPTION:Lehrveranstaltung 312502 26S, Gruppe 0\nTitel: UE Übung aus Finanzrecht: Einkommensteuerrecht\nOrt: Hörsaal G\n\nhttps://lfuonline.uibk.ac.at/public/lfuonline_lv.details?sem_id_in=26S&lvnr_id_in=312502\n
CLASS:PUBLIC
DTSTART:20260420T160000Z
DTEND:20260420T173000Z
DTSTAMP:20260423T230646Z
LOCATION:Hörsaal G
END:VEVENT
BEGIN:VEVENT
UID:26S_312502_4910501@uibk.ac.at
ORGANIZER;CN="LFU:online Universität Innsbruck":MAILTO:Uni-Innsbruck-noreply@uibk.ac.at
SUMMARY:UE Übung aus Finanzrecht: Einkommensteuerrecht (LV 312502-0 26S)
DESCRIPTION:Lehrveranstaltung 312502 26S, Gruppe 0\nTitel: UE Übung aus Finanzrecht: Einkommensteuerrecht\nOrt: Hörsaal G\n\nhttps://lfuonline.uibk.ac.at/public/lfuonline_lv.details?sem_id_in=26S&lvnr_id_in=312502\n
CLASS:PUBLIC
DTSTART:20260427T160000Z
DTEND:20260427T173000Z
DTSTAMP:20260423T230646Z
LOCATION:Hörsaal G
END:VEVENT
BEGIN:VEVENT
UID:26S_312502_4910502@uibk.ac.at
ORGANIZER;CN="LFU:online Universität Innsbruck":MAILTO:Uni-Innsbruck-noreply@uibk.ac.at
SUMMARY:UE Übung aus Finanzrecht: Einkommensteuerrecht (LV 312502-0 26S)
DESCRIPTION:Lehrveranstaltung 312502 26S, Gruppe 0\nTitel: UE Übung aus Finanzrecht: Einkommensteuerrecht\nOrt: Hörsaal G\n\nhttps://lfuonline.uibk.ac.at/public/lfuonline_lv.details?sem_id_in=26S&lvnr_id_in=312502\n
CLASS:PUBLIC
DTSTART:20260504T160000Z
DTEND:20260504T173000Z
DTSTAMP:20260423T230646Z
LOCATION:Hörsaal G
END:VEVENT
BEGIN:VEVENT
UID:26S_312502_4910503@uibk.ac.at
ORGANIZER;CN="LFU:online Universität Innsbruck":MAILTO:Uni-Innsbruck-noreply@uibk.ac.at
SUMMARY:UE Übung aus Finanzrecht: Einkommensteuerrecht (LV 312502-0 26S)
DESCRIPTION:Lehrveranstaltung 312502 26S, Gruppe 0\nTitel: UE Übung aus Finanzrecht: Einkommensteuerrecht\nOrt: Hörsaal G\n\nhttps://lfuonline.uibk.ac.at/public/lfuonline_lv.details?sem_id_in=26S&lvnr_id_in=312502\n
CLASS:PUBLIC
DTSTART:20260511T160000Z
DTEND:20260511T173000Z
DTSTAMP:20260423T230646Z
LOCATION:Hörsaal G
END:VEVENT
BEGIN:VEVENT
UID:26S_312502_4910504@uibk.ac.at
ORGANIZER;CN="LFU:online Universität Innsbruck":MAILTO:Uni-Innsbruck-noreply@uibk.ac.at
SUMMARY:UE Übung aus Finanzrecht: Einkommensteuerrecht (LV 312502-0 26S)
DESCRIPTION:Lehrveranstaltung 312502 26S, Gruppe 0\nTitel: UE Übung aus Finanzrecht: Einkommensteuerrecht\nOrt: Hörsaal G\n\nhttps://lfuonline.uibk.ac.at/public/lfuonline_lv.details?sem_id_in=26S&lvnr_id_in=312502\n
CLASS:PUBLIC
DTSTART:20260518T160000Z
DTEND:20260518T173000Z
DTSTAMP:20260423T230646Z
LOCATION:Hörsaal G
END:VEVENT
BEGIN:VEVENT
UID:26S_312502_4910505@uibk.ac.at
ORGANIZER;CN="LFU:online Universität Innsbruck":MAILTO:Uni-Innsbruck-noreply@uibk.ac.at
SUMMARY:UE Übung aus Finanzrecht: Einkommensteuerrecht (LV 312502-0 26S)
DESCRIPTION:Lehrveranstaltung 312502 26S, Gruppe 0\nTitel: UE Übung aus Finanzrecht: Einkommensteuerrecht\nOrt: Hörsaal G\n\nhttps://lfuonline.uibk.ac.at/public/lfuonline_lv.details?sem_id_in=26S&lvnr_id_in=312502\n
CLASS:PUBLIC
DTSTART:20260601T160000Z
DTEND:20260601T173000Z
DTSTAMP:20260423T230646Z
LOCATION:Hörsaal G
END:VEVENT
BEGIN:VEVENT
UID:26S_312502_4910506@uibk.ac.at
ORGANIZER;CN="LFU:online Universität Innsbruck":MAILTO:Uni-Innsbruck-noreply@uibk.ac.at
SUMMARY:UE Übung aus Finanzrecht: Einkommensteuerrecht (LV 312502-0 26S)
DESCRIPTION:Lehrveranstaltung 312502 26S, Gruppe 0\nTitel: UE Übung aus Finanzrecht: Einkommensteuerrecht\nOrt: Hörsaal G\n\nhttps://lfuonline.uibk.ac.at/public/lfuonline_lv.details?sem_id_in=26S&lvnr_id_in=312502\n
CLASS:PUBLIC
DTSTART:20260608T160000Z
DTEND:20260608T173000Z
DTSTAMP:20260423T230646Z
LOCATION:Hörsaal G
END:VEVENT
BEGIN:VEVENT
UID:26S_312502_4910507@uibk.ac.at
ORGANIZER;CN="LFU:online Universität Innsbruck":MAILTO:Uni-Innsbruck-noreply@uibk.ac.at
SUMMARY:UE Übung aus Finanzrecht: Einkommensteuerrecht (LV 312502-0 26S)
DESCRIPTION:Lehrveranstaltung 312502 26S, Gruppe 0\nTitel: UE Übung aus Finanzrecht: Einkommensteuerrecht\nOrt: Hörsaal G\n\nhttps://lfuonline.uibk.ac.at/public/lfuonline_lv.details?sem_id_in=26S&lvnr_id_in=312502\n
CLASS:PUBLIC
DTSTART:20260615T160000Z
DTEND:20260615T173000Z
DTSTAMP:20260423T230646Z
LOCATION:Hörsaal G
END:VEVENT
BEGIN:VEVENT
UID:26S_312502_4910508@uibk.ac.at
ORGANIZER;CN="LFU:online Universität Innsbruck":MAILTO:Uni-Innsbruck-noreply@uibk.ac.at
SUMMARY:UE Übung aus Finanzrecht: Einkommensteuerrecht (LV 312502-0 26S)
DESCRIPTION:Lehrveranstaltung 312502 26S, Gruppe 0\nTitel: UE Übung aus Finanzrecht: Einkommensteuerrecht\nOrt: Hörsaal G\n\nhttps://lfuonline.uibk.ac.at/public/lfuonline_lv.details?sem_id_in=26S&lvnr_id_in=312502\n
CLASS:PUBLIC
DTSTART:20260622T160000Z
DTEND:20260622T173000Z
DTSTAMP:20260423T230646Z
LOCATION:Hörsaal G
END:VEVENT
END:VCALENDAR