BEGIN:VCALENDAR
VERSION:2.0
PRODID:-//Universität Innsbruck//LFU:online//DE
METHOD:PUBLISH
BEGIN:VEVENT
UID:26S_312503_4993581@uibk.ac.at
ORGANIZER;CN="LFU:online Universität Innsbruck":MAILTO:Uni-Innsbruck-noreply@uibk.ac.at
SUMMARY:UE Übung aus Finanzrecht: Körperschaftsteuer (LV 312503-0 26S)
DESCRIPTION:Lehrveranstaltung 312503 26S, Gruppe 0\nTitel: UE Übung aus Finanzrecht: Körperschaftsteuer\nOrt: Hörsaal B\n\nhttps://lfuonline.uibk.ac.at/public/lfuonline_lv.details?sem_id_in=26S&lvnr_id_in=312503\n
CLASS:PUBLIC
DTSTART:20260312T143000Z
DTEND:20260312T160000Z
DTSTAMP:20260423T230828Z
LOCATION:Hörsaal B
END:VEVENT
BEGIN:VEVENT
UID:26S_312503_4993595@uibk.ac.at
ORGANIZER;CN="LFU:online Universität Innsbruck":MAILTO:Uni-Innsbruck-noreply@uibk.ac.at
SUMMARY:UE Übung aus Finanzrecht: Körperschaftsteuer (LV 312503-0 26S)
DESCRIPTION:Lehrveranstaltung 312503 26S, Gruppe 0\nTitel: UE Übung aus Finanzrecht: Körperschaftsteuer\nOrt: Hörsaal B\n\nhttps://lfuonline.uibk.ac.at/public/lfuonline_lv.details?sem_id_in=26S&lvnr_id_in=312503\n
CLASS:PUBLIC
DTSTART:20260319T143000Z
DTEND:20260319T160000Z
DTSTAMP:20260423T230828Z
LOCATION:Hörsaal B
END:VEVENT
BEGIN:VEVENT
UID:26S_312503_4993570@uibk.ac.at
ORGANIZER;CN="LFU:online Universität Innsbruck":MAILTO:Uni-Innsbruck-noreply@uibk.ac.at
SUMMARY:UE Übung aus Finanzrecht: Körperschaftsteuer (LV 312503-0 26S)
DESCRIPTION:Lehrveranstaltung 312503 26S, Gruppe 0\nTitel: UE Übung aus Finanzrecht: Körperschaftsteuer\nOrt: Hörsaal B\n\nhttps://lfuonline.uibk.ac.at/public/lfuonline_lv.details?sem_id_in=26S&lvnr_id_in=312503\n
CLASS:PUBLIC
DTSTART:20260326T143000Z
DTEND:20260326T160000Z
DTSTAMP:20260423T230828Z
LOCATION:Hörsaal B
END:VEVENT
BEGIN:VEVENT
UID:26S_312503_4993571@uibk.ac.at
ORGANIZER;CN="LFU:online Universität Innsbruck":MAILTO:Uni-Innsbruck-noreply@uibk.ac.at
SUMMARY:UE Übung aus Finanzrecht: Körperschaftsteuer (LV 312503-0 26S)
DESCRIPTION:Lehrveranstaltung 312503 26S, Gruppe 0\nTitel: UE Übung aus Finanzrecht: Körperschaftsteuer\nOrt: Hörsaal B\n\nhttps://lfuonline.uibk.ac.at/public/lfuonline_lv.details?sem_id_in=26S&lvnr_id_in=312503\n
CLASS:PUBLIC
DTSTART:20260416T133000Z
DTEND:20260416T150000Z
DTSTAMP:20260423T230828Z
LOCATION:Hörsaal B
END:VEVENT
BEGIN:VEVENT
UID:26S_312503_4993585@uibk.ac.at
ORGANIZER;CN="LFU:online Universität Innsbruck":MAILTO:Uni-Innsbruck-noreply@uibk.ac.at
SUMMARY:UE Übung aus Finanzrecht: Körperschaftsteuer (LV 312503-0 26S)
DESCRIPTION:Lehrveranstaltung 312503 26S, Gruppe 0\nTitel: UE Übung aus Finanzrecht: Körperschaftsteuer\nOrt: Hörsaal B\n\nhttps://lfuonline.uibk.ac.at/public/lfuonline_lv.details?sem_id_in=26S&lvnr_id_in=312503\n
CLASS:PUBLIC
DTSTART:20260423T133000Z
DTEND:20260423T150000Z
DTSTAMP:20260423T230828Z
LOCATION:Hörsaal B
END:VEVENT
BEGIN:VEVENT
UID:26S_312503_4993573@uibk.ac.at
ORGANIZER;CN="LFU:online Universität Innsbruck":MAILTO:Uni-Innsbruck-noreply@uibk.ac.at
SUMMARY:UE Übung aus Finanzrecht: Körperschaftsteuer (LV 312503-0 26S)
DESCRIPTION:Lehrveranstaltung 312503 26S, Gruppe 0\nTitel: UE Übung aus Finanzrecht: Körperschaftsteuer\nOrt: Hörsaal B\n\nhttps://lfuonline.uibk.ac.at/public/lfuonline_lv.details?sem_id_in=26S&lvnr_id_in=312503\n
CLASS:PUBLIC
DTSTART:20260430T133000Z
DTEND:20260430T150000Z
DTSTAMP:20260423T230828Z
LOCATION:Hörsaal B
END:VEVENT
BEGIN:VEVENT
UID:26S_312503_4993600@uibk.ac.at
ORGANIZER;CN="LFU:online Universität Innsbruck":MAILTO:Uni-Innsbruck-noreply@uibk.ac.at
SUMMARY:UE Übung aus Finanzrecht: Körperschaftsteuer (LV 312503-0 26S)
DESCRIPTION:Lehrveranstaltung 312503 26S, Gruppe 0\nTitel: UE Übung aus Finanzrecht: Körperschaftsteuer\nOrt: Hörsaal B\n\nhttps://lfuonline.uibk.ac.at/public/lfuonline_lv.details?sem_id_in=26S&lvnr_id_in=312503\n
CLASS:PUBLIC
DTSTART:20260507T133000Z
DTEND:20260507T150000Z
DTSTAMP:20260423T230828Z
LOCATION:Hörsaal B
END:VEVENT
BEGIN:VEVENT
UID:26S_312503_4993601@uibk.ac.at
ORGANIZER;CN="LFU:online Universität Innsbruck":MAILTO:Uni-Innsbruck-noreply@uibk.ac.at
SUMMARY:UE Übung aus Finanzrecht: Körperschaftsteuer (LV 312503-0 26S)
DESCRIPTION:Lehrveranstaltung 312503 26S, Gruppe 0\nTitel: UE Übung aus Finanzrecht: Körperschaftsteuer\nOrt: Hörsaal B\n\nhttps://lfuonline.uibk.ac.at/public/lfuonline_lv.details?sem_id_in=26S&lvnr_id_in=312503\n
CLASS:PUBLIC
DTSTART:20260521T133000Z
DTEND:20260521T150000Z
DTSTAMP:20260423T230828Z
LOCATION:Hörsaal B
END:VEVENT
BEGIN:VEVENT
UID:26S_312503_4993602@uibk.ac.at
ORGANIZER;CN="LFU:online Universität Innsbruck":MAILTO:Uni-Innsbruck-noreply@uibk.ac.at
SUMMARY:UE Übung aus Finanzrecht: Körperschaftsteuer (LV 312503-0 26S)
DESCRIPTION:Lehrveranstaltung 312503 26S, Gruppe 0\nTitel: UE Übung aus Finanzrecht: Körperschaftsteuer\nOrt: Hörsaal B\n\nhttps://lfuonline.uibk.ac.at/public/lfuonline_lv.details?sem_id_in=26S&lvnr_id_in=312503\n
CLASS:PUBLIC
DTSTART:20260528T133000Z
DTEND:20260528T150000Z
DTSTAMP:20260423T230828Z
LOCATION:Hörsaal B
END:VEVENT
BEGIN:VEVENT
UID:26S_312503_4993603@uibk.ac.at
ORGANIZER;CN="LFU:online Universität Innsbruck":MAILTO:Uni-Innsbruck-noreply@uibk.ac.at
SUMMARY:UE Übung aus Finanzrecht: Körperschaftsteuer (LV 312503-0 26S)
DESCRIPTION:Lehrveranstaltung 312503 26S, Gruppe 0\nTitel: UE Übung aus Finanzrecht: Körperschaftsteuer\nOrt: Hörsaal B\n\nhttps://lfuonline.uibk.ac.at/public/lfuonline_lv.details?sem_id_in=26S&lvnr_id_in=312503\n
CLASS:PUBLIC
DTSTART:20260611T133000Z
DTEND:20260611T150000Z
DTSTAMP:20260423T230828Z
LOCATION:Hörsaal B
END:VEVENT
BEGIN:VEVENT
UID:26S_312503_4993604@uibk.ac.at
ORGANIZER;CN="LFU:online Universität Innsbruck":MAILTO:Uni-Innsbruck-noreply@uibk.ac.at
SUMMARY:UE Übung aus Finanzrecht: Körperschaftsteuer (LV 312503-0 26S)
DESCRIPTION:Lehrveranstaltung 312503 26S, Gruppe 0\nTitel: UE Übung aus Finanzrecht: Körperschaftsteuer\nOrt: Hörsaal B\n\nhttps://lfuonline.uibk.ac.at/public/lfuonline_lv.details?sem_id_in=26S&lvnr_id_in=312503\n
CLASS:PUBLIC
DTSTART:20260618T133000Z
DTEND:20260618T150000Z
DTSTAMP:20260423T230828Z
LOCATION:Hörsaal B
END:VEVENT
BEGIN:VEVENT
UID:26S_312503_4993592@uibk.ac.at
ORGANIZER;CN="LFU:online Universität Innsbruck":MAILTO:Uni-Innsbruck-noreply@uibk.ac.at
SUMMARY:UE Übung aus Finanzrecht: Körperschaftsteuer (LV 312503-0 26S)
DESCRIPTION:Lehrveranstaltung 312503 26S, Gruppe 0\nTitel: UE Übung aus Finanzrecht: Körperschaftsteuer\nOrt: Hörsaal B\n\nhttps://lfuonline.uibk.ac.at/public/lfuonline_lv.details?sem_id_in=26S&lvnr_id_in=312503\n
CLASS:PUBLIC
DTSTART:20260625T133000Z
DTEND:20260625T150000Z
DTSTAMP:20260423T230828Z
LOCATION:Hörsaal B
END:VEVENT
END:VCALENDAR