BEGIN:VCALENDAR
VERSION:2.0
PRODID:-//Universität Innsbruck//LFU:online//DE
METHOD:PUBLISH
BEGIN:VEVENT
UID:14S_312505_2216541@uibk.ac.at
ORGANIZER;CN="LFU:online Universität Innsbruck":MAILTO:Uni-Innsbruck-noreply@uibk.ac.at
SUMMARY:Umsatzsteuer und sonstige Verkehrsteuern (LV 312505-0 14S)
DESCRIPTION:Lehrveranstaltung 312505 14S, Gruppe 0\nTitel: Umsatzsteuer und sonstige Verkehrsteuern\nOrt: Hörsaal G\n\nhttps://lfuonline.uibk.ac.at/public/lfuonline_lv.details?sem_id_in=14S&lvnr_id_in=312505\n
CLASS:PUBLIC
DTSTART:20140314T100000Z
DTEND:20140314T113000Z
DTSTAMP:20260419T211504Z
LOCATION:Hörsaal G
END:VEVENT
BEGIN:VEVENT
UID:14S_312505_2216542@uibk.ac.at
ORGANIZER;CN="LFU:online Universität Innsbruck":MAILTO:Uni-Innsbruck-noreply@uibk.ac.at
SUMMARY:Umsatzsteuer und sonstige Verkehrsteuern (LV 312505-0 14S)
DESCRIPTION:Lehrveranstaltung 312505 14S, Gruppe 0\nTitel: Umsatzsteuer und sonstige Verkehrsteuern\nOrt: Hörsaal G\n\nhttps://lfuonline.uibk.ac.at/public/lfuonline_lv.details?sem_id_in=14S&lvnr_id_in=312505\n
CLASS:PUBLIC
DTSTART:20140321T100000Z
DTEND:20140321T113000Z
DTSTAMP:20260419T211504Z
LOCATION:Hörsaal G
END:VEVENT
BEGIN:VEVENT
UID:14S_312505_2216543@uibk.ac.at
ORGANIZER;CN="LFU:online Universität Innsbruck":MAILTO:Uni-Innsbruck-noreply@uibk.ac.at
SUMMARY:Umsatzsteuer und sonstige Verkehrsteuern (LV 312505-0 14S)
DESCRIPTION:Lehrveranstaltung 312505 14S, Gruppe 0\nTitel: Umsatzsteuer und sonstige Verkehrsteuern\nOrt: Hörsaal G\n\nhttps://lfuonline.uibk.ac.at/public/lfuonline_lv.details?sem_id_in=14S&lvnr_id_in=312505\n
CLASS:PUBLIC
DTSTART:20140328T100000Z
DTEND:20140328T113000Z
DTSTAMP:20260419T211504Z
LOCATION:Hörsaal G
END:VEVENT
BEGIN:VEVENT
UID:14S_312505_2216546@uibk.ac.at
ORGANIZER;CN="LFU:online Universität Innsbruck":MAILTO:Uni-Innsbruck-noreply@uibk.ac.at
SUMMARY:Umsatzsteuer und sonstige Verkehrsteuern (LV 312505-0 14S)
DESCRIPTION:Lehrveranstaltung 312505 14S, Gruppe 0\nTitel: Umsatzsteuer und sonstige Verkehrsteuern\nOrt: Hörsaal G\n\nhttps://lfuonline.uibk.ac.at/public/lfuonline_lv.details?sem_id_in=14S&lvnr_id_in=312505\n
CLASS:PUBLIC
DTSTART:20140404T090000Z
DTEND:20140404T103000Z
DTSTAMP:20260419T211504Z
LOCATION:Hörsaal G
END:VEVENT
BEGIN:VEVENT
UID:14S_312505_2216545@uibk.ac.at
ORGANIZER;CN="LFU:online Universität Innsbruck":MAILTO:Uni-Innsbruck-noreply@uibk.ac.at
SUMMARY:Umsatzsteuer und sonstige Verkehrsteuern (LV 312505-0 14S)
DESCRIPTION:Lehrveranstaltung 312505 14S, Gruppe 0\nTitel: Umsatzsteuer und sonstige Verkehrsteuern\nOrt: Hörsaal G\n\nhttps://lfuonline.uibk.ac.at/public/lfuonline_lv.details?sem_id_in=14S&lvnr_id_in=312505\n
CLASS:PUBLIC
DTSTART:20140411T090000Z
DTEND:20140411T103000Z
DTSTAMP:20260419T211504Z
LOCATION:Hörsaal G
END:VEVENT
BEGIN:VEVENT
UID:14S_312505_2279153@uibk.ac.at
ORGANIZER;CN="LFU:online Universität Innsbruck":MAILTO:Uni-Innsbruck-noreply@uibk.ac.at
SUMMARY:Umsatzsteuer und sonstige Verkehrsteuern (LV 312505-0 14S)
DESCRIPTION:Lehrveranstaltung 312505 14S, Gruppe 0\nTitel: Umsatzsteuer und sonstige Verkehrsteuern\nOrt: Hörsaal 7\n\nhttps://lfuonline.uibk.ac.at/public/lfuonline_lv.details?sem_id_in=14S&lvnr_id_in=312505\n
CLASS:PUBLIC
DTSTART:20140502T090000Z
DTEND:20140502T103000Z
DTSTAMP:20260419T211504Z
LOCATION:Hörsaal 7
END:VEVENT
BEGIN:VEVENT
UID:14S_312505_2216547@uibk.ac.at
ORGANIZER;CN="LFU:online Universität Innsbruck":MAILTO:Uni-Innsbruck-noreply@uibk.ac.at
SUMMARY:Umsatzsteuer und sonstige Verkehrsteuern (LV 312505-0 14S)
DESCRIPTION:Lehrveranstaltung 312505 14S, Gruppe 0\nTitel: Umsatzsteuer und sonstige Verkehrsteuern\nOrt: Hörsaal G\n\nhttps://lfuonline.uibk.ac.at/public/lfuonline_lv.details?sem_id_in=14S&lvnr_id_in=312505\n
CLASS:PUBLIC
DTSTART:20140509T090000Z
DTEND:20140509T103000Z
DTSTAMP:20260419T211504Z
LOCATION:Hörsaal G
END:VEVENT
BEGIN:VEVENT
UID:14S_312505_2216548@uibk.ac.at
ORGANIZER;CN="LFU:online Universität Innsbruck":MAILTO:Uni-Innsbruck-noreply@uibk.ac.at
SUMMARY:Umsatzsteuer und sonstige Verkehrsteuern (LV 312505-0 14S)
DESCRIPTION:Lehrveranstaltung 312505 14S, Gruppe 0\nTitel: Umsatzsteuer und sonstige Verkehrsteuern\nOrt: Hörsaal G\n\nhttps://lfuonline.uibk.ac.at/public/lfuonline_lv.details?sem_id_in=14S&lvnr_id_in=312505\n
CLASS:PUBLIC
DTSTART:20140516T090000Z
DTEND:20140516T103000Z
DTSTAMP:20260419T211504Z
LOCATION:Hörsaal G
END:VEVENT
BEGIN:VEVENT
UID:14S_312505_2216549@uibk.ac.at
ORGANIZER;CN="LFU:online Universität Innsbruck":MAILTO:Uni-Innsbruck-noreply@uibk.ac.at
SUMMARY:Umsatzsteuer und sonstige Verkehrsteuern (LV 312505-0 14S)
DESCRIPTION:Lehrveranstaltung 312505 14S, Gruppe 0\nTitel: Umsatzsteuer und sonstige Verkehrsteuern\nOrt: Hörsaal G\n\nhttps://lfuonline.uibk.ac.at/public/lfuonline_lv.details?sem_id_in=14S&lvnr_id_in=312505\n
CLASS:PUBLIC
DTSTART:20140523T090000Z
DTEND:20140523T103000Z
DTSTAMP:20260419T211504Z
LOCATION:Hörsaal G
END:VEVENT
BEGIN:VEVENT
UID:14S_312505_2216550@uibk.ac.at
ORGANIZER;CN="LFU:online Universität Innsbruck":MAILTO:Uni-Innsbruck-noreply@uibk.ac.at
SUMMARY:Umsatzsteuer und sonstige Verkehrsteuern (LV 312505-0 14S)
DESCRIPTION:Lehrveranstaltung 312505 14S, Gruppe 0\nTitel: Umsatzsteuer und sonstige Verkehrsteuern\nOrt: Hörsaal G\n\nhttps://lfuonline.uibk.ac.at/public/lfuonline_lv.details?sem_id_in=14S&lvnr_id_in=312505\n
CLASS:PUBLIC
DTSTART:20140606T090000Z
DTEND:20140606T103000Z
DTSTAMP:20260419T211504Z
LOCATION:Hörsaal G
END:VEVENT
BEGIN:VEVENT
UID:14S_312505_2216551@uibk.ac.at
ORGANIZER;CN="LFU:online Universität Innsbruck":MAILTO:Uni-Innsbruck-noreply@uibk.ac.at
SUMMARY:Umsatzsteuer und sonstige Verkehrsteuern (LV 312505-0 14S)
DESCRIPTION:Lehrveranstaltung 312505 14S, Gruppe 0\nTitel: Umsatzsteuer und sonstige Verkehrsteuern\nOrt: Hörsaal G\n\nhttps://lfuonline.uibk.ac.at/public/lfuonline_lv.details?sem_id_in=14S&lvnr_id_in=312505\n
CLASS:PUBLIC
DTSTART:20140613T090000Z
DTEND:20140613T103000Z
DTSTAMP:20260419T211504Z
LOCATION:Hörsaal G
END:VEVENT
BEGIN:VEVENT
UID:14S_312505_2291664@uibk.ac.at
ORGANIZER;CN="LFU:online Universität Innsbruck":MAILTO:Uni-Innsbruck-noreply@uibk.ac.at
SUMMARY:Umsatzsteuer und sonstige Verkehrsteuern (LV 312505-0 14S)
DESCRIPTION:Lehrveranstaltung 312505 14S, Gruppe 0\nTitel: Umsatzsteuer und sonstige Verkehrsteuern\nOrt: Hörsaal F\n\nhttps://lfuonline.uibk.ac.at/public/lfuonline_lv.details?sem_id_in=14S&lvnr_id_in=312505\n
CLASS:PUBLIC
DTSTART:20140620T090000Z
DTEND:20140620T103000Z
DTSTAMP:20260419T211504Z
LOCATION:Hörsaal F
COMMENT:Klausur Gruppe A-M
END:VEVENT
BEGIN:VEVENT
UID:14S_312505_2216552@uibk.ac.at
ORGANIZER;CN="LFU:online Universität Innsbruck":MAILTO:Uni-Innsbruck-noreply@uibk.ac.at
SUMMARY:Umsatzsteuer und sonstige Verkehrsteuern (LV 312505-0 14S)
DESCRIPTION:Lehrveranstaltung 312505 14S, Gruppe 0\nTitel: Umsatzsteuer und sonstige Verkehrsteuern\nOrt: Hörsaal G\n\nhttps://lfuonline.uibk.ac.at/public/lfuonline_lv.details?sem_id_in=14S&lvnr_id_in=312505\n
CLASS:PUBLIC
DTSTART:20140620T090000Z
DTEND:20140620T103000Z
DTSTAMP:20260419T211504Z
LOCATION:Hörsaal G
COMMENT:Klausur Gruppe N-Z
END:VEVENT
END:VCALENDAR