BEGIN:VCALENDAR
VERSION:2.0
PRODID:-//Universität Innsbruck//LFU:online//DE
METHOD:PUBLISH
BEGIN:VEVENT
UID:26S_312505_5013356@uibk.ac.at
ORGANIZER;CN="LFU:online Universität Innsbruck":MAILTO:Uni-Innsbruck-noreply@uibk.ac.at
SUMMARY:UE Übung aus Finanzrecht: Umsatzsteuer (LV 312505-0 26S)
DESCRIPTION:Lehrveranstaltung 312505 26S, Gruppe 0\nTitel: UE Übung aus Finanzrecht: Umsatzsteuer\nOrt: Hörsaal 5¾\n\nhttps://lfuonline.uibk.ac.at/public/lfuonline_lv.details?sem_id_in=26S&lvnr_id_in=312505\n
CLASS:PUBLIC
DTSTART:20260310T143000Z
DTEND:20260310T160000Z
DTSTAMP:20260423T230727Z
LOCATION:Hörsaal 5¾
END:VEVENT
BEGIN:VEVENT
UID:26S_312505_5013357@uibk.ac.at
ORGANIZER;CN="LFU:online Universität Innsbruck":MAILTO:Uni-Innsbruck-noreply@uibk.ac.at
SUMMARY:UE Übung aus Finanzrecht: Umsatzsteuer (LV 312505-0 26S)
DESCRIPTION:Lehrveranstaltung 312505 26S, Gruppe 0\nTitel: UE Übung aus Finanzrecht: Umsatzsteuer\nOrt: Hörsaal 5¾\n\nhttps://lfuonline.uibk.ac.at/public/lfuonline_lv.details?sem_id_in=26S&lvnr_id_in=312505\n
CLASS:PUBLIC
DTSTART:20260317T143000Z
DTEND:20260317T160000Z
DTSTAMP:20260423T230727Z
LOCATION:Hörsaal 5¾
END:VEVENT
BEGIN:VEVENT
UID:26S_312505_5013358@uibk.ac.at
ORGANIZER;CN="LFU:online Universität Innsbruck":MAILTO:Uni-Innsbruck-noreply@uibk.ac.at
SUMMARY:UE Übung aus Finanzrecht: Umsatzsteuer (LV 312505-0 26S)
DESCRIPTION:Lehrveranstaltung 312505 26S, Gruppe 0\nTitel: UE Übung aus Finanzrecht: Umsatzsteuer\nOrt: Hörsaal 5¾\n\nhttps://lfuonline.uibk.ac.at/public/lfuonline_lv.details?sem_id_in=26S&lvnr_id_in=312505\n
CLASS:PUBLIC
DTSTART:20260324T143000Z
DTEND:20260324T160000Z
DTSTAMP:20260423T230727Z
LOCATION:Hörsaal 5¾
END:VEVENT
BEGIN:VEVENT
UID:26S_312505_5013359@uibk.ac.at
ORGANIZER;CN="LFU:online Universität Innsbruck":MAILTO:Uni-Innsbruck-noreply@uibk.ac.at
SUMMARY:UE Übung aus Finanzrecht: Umsatzsteuer (LV 312505-0 26S)
DESCRIPTION:Lehrveranstaltung 312505 26S, Gruppe 0\nTitel: UE Übung aus Finanzrecht: Umsatzsteuer\nOrt: Hörsaal 5¾\n\nhttps://lfuonline.uibk.ac.at/public/lfuonline_lv.details?sem_id_in=26S&lvnr_id_in=312505\n
CLASS:PUBLIC
DTSTART:20260414T133000Z
DTEND:20260414T150000Z
DTSTAMP:20260423T230727Z
LOCATION:Hörsaal 5¾
END:VEVENT
BEGIN:VEVENT
UID:26S_312505_5013360@uibk.ac.at
ORGANIZER;CN="LFU:online Universität Innsbruck":MAILTO:Uni-Innsbruck-noreply@uibk.ac.at
SUMMARY:UE Übung aus Finanzrecht: Umsatzsteuer (LV 312505-0 26S)
DESCRIPTION:Lehrveranstaltung 312505 26S, Gruppe 0\nTitel: UE Übung aus Finanzrecht: Umsatzsteuer\nOrt: Hörsaal 5¾\n\nhttps://lfuonline.uibk.ac.at/public/lfuonline_lv.details?sem_id_in=26S&lvnr_id_in=312505\n
CLASS:PUBLIC
DTSTART:20260421T133000Z
DTEND:20260421T150000Z
DTSTAMP:20260423T230727Z
LOCATION:Hörsaal 5¾
END:VEVENT
BEGIN:VEVENT
UID:26S_312505_5013361@uibk.ac.at
ORGANIZER;CN="LFU:online Universität Innsbruck":MAILTO:Uni-Innsbruck-noreply@uibk.ac.at
SUMMARY:UE Übung aus Finanzrecht: Umsatzsteuer (LV 312505-0 26S)
DESCRIPTION:Lehrveranstaltung 312505 26S, Gruppe 0\nTitel: UE Übung aus Finanzrecht: Umsatzsteuer\nOrt: Hörsaal 5¾\n\nhttps://lfuonline.uibk.ac.at/public/lfuonline_lv.details?sem_id_in=26S&lvnr_id_in=312505\n
CLASS:PUBLIC
DTSTART:20260428T133000Z
DTEND:20260428T150000Z
DTSTAMP:20260423T230727Z
LOCATION:Hörsaal 5¾
END:VEVENT
BEGIN:VEVENT
UID:26S_312505_5013362@uibk.ac.at
ORGANIZER;CN="LFU:online Universität Innsbruck":MAILTO:Uni-Innsbruck-noreply@uibk.ac.at
SUMMARY:UE Übung aus Finanzrecht: Umsatzsteuer (LV 312505-0 26S)
DESCRIPTION:Lehrveranstaltung 312505 26S, Gruppe 0\nTitel: UE Übung aus Finanzrecht: Umsatzsteuer\nOrt: Hörsaal 5¾\n\nhttps://lfuonline.uibk.ac.at/public/lfuonline_lv.details?sem_id_in=26S&lvnr_id_in=312505\n
CLASS:PUBLIC
DTSTART:20260505T133000Z
DTEND:20260505T150000Z
DTSTAMP:20260423T230727Z
LOCATION:Hörsaal 5¾
END:VEVENT
BEGIN:VEVENT
UID:26S_312505_5013363@uibk.ac.at
ORGANIZER;CN="LFU:online Universität Innsbruck":MAILTO:Uni-Innsbruck-noreply@uibk.ac.at
SUMMARY:UE Übung aus Finanzrecht: Umsatzsteuer (LV 312505-0 26S)
DESCRIPTION:Lehrveranstaltung 312505 26S, Gruppe 0\nTitel: UE Übung aus Finanzrecht: Umsatzsteuer\nOrt: Hörsaal 5¾\n\nhttps://lfuonline.uibk.ac.at/public/lfuonline_lv.details?sem_id_in=26S&lvnr_id_in=312505\n
CLASS:PUBLIC
DTSTART:20260512T133000Z
DTEND:20260512T150000Z
DTSTAMP:20260423T230727Z
LOCATION:Hörsaal 5¾
END:VEVENT
BEGIN:VEVENT
UID:26S_312505_5013364@uibk.ac.at
ORGANIZER;CN="LFU:online Universität Innsbruck":MAILTO:Uni-Innsbruck-noreply@uibk.ac.at
SUMMARY:UE Übung aus Finanzrecht: Umsatzsteuer (LV 312505-0 26S)
DESCRIPTION:Lehrveranstaltung 312505 26S, Gruppe 0\nTitel: UE Übung aus Finanzrecht: Umsatzsteuer\nOrt: Hörsaal 5¾\n\nhttps://lfuonline.uibk.ac.at/public/lfuonline_lv.details?sem_id_in=26S&lvnr_id_in=312505\n
CLASS:PUBLIC
DTSTART:20260519T133000Z
DTEND:20260519T150000Z
DTSTAMP:20260423T230727Z
LOCATION:Hörsaal 5¾
END:VEVENT
BEGIN:VEVENT
UID:26S_312505_5013365@uibk.ac.at
ORGANIZER;CN="LFU:online Universität Innsbruck":MAILTO:Uni-Innsbruck-noreply@uibk.ac.at
SUMMARY:UE Übung aus Finanzrecht: Umsatzsteuer (LV 312505-0 26S)
DESCRIPTION:Lehrveranstaltung 312505 26S, Gruppe 0\nTitel: UE Übung aus Finanzrecht: Umsatzsteuer\nOrt: Hörsaal 5¾\n\nhttps://lfuonline.uibk.ac.at/public/lfuonline_lv.details?sem_id_in=26S&lvnr_id_in=312505\n
CLASS:PUBLIC
DTSTART:20260526T133000Z
DTEND:20260526T150000Z
DTSTAMP:20260423T230727Z
LOCATION:Hörsaal 5¾
END:VEVENT
BEGIN:VEVENT
UID:26S_312505_5013366@uibk.ac.at
ORGANIZER;CN="LFU:online Universität Innsbruck":MAILTO:Uni-Innsbruck-noreply@uibk.ac.at
SUMMARY:UE Übung aus Finanzrecht: Umsatzsteuer (LV 312505-0 26S)
DESCRIPTION:Lehrveranstaltung 312505 26S, Gruppe 0\nTitel: UE Übung aus Finanzrecht: Umsatzsteuer\nOrt: Hörsaal 5¾\n\nhttps://lfuonline.uibk.ac.at/public/lfuonline_lv.details?sem_id_in=26S&lvnr_id_in=312505\n
CLASS:PUBLIC
DTSTART:20260602T133000Z
DTEND:20260602T150000Z
DTSTAMP:20260423T230727Z
LOCATION:Hörsaal 5¾
END:VEVENT
BEGIN:VEVENT
UID:26S_312505_5013367@uibk.ac.at
ORGANIZER;CN="LFU:online Universität Innsbruck":MAILTO:Uni-Innsbruck-noreply@uibk.ac.at
SUMMARY:UE Übung aus Finanzrecht: Umsatzsteuer (LV 312505-0 26S)
DESCRIPTION:Lehrveranstaltung 312505 26S, Gruppe 0\nTitel: UE Übung aus Finanzrecht: Umsatzsteuer\nOrt: Hörsaal 5¾\n\nhttps://lfuonline.uibk.ac.at/public/lfuonline_lv.details?sem_id_in=26S&lvnr_id_in=312505\n
CLASS:PUBLIC
DTSTART:20260609T133000Z
DTEND:20260609T150000Z
DTSTAMP:20260423T230727Z
LOCATION:Hörsaal 5¾
END:VEVENT
BEGIN:VEVENT
UID:26S_312505_5013368@uibk.ac.at
ORGANIZER;CN="LFU:online Universität Innsbruck":MAILTO:Uni-Innsbruck-noreply@uibk.ac.at
SUMMARY:UE Übung aus Finanzrecht: Umsatzsteuer (LV 312505-0 26S)
DESCRIPTION:Lehrveranstaltung 312505 26S, Gruppe 0\nTitel: UE Übung aus Finanzrecht: Umsatzsteuer\nOrt: Hörsaal 5¾\n\nhttps://lfuonline.uibk.ac.at/public/lfuonline_lv.details?sem_id_in=26S&lvnr_id_in=312505\n
CLASS:PUBLIC
DTSTART:20260616T133000Z
DTEND:20260616T150000Z
DTSTAMP:20260423T230727Z
LOCATION:Hörsaal 5¾
END:VEVENT
BEGIN:VEVENT
UID:26S_312505_5013369@uibk.ac.at
ORGANIZER;CN="LFU:online Universität Innsbruck":MAILTO:Uni-Innsbruck-noreply@uibk.ac.at
SUMMARY:UE Übung aus Finanzrecht: Umsatzsteuer (LV 312505-0 26S)
DESCRIPTION:Lehrveranstaltung 312505 26S, Gruppe 0\nTitel: UE Übung aus Finanzrecht: Umsatzsteuer\nOrt: Hörsaal 5¾\n\nhttps://lfuonline.uibk.ac.at/public/lfuonline_lv.details?sem_id_in=26S&lvnr_id_in=312505\n
CLASS:PUBLIC
DTSTART:20260623T133000Z
DTEND:20260623T150000Z
DTSTAMP:20260423T230727Z
LOCATION:Hörsaal 5¾
END:VEVENT
END:VCALENDAR