BEGIN:VCALENDAR
VERSION:2.0
PRODID:-//Universität Innsbruck//LFU:online//DE
METHOD:PUBLISH
BEGIN:VEVENT
UID:26S_312506_5062195@uibk.ac.at
ORGANIZER;CN="LFU:online Universität Innsbruck":MAILTO:Uni-Innsbruck-noreply@uibk.ac.at
SUMMARY:SE Seminar aus Finanzrecht für Diplomanden (LV 312506-0 26S)
DESCRIPTION:Lehrveranstaltung 312506 26S, Gruppe 0\nTitel: SE Seminar aus Finanzrecht für Diplomanden\nOrt: Seminarraum  9 (Innrain 52a) 01A050\n\nhttps://lfuonline.uibk.ac.at/public/lfuonline_lv.details?sem_id_in=26S&lvnr_id_in=312506\n
CLASS:PUBLIC
DTSTART:20260416T120000Z
DTEND:20260416T160000Z
DTSTAMP:20260423T230426Z
LOCATION:Seminarraum  9 (Innrain 52a) 01A050
END:VEVENT
BEGIN:VEVENT
UID:26S_312506_5062194@uibk.ac.at
ORGANIZER;CN="LFU:online Universität Innsbruck":MAILTO:Uni-Innsbruck-noreply@uibk.ac.at
SUMMARY:SE Seminar aus Finanzrecht für Diplomanden (LV 312506-0 26S)
DESCRIPTION:Lehrveranstaltung 312506 26S, Gruppe 0\nTitel: SE Seminar aus Finanzrecht für Diplomanden\nOrt: Seminarraum  8 (Innrain 52a) 01A010\n\nhttps://lfuonline.uibk.ac.at/public/lfuonline_lv.details?sem_id_in=26S&lvnr_id_in=312506\n
CLASS:PUBLIC
DTSTART:20260521T120000Z
DTEND:20260521T160000Z
DTSTAMP:20260423T230426Z
LOCATION:Seminarraum  8 (Innrain 52a) 01A010
END:VEVENT
BEGIN:VEVENT
UID:26S_312506_5062196@uibk.ac.at
ORGANIZER;CN="LFU:online Universität Innsbruck":MAILTO:Uni-Innsbruck-noreply@uibk.ac.at
SUMMARY:SE Seminar aus Finanzrecht für Diplomanden (LV 312506-0 26S)
DESCRIPTION:Lehrveranstaltung 312506 26S, Gruppe 0\nTitel: SE Seminar aus Finanzrecht für Diplomanden\nOrt: SR 3114\n\nhttps://lfuonline.uibk.ac.at/public/lfuonline_lv.details?sem_id_in=26S&lvnr_id_in=312506\n
CLASS:PUBLIC
DTSTART:20260610T070000Z
DTEND:20260610T163000Z
DTSTAMP:20260423T230426Z
LOCATION:SR 3114
END:VEVENT
BEGIN:VEVENT
UID:26S_312506_5062223@uibk.ac.at
ORGANIZER;CN="LFU:online Universität Innsbruck":MAILTO:Uni-Innsbruck-noreply@uibk.ac.at
SUMMARY:SE Seminar aus Finanzrecht für Diplomanden (LV 312506-0 26S)
DESCRIPTION:Lehrveranstaltung 312506 26S, Gruppe 0\nTitel: SE Seminar aus Finanzrecht für Diplomanden\nOrt: SR 3114\n\nhttps://lfuonline.uibk.ac.at/public/lfuonline_lv.details?sem_id_in=26S&lvnr_id_in=312506\n
CLASS:PUBLIC
DTSTART:20260611T120000Z
DTEND:20260611T153000Z
DTSTAMP:20260423T230426Z
LOCATION:SR 3114
END:VEVENT
END:VCALENDAR