BEGIN:VCALENDAR
VERSION:2.0
PRODID:-//Universität Innsbruck//LFU:online//DE
METHOD:PUBLISH
BEGIN:VEVENT
UID:26S_312511_5013313@uibk.ac.at
ORGANIZER;CN="LFU:online Universität Innsbruck":MAILTO:Uni-Innsbruck-noreply@uibk.ac.at
SUMMARY:VO Unternehmenssteuerrecht: Grundlagen (LV 312511-0 26S)
DESCRIPTION:Lehrveranstaltung 312511 26S, Gruppe 0\nTitel: VO Unternehmenssteuerrecht: Grundlagen\nOrt: 4U102b\n\nhttps://lfuonline.uibk.ac.at/public/lfuonline_lv.details?sem_id_in=26S&lvnr_id_in=312511\n
CLASS:PUBLIC
DTSTART:20260303T073000Z
DTEND:20260303T090000Z
DTSTAMP:20260423T230859Z
LOCATION:4U102b
END:VEVENT
BEGIN:VEVENT
UID:26S_312511_5013314@uibk.ac.at
ORGANIZER;CN="LFU:online Universität Innsbruck":MAILTO:Uni-Innsbruck-noreply@uibk.ac.at
SUMMARY:VO Unternehmenssteuerrecht: Grundlagen (LV 312511-0 26S)
DESCRIPTION:Lehrveranstaltung 312511 26S, Gruppe 0\nTitel: VO Unternehmenssteuerrecht: Grundlagen\nOrt: 4U102b\n\nhttps://lfuonline.uibk.ac.at/public/lfuonline_lv.details?sem_id_in=26S&lvnr_id_in=312511\n
CLASS:PUBLIC
DTSTART:20260310T073000Z
DTEND:20260310T090000Z
DTSTAMP:20260423T230859Z
LOCATION:4U102b
END:VEVENT
BEGIN:VEVENT
UID:26S_312511_5013315@uibk.ac.at
ORGANIZER;CN="LFU:online Universität Innsbruck":MAILTO:Uni-Innsbruck-noreply@uibk.ac.at
SUMMARY:VO Unternehmenssteuerrecht: Grundlagen (LV 312511-0 26S)
DESCRIPTION:Lehrveranstaltung 312511 26S, Gruppe 0\nTitel: VO Unternehmenssteuerrecht: Grundlagen\nOrt: 4U102b\n\nhttps://lfuonline.uibk.ac.at/public/lfuonline_lv.details?sem_id_in=26S&lvnr_id_in=312511\n
CLASS:PUBLIC
DTSTART:20260317T073000Z
DTEND:20260317T090000Z
DTSTAMP:20260423T230859Z
LOCATION:4U102b
END:VEVENT
BEGIN:VEVENT
UID:26S_312511_5013316@uibk.ac.at
ORGANIZER;CN="LFU:online Universität Innsbruck":MAILTO:Uni-Innsbruck-noreply@uibk.ac.at
SUMMARY:VO Unternehmenssteuerrecht: Grundlagen (LV 312511-0 26S)
DESCRIPTION:Lehrveranstaltung 312511 26S, Gruppe 0\nTitel: VO Unternehmenssteuerrecht: Grundlagen\nOrt: 4U102b\n\nhttps://lfuonline.uibk.ac.at/public/lfuonline_lv.details?sem_id_in=26S&lvnr_id_in=312511\n
CLASS:PUBLIC
DTSTART:20260324T073000Z
DTEND:20260324T090000Z
DTSTAMP:20260423T230859Z
LOCATION:4U102b
END:VEVENT
BEGIN:VEVENT
UID:26S_312511_5013317@uibk.ac.at
ORGANIZER;CN="LFU:online Universität Innsbruck":MAILTO:Uni-Innsbruck-noreply@uibk.ac.at
SUMMARY:VO Unternehmenssteuerrecht: Grundlagen (LV 312511-0 26S)
DESCRIPTION:Lehrveranstaltung 312511 26S, Gruppe 0\nTitel: VO Unternehmenssteuerrecht: Grundlagen\nOrt: 4U102b\n\nhttps://lfuonline.uibk.ac.at/public/lfuonline_lv.details?sem_id_in=26S&lvnr_id_in=312511\n
CLASS:PUBLIC
DTSTART:20260414T063000Z
DTEND:20260414T080000Z
DTSTAMP:20260423T230859Z
LOCATION:4U102b
END:VEVENT
BEGIN:VEVENT
UID:26S_312511_5013318@uibk.ac.at
ORGANIZER;CN="LFU:online Universität Innsbruck":MAILTO:Uni-Innsbruck-noreply@uibk.ac.at
SUMMARY:VO Unternehmenssteuerrecht: Grundlagen (LV 312511-0 26S)
DESCRIPTION:Lehrveranstaltung 312511 26S, Gruppe 0\nTitel: VO Unternehmenssteuerrecht: Grundlagen\nOrt: 4U102b\n\nhttps://lfuonline.uibk.ac.at/public/lfuonline_lv.details?sem_id_in=26S&lvnr_id_in=312511\n
CLASS:PUBLIC
DTSTART:20260421T063000Z
DTEND:20260421T080000Z
DTSTAMP:20260423T230859Z
LOCATION:4U102b
END:VEVENT
BEGIN:VEVENT
UID:26S_312511_5013319@uibk.ac.at
ORGANIZER;CN="LFU:online Universität Innsbruck":MAILTO:Uni-Innsbruck-noreply@uibk.ac.at
SUMMARY:VO Unternehmenssteuerrecht: Grundlagen (LV 312511-0 26S)
DESCRIPTION:Lehrveranstaltung 312511 26S, Gruppe 0\nTitel: VO Unternehmenssteuerrecht: Grundlagen\nOrt: 4U102b\n\nhttps://lfuonline.uibk.ac.at/public/lfuonline_lv.details?sem_id_in=26S&lvnr_id_in=312511\n
CLASS:PUBLIC
DTSTART:20260428T063000Z
DTEND:20260428T080000Z
DTSTAMP:20260423T230859Z
LOCATION:4U102b
END:VEVENT
BEGIN:VEVENT
UID:26S_312511_5013320@uibk.ac.at
ORGANIZER;CN="LFU:online Universität Innsbruck":MAILTO:Uni-Innsbruck-noreply@uibk.ac.at
SUMMARY:VO Unternehmenssteuerrecht: Grundlagen (LV 312511-0 26S)
DESCRIPTION:Lehrveranstaltung 312511 26S, Gruppe 0\nTitel: VO Unternehmenssteuerrecht: Grundlagen\nOrt: 4U102b\n\nhttps://lfuonline.uibk.ac.at/public/lfuonline_lv.details?sem_id_in=26S&lvnr_id_in=312511\n
CLASS:PUBLIC
DTSTART:20260505T063000Z
DTEND:20260505T080000Z
DTSTAMP:20260423T230859Z
LOCATION:4U102b
END:VEVENT
BEGIN:VEVENT
UID:26S_312511_5013321@uibk.ac.at
ORGANIZER;CN="LFU:online Universität Innsbruck":MAILTO:Uni-Innsbruck-noreply@uibk.ac.at
SUMMARY:VO Unternehmenssteuerrecht: Grundlagen (LV 312511-0 26S)
DESCRIPTION:Lehrveranstaltung 312511 26S, Gruppe 0\nTitel: VO Unternehmenssteuerrecht: Grundlagen\nOrt: 4U102b\n\nhttps://lfuonline.uibk.ac.at/public/lfuonline_lv.details?sem_id_in=26S&lvnr_id_in=312511\n
CLASS:PUBLIC
DTSTART:20260512T063000Z
DTEND:20260512T080000Z
DTSTAMP:20260423T230859Z
LOCATION:4U102b
END:VEVENT
BEGIN:VEVENT
UID:26S_312511_5013322@uibk.ac.at
ORGANIZER;CN="LFU:online Universität Innsbruck":MAILTO:Uni-Innsbruck-noreply@uibk.ac.at
SUMMARY:VO Unternehmenssteuerrecht: Grundlagen (LV 312511-0 26S)
DESCRIPTION:Lehrveranstaltung 312511 26S, Gruppe 0\nTitel: VO Unternehmenssteuerrecht: Grundlagen\nOrt: 4U102b\n\nhttps://lfuonline.uibk.ac.at/public/lfuonline_lv.details?sem_id_in=26S&lvnr_id_in=312511\n
CLASS:PUBLIC
DTSTART:20260519T063000Z
DTEND:20260519T080000Z
DTSTAMP:20260423T230859Z
LOCATION:4U102b
END:VEVENT
BEGIN:VEVENT
UID:26S_312511_5013323@uibk.ac.at
ORGANIZER;CN="LFU:online Universität Innsbruck":MAILTO:Uni-Innsbruck-noreply@uibk.ac.at
SUMMARY:VO Unternehmenssteuerrecht: Grundlagen (LV 312511-0 26S)
DESCRIPTION:Lehrveranstaltung 312511 26S, Gruppe 0\nTitel: VO Unternehmenssteuerrecht: Grundlagen\nOrt: 4U102b\n\nhttps://lfuonline.uibk.ac.at/public/lfuonline_lv.details?sem_id_in=26S&lvnr_id_in=312511\n
CLASS:PUBLIC
DTSTART:20260526T063000Z
DTEND:20260526T080000Z
DTSTAMP:20260423T230859Z
LOCATION:4U102b
END:VEVENT
BEGIN:VEVENT
UID:26S_312511_5013324@uibk.ac.at
ORGANIZER;CN="LFU:online Universität Innsbruck":MAILTO:Uni-Innsbruck-noreply@uibk.ac.at
SUMMARY:VO Unternehmenssteuerrecht: Grundlagen (LV 312511-0 26S)
DESCRIPTION:Lehrveranstaltung 312511 26S, Gruppe 0\nTitel: VO Unternehmenssteuerrecht: Grundlagen\nOrt: 4U102b\n\nhttps://lfuonline.uibk.ac.at/public/lfuonline_lv.details?sem_id_in=26S&lvnr_id_in=312511\n
CLASS:PUBLIC
DTSTART:20260602T063000Z
DTEND:20260602T080000Z
DTSTAMP:20260423T230859Z
LOCATION:4U102b
END:VEVENT
BEGIN:VEVENT
UID:26S_312511_5013325@uibk.ac.at
ORGANIZER;CN="LFU:online Universität Innsbruck":MAILTO:Uni-Innsbruck-noreply@uibk.ac.at
SUMMARY:VO Unternehmenssteuerrecht: Grundlagen (LV 312511-0 26S)
DESCRIPTION:Lehrveranstaltung 312511 26S, Gruppe 0\nTitel: VO Unternehmenssteuerrecht: Grundlagen\nOrt: 4U102b\n\nhttps://lfuonline.uibk.ac.at/public/lfuonline_lv.details?sem_id_in=26S&lvnr_id_in=312511\n
CLASS:PUBLIC
DTSTART:20260609T063000Z
DTEND:20260609T080000Z
DTSTAMP:20260423T230859Z
LOCATION:4U102b
END:VEVENT
BEGIN:VEVENT
UID:26S_312511_5013326@uibk.ac.at
ORGANIZER;CN="LFU:online Universität Innsbruck":MAILTO:Uni-Innsbruck-noreply@uibk.ac.at
SUMMARY:VO Unternehmenssteuerrecht: Grundlagen (LV 312511-0 26S)
DESCRIPTION:Lehrveranstaltung 312511 26S, Gruppe 0\nTitel: VO Unternehmenssteuerrecht: Grundlagen\nOrt: 4U102b\n\nhttps://lfuonline.uibk.ac.at/public/lfuonline_lv.details?sem_id_in=26S&lvnr_id_in=312511\n
CLASS:PUBLIC
DTSTART:20260616T063000Z
DTEND:20260616T080000Z
DTSTAMP:20260423T230859Z
LOCATION:4U102b
END:VEVENT
BEGIN:VEVENT
UID:26S_312511_5013327@uibk.ac.at
ORGANIZER;CN="LFU:online Universität Innsbruck":MAILTO:Uni-Innsbruck-noreply@uibk.ac.at
SUMMARY:VO Unternehmenssteuerrecht: Grundlagen (LV 312511-0 26S)
DESCRIPTION:Lehrveranstaltung 312511 26S, Gruppe 0\nTitel: VO Unternehmenssteuerrecht: Grundlagen\nOrt: 4U102b\n\nhttps://lfuonline.uibk.ac.at/public/lfuonline_lv.details?sem_id_in=26S&lvnr_id_in=312511\n
CLASS:PUBLIC
DTSTART:20260623T063000Z
DTEND:20260623T080000Z
DTSTAMP:20260423T230859Z
LOCATION:4U102b
END:VEVENT
END:VCALENDAR