BEGIN:VCALENDAR
VERSION:2.0
PRODID:-//Universität Innsbruck//LFU:online//DE
METHOD:PUBLISH
BEGIN:VEVENT
UID:18S_322101_3071407@uibk.ac.at
ORGANIZER;CN="LFU:online Universität Innsbruck":MAILTO:Uni-Innsbruck-noreply@uibk.ac.at
SUMMARY:Grundlagen der nationalen, europäischen und internationalen Wirtschaftsverfassung (LV 322101-0 18S)
DESCRIPTION:Lehrveranstaltung 322101 18S, Gruppe 0\nTitel: Grundlagen der nationalen, europäischen und internationalen Wirtschaftsverfassung\nOrt: Hybrider Lernraum (HLR)\n\nhttps://lfuonline.uibk.ac.at/public/lfuonline_lv.details?sem_id_in=18S&lvnr_id_in=322101\n
CLASS:PUBLIC
DTSTART:20180409T070000Z
DTEND:20180409T100000Z
DTSTAMP:20260423T213831Z
LOCATION:Hybrider Lernraum (HLR)
END:VEVENT
BEGIN:VEVENT
UID:18S_322101_3071408@uibk.ac.at
ORGANIZER;CN="LFU:online Universität Innsbruck":MAILTO:Uni-Innsbruck-noreply@uibk.ac.at
SUMMARY:Grundlagen der nationalen, europäischen und internationalen Wirtschaftsverfassung (LV 322101-0 18S)
DESCRIPTION:Lehrveranstaltung 322101 18S, Gruppe 0\nTitel: Grundlagen der nationalen, europäischen und internationalen Wirtschaftsverfassung\nOrt: Hybrider Lernraum (HLR)\n\nhttps://lfuonline.uibk.ac.at/public/lfuonline_lv.details?sem_id_in=18S&lvnr_id_in=322101\n
CLASS:PUBLIC
DTSTART:20180416T070000Z
DTEND:20180416T100000Z
DTSTAMP:20260423T213831Z
LOCATION:Hybrider Lernraum (HLR)
END:VEVENT
BEGIN:VEVENT
UID:18S_322101_3071409@uibk.ac.at
ORGANIZER;CN="LFU:online Universität Innsbruck":MAILTO:Uni-Innsbruck-noreply@uibk.ac.at
SUMMARY:Grundlagen der nationalen, europäischen und internationalen Wirtschaftsverfassung (LV 322101-0 18S)
DESCRIPTION:Lehrveranstaltung 322101 18S, Gruppe 0\nTitel: Grundlagen der nationalen, europäischen und internationalen Wirtschaftsverfassung\nOrt: Hybrider Lernraum (HLR)\n\nhttps://lfuonline.uibk.ac.at/public/lfuonline_lv.details?sem_id_in=18S&lvnr_id_in=322101\n
CLASS:PUBLIC
DTSTART:20180423T070000Z
DTEND:20180423T100000Z
DTSTAMP:20260423T213831Z
LOCATION:Hybrider Lernraum (HLR)
END:VEVENT
BEGIN:VEVENT
UID:18S_322101_3071405@uibk.ac.at
ORGANIZER;CN="LFU:online Universität Innsbruck":MAILTO:Uni-Innsbruck-noreply@uibk.ac.at
SUMMARY:Grundlagen der nationalen, europäischen und internationalen Wirtschaftsverfassung (LV 322101-0 18S)
DESCRIPTION:Lehrveranstaltung 322101 18S, Gruppe 0\nTitel: Grundlagen der nationalen, europäischen und internationalen Wirtschaftsverfassung\nOrt: Hybrider Lernraum (HLR)\n\nhttps://lfuonline.uibk.ac.at/public/lfuonline_lv.details?sem_id_in=18S&lvnr_id_in=322101\n
CLASS:PUBLIC
DTSTART:20180430T070000Z
DTEND:20180430T100000Z
DTSTAMP:20260423T213831Z
LOCATION:Hybrider Lernraum (HLR)
END:VEVENT
BEGIN:VEVENT
UID:18S_322101_3071406@uibk.ac.at
ORGANIZER;CN="LFU:online Universität Innsbruck":MAILTO:Uni-Innsbruck-noreply@uibk.ac.at
SUMMARY:Grundlagen der nationalen, europäischen und internationalen Wirtschaftsverfassung (LV 322101-0 18S)
DESCRIPTION:Lehrveranstaltung 322101 18S, Gruppe 0\nTitel: Grundlagen der nationalen, europäischen und internationalen Wirtschaftsverfassung\nOrt: Hybrider Lernraum (HLR)\n\nhttps://lfuonline.uibk.ac.at/public/lfuonline_lv.details?sem_id_in=18S&lvnr_id_in=322101\n
CLASS:PUBLIC
DTSTART:20180507T070000Z
DTEND:20180507T100000Z
DTSTAMP:20260423T213831Z
LOCATION:Hybrider Lernraum (HLR)
END:VEVENT
END:VCALENDAR