BEGIN:VCALENDAR
VERSION:2.0
PRODID:-//Universität Innsbruck//LFU:online//DE
METHOD:PUBLISH
BEGIN:VEVENT
UID:24W_324007_4609559@uibk.ac.at
ORGANIZER;CN="LFU:online Universität Innsbruck":MAILTO:Uni-Innsbruck-noreply@uibk.ac.at
SUMMARY:RE Repetitorium aus Römischem Privatrecht (LV 324007-0 24W)
DESCRIPTION:Lehrveranstaltung 324007 24W, Gruppe 0\nTitel: RE Repetitorium aus Römischem Privatrecht\nOrt: Seminarraum  9 (Innrain 52a) 01A050\n\nhttps://lfuonline.uibk.ac.at/public/lfuonline_lv.details?sem_id_in=24W&lvnr_id_in=324007\n
CLASS:PUBLIC
DTSTART:20240927T110000Z
DTEND:20240927T150000Z
DTSTAMP:20260421T075517Z
LOCATION:Seminarraum  9 (Innrain 52a) 01A050
END:VEVENT
BEGIN:VEVENT
UID:24W_324007_4609578@uibk.ac.at
ORGANIZER;CN="LFU:online Universität Innsbruck":MAILTO:Uni-Innsbruck-noreply@uibk.ac.at
SUMMARY:RE Repetitorium aus Römischem Privatrecht (LV 324007-0 24W)
DESCRIPTION:Lehrveranstaltung 324007 24W, Gruppe 0\nTitel: RE Repetitorium aus Römischem Privatrecht\nOrt: Seminarraum 14 (Innrain 52a) 01M090\n\nhttps://lfuonline.uibk.ac.at/public/lfuonline_lv.details?sem_id_in=24W&lvnr_id_in=324007\n
CLASS:PUBLIC
DTSTART:20241115T120000Z
DTEND:20241115T160000Z
DTSTAMP:20260421T075517Z
LOCATION:Seminarraum 14 (Innrain 52a) 01M090
END:VEVENT
END:VCALENDAR