BEGIN:VCALENDAR
VERSION:2.0
PRODID:-//Universität Innsbruck//LFU:online//DE
METHOD:PUBLISH
BEGIN:VEVENT
UID:20W_324014_3709610@uibk.ac.at
ORGANIZER;CN="LFU:online Universität Innsbruck":MAILTO:Uni-Innsbruck-noreply@uibk.ac.at
SUMMARY:VU Recht und Religion in Europa - juristische und kanonistische Perspektiven (LV 324014-0 20W)
DESCRIPTION:Lehrveranstaltung 324014 20W, Gruppe 0\nTitel: VU Recht und Religion in Europa - juristische und kanonistische Perspektiven\nOrt: Hörsaal E\n\nhttps://lfuonline.uibk.ac.at/public/lfuonline_lv.details?sem_id_in=20W&lvnr_id_in=324014\n
CLASS:PUBLIC
DTSTART:20201006T103000Z
DTEND:20201006T120000Z
DTSTAMP:20260422T151709Z
LOCATION:Hörsaal E
COMMENT:Präsenztermin
END:VEVENT
BEGIN:VEVENT
UID:20W_324014_3709611@uibk.ac.at
ORGANIZER;CN="LFU:online Universität Innsbruck":MAILTO:Uni-Innsbruck-noreply@uibk.ac.at
SUMMARY:VU Recht und Religion in Europa - juristische und kanonistische Perspektiven (LV 324014-0 20W)
DESCRIPTION:Lehrveranstaltung 324014 20W, Gruppe 0\nTitel: VU Recht und Religion in Europa - juristische und kanonistische Perspektiven\nOrt: Hörsaal E\n\nhttps://lfuonline.uibk.ac.at/public/lfuonline_lv.details?sem_id_in=20W&lvnr_id_in=324014\n
CLASS:PUBLIC
DTSTART:20201013T103000Z
DTEND:20201013T120000Z
DTSTAMP:20260422T151709Z
LOCATION:Hörsaal E
COMMENT:Präsenztermin
END:VEVENT
BEGIN:VEVENT
UID:20W_324014_3709612@uibk.ac.at
ORGANIZER;CN="LFU:online Universität Innsbruck":MAILTO:Uni-Innsbruck-noreply@uibk.ac.at
SUMMARY:VU Recht und Religion in Europa - juristische und kanonistische Perspektiven (LV 324014-0 20W)
DESCRIPTION:Lehrveranstaltung 324014 20W, Gruppe 0\nTitel: VU Recht und Religion in Europa - juristische und kanonistische Perspektiven\nOrt: Hörsaal E\n\nhttps://lfuonline.uibk.ac.at/public/lfuonline_lv.details?sem_id_in=20W&lvnr_id_in=324014\n
CLASS:PUBLIC
DTSTART:20201020T103000Z
DTEND:20201020T120000Z
DTSTAMP:20260422T151709Z
LOCATION:Hörsaal E
COMMENT:Präsenztermin
END:VEVENT
BEGIN:VEVENT
UID:20W_324014_3709613@uibk.ac.at
ORGANIZER;CN="LFU:online Universität Innsbruck":MAILTO:Uni-Innsbruck-noreply@uibk.ac.at
SUMMARY:VU Recht und Religion in Europa - juristische und kanonistische Perspektiven (LV 324014-0 20W)
DESCRIPTION:Lehrveranstaltung 324014 20W, Gruppe 0\nTitel: VU Recht und Religion in Europa - juristische und kanonistische Perspektiven\nOrt: Hörsaal E\n\nhttps://lfuonline.uibk.ac.at/public/lfuonline_lv.details?sem_id_in=20W&lvnr_id_in=324014\n
CLASS:PUBLIC
DTSTART:20201027T113000Z
DTEND:20201027T130000Z
DTSTAMP:20260422T151709Z
LOCATION:Hörsaal E
COMMENT:Präsenztermin
END:VEVENT
BEGIN:VEVENT
UID:20W_324014_3709614@uibk.ac.at
ORGANIZER;CN="LFU:online Universität Innsbruck":MAILTO:Uni-Innsbruck-noreply@uibk.ac.at
SUMMARY:VU Recht und Religion in Europa - juristische und kanonistische Perspektiven (LV 324014-0 20W)
DESCRIPTION:Lehrveranstaltung 324014 20W, Gruppe 0\nTitel: VU Recht und Religion in Europa - juristische und kanonistische Perspektiven\nOrt: online (Römisches Recht und Rechtsgeschichte)\n\nhttps://lfuonline.uibk.ac.at/public/lfuonline_lv.details?sem_id_in=20W&lvnr_id_in=324014\n
CLASS:PUBLIC
DTSTART:20201103T113000Z
DTEND:20201103T130000Z
DTSTAMP:20260422T151709Z
LOCATION:online (Römisches Recht und Rechtsgeschichte)
END:VEVENT
BEGIN:VEVENT
UID:20W_324014_3709615@uibk.ac.at
ORGANIZER;CN="LFU:online Universität Innsbruck":MAILTO:Uni-Innsbruck-noreply@uibk.ac.at
SUMMARY:VU Recht und Religion in Europa - juristische und kanonistische Perspektiven (LV 324014-0 20W)
DESCRIPTION:Lehrveranstaltung 324014 20W, Gruppe 0\nTitel: VU Recht und Religion in Europa - juristische und kanonistische Perspektiven\nOrt: online (Römisches Recht und Rechtsgeschichte)\n\nhttps://lfuonline.uibk.ac.at/public/lfuonline_lv.details?sem_id_in=20W&lvnr_id_in=324014\n
CLASS:PUBLIC
DTSTART:20201110T113000Z
DTEND:20201110T130000Z
DTSTAMP:20260422T151709Z
LOCATION:online (Römisches Recht und Rechtsgeschichte)
END:VEVENT
BEGIN:VEVENT
UID:20W_324014_3709616@uibk.ac.at
ORGANIZER;CN="LFU:online Universität Innsbruck":MAILTO:Uni-Innsbruck-noreply@uibk.ac.at
SUMMARY:VU Recht und Religion in Europa - juristische und kanonistische Perspektiven (LV 324014-0 20W)
DESCRIPTION:Lehrveranstaltung 324014 20W, Gruppe 0\nTitel: VU Recht und Religion in Europa - juristische und kanonistische Perspektiven\nOrt: online (Römisches Recht und Rechtsgeschichte)\n\nhttps://lfuonline.uibk.ac.at/public/lfuonline_lv.details?sem_id_in=20W&lvnr_id_in=324014\n
CLASS:PUBLIC
DTSTART:20201117T113000Z
DTEND:20201117T130000Z
DTSTAMP:20260422T151709Z
LOCATION:online (Römisches Recht und Rechtsgeschichte)
END:VEVENT
BEGIN:VEVENT
UID:20W_324014_3709617@uibk.ac.at
ORGANIZER;CN="LFU:online Universität Innsbruck":MAILTO:Uni-Innsbruck-noreply@uibk.ac.at
SUMMARY:VU Recht und Religion in Europa - juristische und kanonistische Perspektiven (LV 324014-0 20W)
DESCRIPTION:Lehrveranstaltung 324014 20W, Gruppe 0\nTitel: VU Recht und Religion in Europa - juristische und kanonistische Perspektiven\nOrt: online (Römisches Recht und Rechtsgeschichte)\n\nhttps://lfuonline.uibk.ac.at/public/lfuonline_lv.details?sem_id_in=20W&lvnr_id_in=324014\n
CLASS:PUBLIC
DTSTART:20201124T113000Z
DTEND:20201124T130000Z
DTSTAMP:20260422T151709Z
LOCATION:online (Römisches Recht und Rechtsgeschichte)
END:VEVENT
BEGIN:VEVENT
UID:20W_324014_3709618@uibk.ac.at
ORGANIZER;CN="LFU:online Universität Innsbruck":MAILTO:Uni-Innsbruck-noreply@uibk.ac.at
SUMMARY:VU Recht und Religion in Europa - juristische und kanonistische Perspektiven (LV 324014-0 20W)
DESCRIPTION:Lehrveranstaltung 324014 20W, Gruppe 0\nTitel: VU Recht und Religion in Europa - juristische und kanonistische Perspektiven\nOrt: online (Römisches Recht und Rechtsgeschichte)\n\nhttps://lfuonline.uibk.ac.at/public/lfuonline_lv.details?sem_id_in=20W&lvnr_id_in=324014\n
CLASS:PUBLIC
DTSTART:20201201T113000Z
DTEND:20201201T130000Z
DTSTAMP:20260422T151709Z
LOCATION:online (Römisches Recht und Rechtsgeschichte)
END:VEVENT
BEGIN:VEVENT
UID:20W_324014_3709619@uibk.ac.at
ORGANIZER;CN="LFU:online Universität Innsbruck":MAILTO:Uni-Innsbruck-noreply@uibk.ac.at
SUMMARY:VU Recht und Religion in Europa - juristische und kanonistische Perspektiven (LV 324014-0 20W)
DESCRIPTION:Lehrveranstaltung 324014 20W, Gruppe 0\nTitel: VU Recht und Religion in Europa - juristische und kanonistische Perspektiven\nOrt: online (Römisches Recht und Rechtsgeschichte)\n\nhttps://lfuonline.uibk.ac.at/public/lfuonline_lv.details?sem_id_in=20W&lvnr_id_in=324014\n
CLASS:PUBLIC
DTSTART:20201215T113000Z
DTEND:20201215T130000Z
DTSTAMP:20260422T151709Z
LOCATION:online (Römisches Recht und Rechtsgeschichte)
END:VEVENT
BEGIN:VEVENT
UID:20W_324014_3709620@uibk.ac.at
ORGANIZER;CN="LFU:online Universität Innsbruck":MAILTO:Uni-Innsbruck-noreply@uibk.ac.at
SUMMARY:VU Recht und Religion in Europa - juristische und kanonistische Perspektiven (LV 324014-0 20W)
DESCRIPTION:Lehrveranstaltung 324014 20W, Gruppe 0\nTitel: VU Recht und Religion in Europa - juristische und kanonistische Perspektiven\nOrt: online (Römisches Recht und Rechtsgeschichte)\n\nhttps://lfuonline.uibk.ac.at/public/lfuonline_lv.details?sem_id_in=20W&lvnr_id_in=324014\n
CLASS:PUBLIC
DTSTART:20210112T113000Z
DTEND:20210112T130000Z
DTSTAMP:20260422T151709Z
LOCATION:online (Römisches Recht und Rechtsgeschichte)
END:VEVENT
BEGIN:VEVENT
UID:20W_324014_3709621@uibk.ac.at
ORGANIZER;CN="LFU:online Universität Innsbruck":MAILTO:Uni-Innsbruck-noreply@uibk.ac.at
SUMMARY:VU Recht und Religion in Europa - juristische und kanonistische Perspektiven (LV 324014-0 20W)
DESCRIPTION:Lehrveranstaltung 324014 20W, Gruppe 0\nTitel: VU Recht und Religion in Europa - juristische und kanonistische Perspektiven\nOrt: online (Römisches Recht und Rechtsgeschichte)\n\nhttps://lfuonline.uibk.ac.at/public/lfuonline_lv.details?sem_id_in=20W&lvnr_id_in=324014\n
CLASS:PUBLIC
DTSTART:20210119T113000Z
DTEND:20210119T130000Z
DTSTAMP:20260422T151709Z
LOCATION:online (Römisches Recht und Rechtsgeschichte)
END:VEVENT
BEGIN:VEVENT
UID:20W_324014_3709622@uibk.ac.at
ORGANIZER;CN="LFU:online Universität Innsbruck":MAILTO:Uni-Innsbruck-noreply@uibk.ac.at
SUMMARY:VU Recht und Religion in Europa - juristische und kanonistische Perspektiven (LV 324014-0 20W)
DESCRIPTION:Lehrveranstaltung 324014 20W, Gruppe 0\nTitel: VU Recht und Religion in Europa - juristische und kanonistische Perspektiven\nOrt: online (Römisches Recht und Rechtsgeschichte)\n\nhttps://lfuonline.uibk.ac.at/public/lfuonline_lv.details?sem_id_in=20W&lvnr_id_in=324014\n
CLASS:PUBLIC
DTSTART:20210126T113000Z
DTEND:20210126T130000Z
DTSTAMP:20260422T151709Z
LOCATION:online (Römisches Recht und Rechtsgeschichte)
END:VEVENT
BEGIN:VEVENT
UID:20W_324014_3709623@uibk.ac.at
ORGANIZER;CN="LFU:online Universität Innsbruck":MAILTO:Uni-Innsbruck-noreply@uibk.ac.at
SUMMARY:VU Recht und Religion in Europa - juristische und kanonistische Perspektiven (LV 324014-0 20W)
DESCRIPTION:Lehrveranstaltung 324014 20W, Gruppe 0\nTitel: VU Recht und Religion in Europa - juristische und kanonistische Perspektiven\nOrt: online (Römisches Recht und Rechtsgeschichte)\n\nhttps://lfuonline.uibk.ac.at/public/lfuonline_lv.details?sem_id_in=20W&lvnr_id_in=324014\n
CLASS:PUBLIC
DTSTART:20210202T113000Z
DTEND:20210202T130000Z
DTSTAMP:20260422T151709Z
LOCATION:online (Römisches Recht und Rechtsgeschichte)
END:VEVENT
END:VCALENDAR