BEGIN:VCALENDAR
VERSION:2.0
PRODID:-//Universität Innsbruck//LFU:online//DE
METHOD:PUBLISH
BEGIN:VEVENT
UID:22S_325902_4036377@uibk.ac.at
ORGANIZER;CN="LFU:online Universität Innsbruck":MAILTO:Uni-Innsbruck-noreply@uibk.ac.at
SUMMARY:SE Diritto finanziario (DissertantInnen) (LV 325902-0 22S)
DESCRIPTION:Lehrveranstaltung 325902 22S, Gruppe 0\nTitel: SE Diritto finanziario (DissertantInnen)\nOrt: online (Italienisches Recht)\n\nhttps://lfuonline.uibk.ac.at/public/lfuonline_lv.details?sem_id_in=22S&lvnr_id_in=325902\n
CLASS:PUBLIC
DTSTART:20220307T133000Z
DTEND:20220307T150000Z
DTSTAMP:20260422T191802Z
LOCATION:online (Italienisches Recht)
END:VEVENT
BEGIN:VEVENT
UID:22S_325902_4036378@uibk.ac.at
ORGANIZER;CN="LFU:online Universität Innsbruck":MAILTO:Uni-Innsbruck-noreply@uibk.ac.at
SUMMARY:SE Diritto finanziario (DissertantInnen) (LV 325902-0 22S)
DESCRIPTION:Lehrveranstaltung 325902 22S, Gruppe 0\nTitel: SE Diritto finanziario (DissertantInnen)\nOrt: online (Italienisches Recht)\n\nhttps://lfuonline.uibk.ac.at/public/lfuonline_lv.details?sem_id_in=22S&lvnr_id_in=325902\n
CLASS:PUBLIC
DTSTART:20220314T133000Z
DTEND:20220314T150000Z
DTSTAMP:20260422T191802Z
LOCATION:online (Italienisches Recht)
END:VEVENT
BEGIN:VEVENT
UID:22S_325902_4036379@uibk.ac.at
ORGANIZER;CN="LFU:online Universität Innsbruck":MAILTO:Uni-Innsbruck-noreply@uibk.ac.at
SUMMARY:SE Diritto finanziario (DissertantInnen) (LV 325902-0 22S)
DESCRIPTION:Lehrveranstaltung 325902 22S, Gruppe 0\nTitel: SE Diritto finanziario (DissertantInnen)\nOrt: online (Italienisches Recht)\n\nhttps://lfuonline.uibk.ac.at/public/lfuonline_lv.details?sem_id_in=22S&lvnr_id_in=325902\n
CLASS:PUBLIC
DTSTART:20220321T133000Z
DTEND:20220321T150000Z
DTSTAMP:20260422T191802Z
LOCATION:online (Italienisches Recht)
END:VEVENT
BEGIN:VEVENT
UID:22S_325902_4036380@uibk.ac.at
ORGANIZER;CN="LFU:online Universität Innsbruck":MAILTO:Uni-Innsbruck-noreply@uibk.ac.at
SUMMARY:SE Diritto finanziario (DissertantInnen) (LV 325902-0 22S)
DESCRIPTION:Lehrveranstaltung 325902 22S, Gruppe 0\nTitel: SE Diritto finanziario (DissertantInnen)\nOrt: online (Italienisches Recht)\n\nhttps://lfuonline.uibk.ac.at/public/lfuonline_lv.details?sem_id_in=22S&lvnr_id_in=325902\n
CLASS:PUBLIC
DTSTART:20220328T123000Z
DTEND:20220328T140000Z
DTSTAMP:20260422T191802Z
LOCATION:online (Italienisches Recht)
END:VEVENT
BEGIN:VEVENT
UID:22S_325902_4036367@uibk.ac.at
ORGANIZER;CN="LFU:online Universität Innsbruck":MAILTO:Uni-Innsbruck-noreply@uibk.ac.at
SUMMARY:SE Diritto finanziario (DissertantInnen) (LV 325902-0 22S)
DESCRIPTION:Lehrveranstaltung 325902 22S, Gruppe 0\nTitel: SE Diritto finanziario (DissertantInnen)\nOrt: online (Italienisches Recht)\n\nhttps://lfuonline.uibk.ac.at/public/lfuonline_lv.details?sem_id_in=22S&lvnr_id_in=325902\n
CLASS:PUBLIC
DTSTART:20220404T123000Z
DTEND:20220404T140000Z
DTSTAMP:20260422T191802Z
LOCATION:online (Italienisches Recht)
END:VEVENT
BEGIN:VEVENT
UID:22S_325902_4036368@uibk.ac.at
ORGANIZER;CN="LFU:online Universität Innsbruck":MAILTO:Uni-Innsbruck-noreply@uibk.ac.at
SUMMARY:SE Diritto finanziario (DissertantInnen) (LV 325902-0 22S)
DESCRIPTION:Lehrveranstaltung 325902 22S, Gruppe 0\nTitel: SE Diritto finanziario (DissertantInnen)\nOrt: 52U105\n\nhttps://lfuonline.uibk.ac.at/public/lfuonline_lv.details?sem_id_in=22S&lvnr_id_in=325902\n
CLASS:PUBLIC
DTSTART:20220425T120000Z
DTEND:20220425T133000Z
DTSTAMP:20260422T191802Z
LOCATION:52U105
END:VEVENT
BEGIN:VEVENT
UID:22S_325902_4073086@uibk.ac.at
ORGANIZER;CN="LFU:online Universität Innsbruck":MAILTO:Uni-Innsbruck-noreply@uibk.ac.at
SUMMARY:SE Diritto finanziario (DissertantInnen) (LV 325902-0 22S)
DESCRIPTION:Lehrveranstaltung 325902 22S, Gruppe 0\nTitel: SE Diritto finanziario (DissertantInnen)\nOrt: SR 3114\n\nhttps://lfuonline.uibk.ac.at/public/lfuonline_lv.details?sem_id_in=22S&lvnr_id_in=325902\n
CLASS:PUBLIC
DTSTART:20220427T090000Z
DTEND:20220427T103000Z
DTSTAMP:20260422T191802Z
LOCATION:SR 3114
END:VEVENT
BEGIN:VEVENT
UID:22S_325902_4036370@uibk.ac.at
ORGANIZER;CN="LFU:online Universität Innsbruck":MAILTO:Uni-Innsbruck-noreply@uibk.ac.at
SUMMARY:SE Diritto finanziario (DissertantInnen) (LV 325902-0 22S)
DESCRIPTION:Lehrveranstaltung 325902 22S, Gruppe 0\nTitel: SE Diritto finanziario (DissertantInnen)\nOrt: 52U105\n\nhttps://lfuonline.uibk.ac.at/public/lfuonline_lv.details?sem_id_in=22S&lvnr_id_in=325902\n
CLASS:PUBLIC
DTSTART:20220509T120000Z
DTEND:20220509T133000Z
DTSTAMP:20260422T191802Z
LOCATION:52U105
END:VEVENT
BEGIN:VEVENT
UID:22S_325902_4036375@uibk.ac.at
ORGANIZER;CN="LFU:online Universität Innsbruck":MAILTO:Uni-Innsbruck-noreply@uibk.ac.at
SUMMARY:SE Diritto finanziario (DissertantInnen) (LV 325902-0 22S)
DESCRIPTION:Lehrveranstaltung 325902 22S, Gruppe 0\nTitel: SE Diritto finanziario (DissertantInnen)\nOrt: Hörsaal E\n\nhttps://lfuonline.uibk.ac.at/public/lfuonline_lv.details?sem_id_in=22S&lvnr_id_in=325902\n
CLASS:PUBLIC
DTSTART:20220514T090000Z
DTEND:20220514T103000Z
DTSTAMP:20260422T191802Z
LOCATION:Hörsaal E
END:VEVENT
BEGIN:VEVENT
UID:22S_325902_4036374@uibk.ac.at
ORGANIZER;CN="LFU:online Universität Innsbruck":MAILTO:Uni-Innsbruck-noreply@uibk.ac.at
SUMMARY:SE Diritto finanziario (DissertantInnen) (LV 325902-0 22S)
DESCRIPTION:Lehrveranstaltung 325902 22S, Gruppe 0\nTitel: SE Diritto finanziario (DissertantInnen)\nOrt: Hörsaal E\n\nhttps://lfuonline.uibk.ac.at/public/lfuonline_lv.details?sem_id_in=22S&lvnr_id_in=325902\n
CLASS:PUBLIC
DTSTART:20220514T120000Z
DTEND:20220514T150000Z
DTSTAMP:20260422T191802Z
LOCATION:Hörsaal E
END:VEVENT
BEGIN:VEVENT
UID:22S_325902_4036371@uibk.ac.at
ORGANIZER;CN="LFU:online Universität Innsbruck":MAILTO:Uni-Innsbruck-noreply@uibk.ac.at
SUMMARY:SE Diritto finanziario (DissertantInnen) (LV 325902-0 22S)
DESCRIPTION:Lehrveranstaltung 325902 22S, Gruppe 0\nTitel: SE Diritto finanziario (DissertantInnen)\nOrt: 52U105\n\nhttps://lfuonline.uibk.ac.at/public/lfuonline_lv.details?sem_id_in=22S&lvnr_id_in=325902\n
CLASS:PUBLIC
DTSTART:20220516T120000Z
DTEND:20220516T133000Z
DTSTAMP:20260422T191802Z
LOCATION:52U105
END:VEVENT
BEGIN:VEVENT
UID:22S_325902_4035744@uibk.ac.at
ORGANIZER;CN="LFU:online Universität Innsbruck":MAILTO:Uni-Innsbruck-noreply@uibk.ac.at
SUMMARY:SE Diritto finanziario (DissertantInnen) (LV 325902-0 22S)
DESCRIPTION:Lehrveranstaltung 325902 22S, Gruppe 0\nTitel: SE Diritto finanziario (DissertantInnen)\nOrt: Hörsaal E\n\nhttps://lfuonline.uibk.ac.at/public/lfuonline_lv.details?sem_id_in=22S&lvnr_id_in=325902\n
CLASS:PUBLIC
DTSTART:20220525T150000Z
DTEND:20220525T163000Z
DTSTAMP:20260422T191802Z
LOCATION:Hörsaal E
END:VEVENT
BEGIN:VEVENT
UID:22S_325902_4129175@uibk.ac.at
ORGANIZER;CN="LFU:online Universität Innsbruck":MAILTO:Uni-Innsbruck-noreply@uibk.ac.at
SUMMARY:SE Diritto finanziario (DissertantInnen) (LV 325902-0 22S)
DESCRIPTION:Lehrveranstaltung 325902 22S, Gruppe 0\nTitel: SE Diritto finanziario (DissertantInnen)\nOrt: Hörsaal G\n\nhttps://lfuonline.uibk.ac.at/public/lfuonline_lv.details?sem_id_in=22S&lvnr_id_in=325902\n
CLASS:PUBLIC
DTSTART:20220530T120000Z
DTEND:20220530T133000Z
DTSTAMP:20260422T191802Z
LOCATION:Hörsaal G
END:VEVENT
BEGIN:VEVENT
UID:22S_325902_4036376@uibk.ac.at
ORGANIZER;CN="LFU:online Universität Innsbruck":MAILTO:Uni-Innsbruck-noreply@uibk.ac.at
SUMMARY:SE Diritto finanziario (DissertantInnen) (LV 325902-0 22S)
DESCRIPTION:Lehrveranstaltung 325902 22S, Gruppe 0\nTitel: SE Diritto finanziario (DissertantInnen)\nOrt: 52U105\n\nhttps://lfuonline.uibk.ac.at/public/lfuonline_lv.details?sem_id_in=22S&lvnr_id_in=325902\n
CLASS:PUBLIC
DTSTART:20220627T120000Z
DTEND:20220627T133000Z
DTSTAMP:20260422T191802Z
LOCATION:52U105
END:VEVENT
END:VCALENDAR