BEGIN:VCALENDAR
VERSION:2.0
PRODID:-//Universität Innsbruck//LFU:online//DE
METHOD:PUBLISH
BEGIN:VEVENT
UID:26S_326103_5026282@uibk.ac.at
ORGANIZER;CN="LFU:online Universität Innsbruck":MAILTO:Uni-Innsbruck-noreply@uibk.ac.at
SUMMARY:VO Datenwirtschaft (LV 326103-0 26S)
DESCRIPTION:Lehrveranstaltung 326103 26S, Gruppe 0\nTitel: VO Datenwirtschaft\nOrt: HS 2 (Sowi)\n\nhttps://lfuonline.uibk.ac.at/public/lfuonline_lv.details?sem_id_in=26S&lvnr_id_in=326103\n
CLASS:PUBLIC
DTSTART:20260324T140000Z
DTEND:20260324T163000Z
DTSTAMP:20260425T182720Z
LOCATION:HS 2 (Sowi)
END:VEVENT
BEGIN:VEVENT
UID:26S_326103_5026283@uibk.ac.at
ORGANIZER;CN="LFU:online Universität Innsbruck":MAILTO:Uni-Innsbruck-noreply@uibk.ac.at
SUMMARY:VO Datenwirtschaft (LV 326103-0 26S)
DESCRIPTION:Lehrveranstaltung 326103 26S, Gruppe 0\nTitel: VO Datenwirtschaft\nOrt: HS 2 (Sowi)\n\nhttps://lfuonline.uibk.ac.at/public/lfuonline_lv.details?sem_id_in=26S&lvnr_id_in=326103\n
CLASS:PUBLIC
DTSTART:20260414T130000Z
DTEND:20260414T153000Z
DTSTAMP:20260425T182720Z
LOCATION:HS 2 (Sowi)
END:VEVENT
BEGIN:VEVENT
UID:26S_326103_5026285@uibk.ac.at
ORGANIZER;CN="LFU:online Universität Innsbruck":MAILTO:Uni-Innsbruck-noreply@uibk.ac.at
SUMMARY:VO Datenwirtschaft (LV 326103-0 26S)
DESCRIPTION:Lehrveranstaltung 326103 26S, Gruppe 0\nTitel: VO Datenwirtschaft\nOrt: HS 2 (Sowi)\n\nhttps://lfuonline.uibk.ac.at/public/lfuonline_lv.details?sem_id_in=26S&lvnr_id_in=326103\n
CLASS:PUBLIC
DTSTART:20260421T130000Z
DTEND:20260421T153000Z
DTSTAMP:20260425T182720Z
LOCATION:HS 2 (Sowi)
END:VEVENT
BEGIN:VEVENT
UID:26S_326103_5026287@uibk.ac.at
ORGANIZER;CN="LFU:online Universität Innsbruck":MAILTO:Uni-Innsbruck-noreply@uibk.ac.at
SUMMARY:VO Datenwirtschaft (LV 326103-0 26S)
DESCRIPTION:Lehrveranstaltung 326103 26S, Gruppe 0\nTitel: VO Datenwirtschaft\nOrt: HS 2 (Sowi)\n\nhttps://lfuonline.uibk.ac.at/public/lfuonline_lv.details?sem_id_in=26S&lvnr_id_in=326103\n
CLASS:PUBLIC
DTSTART:20260428T130000Z
DTEND:20260428T153000Z
DTSTAMP:20260425T182720Z
LOCATION:HS 2 (Sowi)
END:VEVENT
BEGIN:VEVENT
UID:26S_326103_5026284@uibk.ac.at
ORGANIZER;CN="LFU:online Universität Innsbruck":MAILTO:Uni-Innsbruck-noreply@uibk.ac.at
SUMMARY:VO Datenwirtschaft (LV 326103-0 26S)
DESCRIPTION:Lehrveranstaltung 326103 26S, Gruppe 0\nTitel: VO Datenwirtschaft\nOrt: HS 2 (Sowi)\n\nhttps://lfuonline.uibk.ac.at/public/lfuonline_lv.details?sem_id_in=26S&lvnr_id_in=326103\n
CLASS:PUBLIC
DTSTART:20260505T130000Z
DTEND:20260505T153000Z
DTSTAMP:20260425T182720Z
LOCATION:HS 2 (Sowi)
END:VEVENT
END:VCALENDAR