BEGIN:VCALENDAR
VERSION:2.0
PRODID:-//Universität Innsbruck//LFU:online//DE
METHOD:PUBLISH
BEGIN:VEVENT
UID:26S_326104_4991995@uibk.ac.at
ORGANIZER;CN="LFU:online Universität Innsbruck":MAILTO:Uni-Innsbruck-noreply@uibk.ac.at
SUMMARY:VO Datenschutzrecht I (LV 326104-0 26S)
DESCRIPTION:Lehrveranstaltung 326104 26S, Gruppe 0\nTitel: VO Datenschutzrecht I\nOrt: Hörsaal G\n\nhttps://lfuonline.uibk.ac.at/public/lfuonline_lv.details?sem_id_in=26S&lvnr_id_in=326104\n
CLASS:PUBLIC
DTSTART:20260429T063000Z
DTEND:20260429T094500Z
DTSTAMP:20260425T230651Z
LOCATION:Hörsaal G
END:VEVENT
BEGIN:VEVENT
UID:26S_326104_4991996@uibk.ac.at
ORGANIZER;CN="LFU:online Universität Innsbruck":MAILTO:Uni-Innsbruck-noreply@uibk.ac.at
SUMMARY:VO Datenschutzrecht I (LV 326104-0 26S)
DESCRIPTION:Lehrveranstaltung 326104 26S, Gruppe 0\nTitel: VO Datenschutzrecht I\nOrt: Hörsaal G\n\nhttps://lfuonline.uibk.ac.at/public/lfuonline_lv.details?sem_id_in=26S&lvnr_id_in=326104\n
CLASS:PUBLIC
DTSTART:20260506T063000Z
DTEND:20260506T094500Z
DTSTAMP:20260425T230651Z
LOCATION:Hörsaal G
END:VEVENT
BEGIN:VEVENT
UID:26S_326104_4991997@uibk.ac.at
ORGANIZER;CN="LFU:online Universität Innsbruck":MAILTO:Uni-Innsbruck-noreply@uibk.ac.at
SUMMARY:VO Datenschutzrecht I (LV 326104-0 26S)
DESCRIPTION:Lehrveranstaltung 326104 26S, Gruppe 0\nTitel: VO Datenschutzrecht I\nOrt: Hörsaal G\n\nhttps://lfuonline.uibk.ac.at/public/lfuonline_lv.details?sem_id_in=26S&lvnr_id_in=326104\n
CLASS:PUBLIC
DTSTART:20260513T063000Z
DTEND:20260513T094500Z
DTSTAMP:20260425T230651Z
LOCATION:Hörsaal G
END:VEVENT
BEGIN:VEVENT
UID:26S_326104_4991998@uibk.ac.at
ORGANIZER;CN="LFU:online Universität Innsbruck":MAILTO:Uni-Innsbruck-noreply@uibk.ac.at
SUMMARY:VO Datenschutzrecht I (LV 326104-0 26S)
DESCRIPTION:Lehrveranstaltung 326104 26S, Gruppe 0\nTitel: VO Datenschutzrecht I\nOrt: Hörsaal G\n\nhttps://lfuonline.uibk.ac.at/public/lfuonline_lv.details?sem_id_in=26S&lvnr_id_in=326104\n
CLASS:PUBLIC
DTSTART:20260520T081500Z
DTEND:20260520T094500Z
DTSTAMP:20260425T230651Z
LOCATION:Hörsaal G
END:VEVENT
BEGIN:VEVENT
UID:26S_326104_5059200@uibk.ac.at
ORGANIZER;CN="LFU:online Universität Innsbruck":MAILTO:Uni-Innsbruck-noreply@uibk.ac.at
SUMMARY:VO Datenschutzrecht I (LV 326104-0 26S)
DESCRIPTION:Lehrveranstaltung 326104 26S, Gruppe 0\nTitel: VO Datenschutzrecht I\nOrt: Hörsaal A\n\nhttps://lfuonline.uibk.ac.at/public/lfuonline_lv.details?sem_id_in=26S&lvnr_id_in=326104\n
CLASS:PUBLIC
DTSTART:20260527T081500Z
DTEND:20260527T094500Z
DTSTAMP:20260425T230651Z
LOCATION:Hörsaal A
COMMENT:1. Prüfungstermin
END:VEVENT
BEGIN:VEVENT
UID:26S_326104_5068463@uibk.ac.at
ORGANIZER;CN="LFU:online Universität Innsbruck":MAILTO:Uni-Innsbruck-noreply@uibk.ac.at
SUMMARY:VO Datenschutzrecht I (LV 326104-0 26S)
DESCRIPTION:Lehrveranstaltung 326104 26S, Gruppe 0\nTitel: VO Datenschutzrecht I\nOrt: Hörsaal G\n\nhttps://lfuonline.uibk.ac.at/public/lfuonline_lv.details?sem_id_in=26S&lvnr_id_in=326104\n
CLASS:PUBLIC
DTSTART:20260930T081500Z
DTEND:20260930T094500Z
DTSTAMP:20260425T230651Z
LOCATION:Hörsaal G
COMMENT:2. Prüfungstermin
END:VEVENT
END:VCALENDAR