BEGIN:VCALENDAR
VERSION:2.0
PRODID:-//Universität Innsbruck//LFU:online//DE
METHOD:PUBLISH
BEGIN:VEVENT
UID:26S_326202_5008181@uibk.ac.at
ORGANIZER;CN="LFU:online Universität Innsbruck":MAILTO:Uni-Innsbruck-noreply@uibk.ac.at
SUMMARY:VO Grundlagen des Rechts der Nachhaltigkeit (LV 326202-0 26S)
DESCRIPTION:Lehrveranstaltung 326202 26S, Gruppe 0\nTitel: VO Grundlagen des Rechts der Nachhaltigkeit\nOrt: Seminarraum  2 (Innrain 52a) 01M010\n\nhttps://lfuonline.uibk.ac.at/public/lfuonline_lv.details?sem_id_in=26S&lvnr_id_in=326202\n
CLASS:PUBLIC
DTSTART:20260303T091500Z
DTEND:20260303T104500Z
DTSTAMP:20260425T230651Z
LOCATION:Seminarraum  2 (Innrain 52a) 01M010
END:VEVENT
BEGIN:VEVENT
UID:26S_326202_5008182@uibk.ac.at
ORGANIZER;CN="LFU:online Universität Innsbruck":MAILTO:Uni-Innsbruck-noreply@uibk.ac.at
SUMMARY:VO Grundlagen des Rechts der Nachhaltigkeit (LV 326202-0 26S)
DESCRIPTION:Lehrveranstaltung 326202 26S, Gruppe 0\nTitel: VO Grundlagen des Rechts der Nachhaltigkeit\nOrt: Seminarraum  2 (Innrain 52a) 01M010\n\nhttps://lfuonline.uibk.ac.at/public/lfuonline_lv.details?sem_id_in=26S&lvnr_id_in=326202\n
CLASS:PUBLIC
DTSTART:20260310T091500Z
DTEND:20260310T104500Z
DTSTAMP:20260425T230651Z
LOCATION:Seminarraum  2 (Innrain 52a) 01M010
END:VEVENT
BEGIN:VEVENT
UID:26S_326202_5008183@uibk.ac.at
ORGANIZER;CN="LFU:online Universität Innsbruck":MAILTO:Uni-Innsbruck-noreply@uibk.ac.at
SUMMARY:VO Grundlagen des Rechts der Nachhaltigkeit (LV 326202-0 26S)
DESCRIPTION:Lehrveranstaltung 326202 26S, Gruppe 0\nTitel: VO Grundlagen des Rechts der Nachhaltigkeit\nOrt: Seminarraum  2 (Innrain 52a) 01M010\n\nhttps://lfuonline.uibk.ac.at/public/lfuonline_lv.details?sem_id_in=26S&lvnr_id_in=326202\n
CLASS:PUBLIC
DTSTART:20260317T091500Z
DTEND:20260317T104500Z
DTSTAMP:20260425T230651Z
LOCATION:Seminarraum  2 (Innrain 52a) 01M010
END:VEVENT
BEGIN:VEVENT
UID:26S_326202_5008184@uibk.ac.at
ORGANIZER;CN="LFU:online Universität Innsbruck":MAILTO:Uni-Innsbruck-noreply@uibk.ac.at
SUMMARY:VO Grundlagen des Rechts der Nachhaltigkeit (LV 326202-0 26S)
DESCRIPTION:Lehrveranstaltung 326202 26S, Gruppe 0\nTitel: VO Grundlagen des Rechts der Nachhaltigkeit\nOrt: Seminarraum  2 (Innrain 52a) 01M010\n\nhttps://lfuonline.uibk.ac.at/public/lfuonline_lv.details?sem_id_in=26S&lvnr_id_in=326202\n
CLASS:PUBLIC
DTSTART:20260324T091500Z
DTEND:20260324T104500Z
DTSTAMP:20260425T230651Z
LOCATION:Seminarraum  2 (Innrain 52a) 01M010
END:VEVENT
BEGIN:VEVENT
UID:26S_326202_5008185@uibk.ac.at
ORGANIZER;CN="LFU:online Universität Innsbruck":MAILTO:Uni-Innsbruck-noreply@uibk.ac.at
SUMMARY:VO Grundlagen des Rechts der Nachhaltigkeit (LV 326202-0 26S)
DESCRIPTION:Lehrveranstaltung 326202 26S, Gruppe 0\nTitel: VO Grundlagen des Rechts der Nachhaltigkeit\nOrt: Seminarraum  2 (Innrain 52a) 01M010\n\nhttps://lfuonline.uibk.ac.at/public/lfuonline_lv.details?sem_id_in=26S&lvnr_id_in=326202\n
CLASS:PUBLIC
DTSTART:20260414T081500Z
DTEND:20260414T094500Z
DTSTAMP:20260425T230651Z
LOCATION:Seminarraum  2 (Innrain 52a) 01M010
END:VEVENT
BEGIN:VEVENT
UID:26S_326202_5008186@uibk.ac.at
ORGANIZER;CN="LFU:online Universität Innsbruck":MAILTO:Uni-Innsbruck-noreply@uibk.ac.at
SUMMARY:VO Grundlagen des Rechts der Nachhaltigkeit (LV 326202-0 26S)
DESCRIPTION:Lehrveranstaltung 326202 26S, Gruppe 0\nTitel: VO Grundlagen des Rechts der Nachhaltigkeit\nOrt: Seminarraum  2 (Innrain 52a) 01M010\n\nhttps://lfuonline.uibk.ac.at/public/lfuonline_lv.details?sem_id_in=26S&lvnr_id_in=326202\n
CLASS:PUBLIC
DTSTART:20260421T081500Z
DTEND:20260421T094500Z
DTSTAMP:20260425T230651Z
LOCATION:Seminarraum  2 (Innrain 52a) 01M010
END:VEVENT
BEGIN:VEVENT
UID:26S_326202_5008187@uibk.ac.at
ORGANIZER;CN="LFU:online Universität Innsbruck":MAILTO:Uni-Innsbruck-noreply@uibk.ac.at
SUMMARY:VO Grundlagen des Rechts der Nachhaltigkeit (LV 326202-0 26S)
DESCRIPTION:Lehrveranstaltung 326202 26S, Gruppe 0\nTitel: VO Grundlagen des Rechts der Nachhaltigkeit\nOrt: Seminarraum  2 (Innrain 52a) 01M010\n\nhttps://lfuonline.uibk.ac.at/public/lfuonline_lv.details?sem_id_in=26S&lvnr_id_in=326202\n
CLASS:PUBLIC
DTSTART:20260428T081500Z
DTEND:20260428T094500Z
DTSTAMP:20260425T230651Z
LOCATION:Seminarraum  2 (Innrain 52a) 01M010
END:VEVENT
BEGIN:VEVENT
UID:26S_326202_5008188@uibk.ac.at
ORGANIZER;CN="LFU:online Universität Innsbruck":MAILTO:Uni-Innsbruck-noreply@uibk.ac.at
SUMMARY:VO Grundlagen des Rechts der Nachhaltigkeit (LV 326202-0 26S)
DESCRIPTION:Lehrveranstaltung 326202 26S, Gruppe 0\nTitel: VO Grundlagen des Rechts der Nachhaltigkeit\nOrt: Seminarraum  2 (Innrain 52a) 01M010\n\nhttps://lfuonline.uibk.ac.at/public/lfuonline_lv.details?sem_id_in=26S&lvnr_id_in=326202\n
CLASS:PUBLIC
DTSTART:20260505T081500Z
DTEND:20260505T094500Z
DTSTAMP:20260425T230651Z
LOCATION:Seminarraum  2 (Innrain 52a) 01M010
END:VEVENT
BEGIN:VEVENT
UID:26S_326202_5008189@uibk.ac.at
ORGANIZER;CN="LFU:online Universität Innsbruck":MAILTO:Uni-Innsbruck-noreply@uibk.ac.at
SUMMARY:VO Grundlagen des Rechts der Nachhaltigkeit (LV 326202-0 26S)
DESCRIPTION:Lehrveranstaltung 326202 26S, Gruppe 0\nTitel: VO Grundlagen des Rechts der Nachhaltigkeit\nOrt: Seminarraum  2 (Innrain 52a) 01M010\n\nhttps://lfuonline.uibk.ac.at/public/lfuonline_lv.details?sem_id_in=26S&lvnr_id_in=326202\n
CLASS:PUBLIC
DTSTART:20260512T081500Z
DTEND:20260512T094500Z
DTSTAMP:20260425T230651Z
LOCATION:Seminarraum  2 (Innrain 52a) 01M010
END:VEVENT
BEGIN:VEVENT
UID:26S_326202_5008190@uibk.ac.at
ORGANIZER;CN="LFU:online Universität Innsbruck":MAILTO:Uni-Innsbruck-noreply@uibk.ac.at
SUMMARY:VO Grundlagen des Rechts der Nachhaltigkeit (LV 326202-0 26S)
DESCRIPTION:Lehrveranstaltung 326202 26S, Gruppe 0\nTitel: VO Grundlagen des Rechts der Nachhaltigkeit\nOrt: Seminarraum  2 (Innrain 52a) 01M010\n\nhttps://lfuonline.uibk.ac.at/public/lfuonline_lv.details?sem_id_in=26S&lvnr_id_in=326202\n
CLASS:PUBLIC
DTSTART:20260519T081500Z
DTEND:20260519T094500Z
DTSTAMP:20260425T230651Z
LOCATION:Seminarraum  2 (Innrain 52a) 01M010
END:VEVENT
BEGIN:VEVENT
UID:26S_326202_5008191@uibk.ac.at
ORGANIZER;CN="LFU:online Universität Innsbruck":MAILTO:Uni-Innsbruck-noreply@uibk.ac.at
SUMMARY:VO Grundlagen des Rechts der Nachhaltigkeit (LV 326202-0 26S)
DESCRIPTION:Lehrveranstaltung 326202 26S, Gruppe 0\nTitel: VO Grundlagen des Rechts der Nachhaltigkeit\nOrt: Seminarraum  2 (Innrain 52a) 01M010\n\nhttps://lfuonline.uibk.ac.at/public/lfuonline_lv.details?sem_id_in=26S&lvnr_id_in=326202\n
CLASS:PUBLIC
DTSTART:20260526T081500Z
DTEND:20260526T094500Z
DTSTAMP:20260425T230651Z
LOCATION:Seminarraum  2 (Innrain 52a) 01M010
END:VEVENT
BEGIN:VEVENT
UID:26S_326202_5008192@uibk.ac.at
ORGANIZER;CN="LFU:online Universität Innsbruck":MAILTO:Uni-Innsbruck-noreply@uibk.ac.at
SUMMARY:VO Grundlagen des Rechts der Nachhaltigkeit (LV 326202-0 26S)
DESCRIPTION:Lehrveranstaltung 326202 26S, Gruppe 0\nTitel: VO Grundlagen des Rechts der Nachhaltigkeit\nOrt: Seminarraum  2 (Innrain 52a) 01M010\n\nhttps://lfuonline.uibk.ac.at/public/lfuonline_lv.details?sem_id_in=26S&lvnr_id_in=326202\n
CLASS:PUBLIC
DTSTART:20260602T081500Z
DTEND:20260602T094500Z
DTSTAMP:20260425T230651Z
LOCATION:Seminarraum  2 (Innrain 52a) 01M010
END:VEVENT
BEGIN:VEVENT
UID:26S_326202_5008193@uibk.ac.at
ORGANIZER;CN="LFU:online Universität Innsbruck":MAILTO:Uni-Innsbruck-noreply@uibk.ac.at
SUMMARY:VO Grundlagen des Rechts der Nachhaltigkeit (LV 326202-0 26S)
DESCRIPTION:Lehrveranstaltung 326202 26S, Gruppe 0\nTitel: VO Grundlagen des Rechts der Nachhaltigkeit\nOrt: Seminarraum  2 (Innrain 52a) 01M010\n\nhttps://lfuonline.uibk.ac.at/public/lfuonline_lv.details?sem_id_in=26S&lvnr_id_in=326202\n
CLASS:PUBLIC
DTSTART:20260609T081500Z
DTEND:20260609T094500Z
DTSTAMP:20260425T230651Z
LOCATION:Seminarraum  2 (Innrain 52a) 01M010
END:VEVENT
BEGIN:VEVENT
UID:26S_326202_5008194@uibk.ac.at
ORGANIZER;CN="LFU:online Universität Innsbruck":MAILTO:Uni-Innsbruck-noreply@uibk.ac.at
SUMMARY:VO Grundlagen des Rechts der Nachhaltigkeit (LV 326202-0 26S)
DESCRIPTION:Lehrveranstaltung 326202 26S, Gruppe 0\nTitel: VO Grundlagen des Rechts der Nachhaltigkeit\nOrt: Seminarraum  2 (Innrain 52a) 01M010\n\nhttps://lfuonline.uibk.ac.at/public/lfuonline_lv.details?sem_id_in=26S&lvnr_id_in=326202\n
CLASS:PUBLIC
DTSTART:20260616T081500Z
DTEND:20260616T094500Z
DTSTAMP:20260425T230651Z
LOCATION:Seminarraum  2 (Innrain 52a) 01M010
END:VEVENT
BEGIN:VEVENT
UID:26S_326202_5008195@uibk.ac.at
ORGANIZER;CN="LFU:online Universität Innsbruck":MAILTO:Uni-Innsbruck-noreply@uibk.ac.at
SUMMARY:VO Grundlagen des Rechts der Nachhaltigkeit (LV 326202-0 26S)
DESCRIPTION:Lehrveranstaltung 326202 26S, Gruppe 0\nTitel: VO Grundlagen des Rechts der Nachhaltigkeit\nOrt: Seminarraum  2 (Innrain 52a) 01M010\n\nhttps://lfuonline.uibk.ac.at/public/lfuonline_lv.details?sem_id_in=26S&lvnr_id_in=326202\n
CLASS:PUBLIC
DTSTART:20260623T081500Z
DTEND:20260623T094500Z
DTSTAMP:20260425T230651Z
LOCATION:Seminarraum  2 (Innrain 52a) 01M010
END:VEVENT
BEGIN:VEVENT
UID:26S_326202_5068465@uibk.ac.at
ORGANIZER;CN="LFU:online Universität Innsbruck":MAILTO:Uni-Innsbruck-noreply@uibk.ac.at
SUMMARY:VO Grundlagen des Rechts der Nachhaltigkeit (LV 326202-0 26S)
DESCRIPTION:Lehrveranstaltung 326202 26S, Gruppe 0\nTitel: VO Grundlagen des Rechts der Nachhaltigkeit\nOrt: Hörsaal G\n\nhttps://lfuonline.uibk.ac.at/public/lfuonline_lv.details?sem_id_in=26S&lvnr_id_in=326202\n
CLASS:PUBLIC
DTSTART:20260930T081500Z
DTEND:20260930T094500Z
DTSTAMP:20260425T230651Z
LOCATION:Hörsaal G
COMMENT:2. Prüfungstermin
END:VEVENT
END:VCALENDAR