BEGIN:VCALENDAR
VERSION:2.0
PRODID:-//Universität Innsbruck//LFU:online//DE
METHOD:PUBLISH
BEGIN:VEVENT
UID:26S_402030_4963334@uibk.ac.at
ORGANIZER;CN="LFU:online Universität Innsbruck":MAILTO:Uni-Innsbruck-noreply@uibk.ac.at
SUMMARY:VO Politische Theorie und Ideengeschichte (LV 402030-0 26S)
DESCRIPTION:Lehrveranstaltung 402030 26S, Gruppe 0\nTitel: VO Politische Theorie und Ideengeschichte\nOrt: HS 3 (Sowi)\n\nhttps://lfuonline.uibk.ac.at/public/lfuonline_lv.details?sem_id_in=26S&lvnr_id_in=402030\n
CLASS:PUBLIC
DTSTART:20260310T084500Z
DTEND:20260310T101500Z
DTSTAMP:20260422T211341Z
LOCATION:HS 3 (Sowi)
END:VEVENT
BEGIN:VEVENT
UID:26S_402030_4963335@uibk.ac.at
ORGANIZER;CN="LFU:online Universität Innsbruck":MAILTO:Uni-Innsbruck-noreply@uibk.ac.at
SUMMARY:VO Politische Theorie und Ideengeschichte (LV 402030-0 26S)
DESCRIPTION:Lehrveranstaltung 402030 26S, Gruppe 0\nTitel: VO Politische Theorie und Ideengeschichte\nOrt: HS 3 (Sowi)\n\nhttps://lfuonline.uibk.ac.at/public/lfuonline_lv.details?sem_id_in=26S&lvnr_id_in=402030\n
CLASS:PUBLIC
DTSTART:20260317T084500Z
DTEND:20260317T101500Z
DTSTAMP:20260422T211341Z
LOCATION:HS 3 (Sowi)
END:VEVENT
BEGIN:VEVENT
UID:26S_402030_4963336@uibk.ac.at
ORGANIZER;CN="LFU:online Universität Innsbruck":MAILTO:Uni-Innsbruck-noreply@uibk.ac.at
SUMMARY:VO Politische Theorie und Ideengeschichte (LV 402030-0 26S)
DESCRIPTION:Lehrveranstaltung 402030 26S, Gruppe 0\nTitel: VO Politische Theorie und Ideengeschichte\nOrt: HS 3 (Sowi)\n\nhttps://lfuonline.uibk.ac.at/public/lfuonline_lv.details?sem_id_in=26S&lvnr_id_in=402030\n
CLASS:PUBLIC
DTSTART:20260324T084500Z
DTEND:20260324T101500Z
DTSTAMP:20260422T211341Z
LOCATION:HS 3 (Sowi)
END:VEVENT
BEGIN:VEVENT
UID:26S_402030_4963337@uibk.ac.at
ORGANIZER;CN="LFU:online Universität Innsbruck":MAILTO:Uni-Innsbruck-noreply@uibk.ac.at
SUMMARY:VO Politische Theorie und Ideengeschichte (LV 402030-0 26S)
DESCRIPTION:Lehrveranstaltung 402030 26S, Gruppe 0\nTitel: VO Politische Theorie und Ideengeschichte\nOrt: HS 3 (Sowi)\n\nhttps://lfuonline.uibk.ac.at/public/lfuonline_lv.details?sem_id_in=26S&lvnr_id_in=402030\n
CLASS:PUBLIC
DTSTART:20260414T074500Z
DTEND:20260414T091500Z
DTSTAMP:20260422T211341Z
LOCATION:HS 3 (Sowi)
END:VEVENT
BEGIN:VEVENT
UID:26S_402030_4963338@uibk.ac.at
ORGANIZER;CN="LFU:online Universität Innsbruck":MAILTO:Uni-Innsbruck-noreply@uibk.ac.at
SUMMARY:VO Politische Theorie und Ideengeschichte (LV 402030-0 26S)
DESCRIPTION:Lehrveranstaltung 402030 26S, Gruppe 0\nTitel: VO Politische Theorie und Ideengeschichte\nOrt: HS 3 (Sowi)\n\nhttps://lfuonline.uibk.ac.at/public/lfuonline_lv.details?sem_id_in=26S&lvnr_id_in=402030\n
CLASS:PUBLIC
DTSTART:20260421T074500Z
DTEND:20260421T091500Z
DTSTAMP:20260422T211341Z
LOCATION:HS 3 (Sowi)
END:VEVENT
BEGIN:VEVENT
UID:26S_402030_4963339@uibk.ac.at
ORGANIZER;CN="LFU:online Universität Innsbruck":MAILTO:Uni-Innsbruck-noreply@uibk.ac.at
SUMMARY:VO Politische Theorie und Ideengeschichte (LV 402030-0 26S)
DESCRIPTION:Lehrveranstaltung 402030 26S, Gruppe 0\nTitel: VO Politische Theorie und Ideengeschichte\nOrt: HS 3 (Sowi)\n\nhttps://lfuonline.uibk.ac.at/public/lfuonline_lv.details?sem_id_in=26S&lvnr_id_in=402030\n
CLASS:PUBLIC
DTSTART:20260428T074500Z
DTEND:20260428T091500Z
DTSTAMP:20260422T211341Z
LOCATION:HS 3 (Sowi)
END:VEVENT
BEGIN:VEVENT
UID:26S_402030_4963340@uibk.ac.at
ORGANIZER;CN="LFU:online Universität Innsbruck":MAILTO:Uni-Innsbruck-noreply@uibk.ac.at
SUMMARY:VO Politische Theorie und Ideengeschichte (LV 402030-0 26S)
DESCRIPTION:Lehrveranstaltung 402030 26S, Gruppe 0\nTitel: VO Politische Theorie und Ideengeschichte\nOrt: HS 3 (Sowi)\n\nhttps://lfuonline.uibk.ac.at/public/lfuonline_lv.details?sem_id_in=26S&lvnr_id_in=402030\n
CLASS:PUBLIC
DTSTART:20260505T074500Z
DTEND:20260505T091500Z
DTSTAMP:20260422T211341Z
LOCATION:HS 3 (Sowi)
END:VEVENT
BEGIN:VEVENT
UID:26S_402030_4963341@uibk.ac.at
ORGANIZER;CN="LFU:online Universität Innsbruck":MAILTO:Uni-Innsbruck-noreply@uibk.ac.at
SUMMARY:VO Politische Theorie und Ideengeschichte (LV 402030-0 26S)
DESCRIPTION:Lehrveranstaltung 402030 26S, Gruppe 0\nTitel: VO Politische Theorie und Ideengeschichte\nOrt: HS 3 (Sowi)\n\nhttps://lfuonline.uibk.ac.at/public/lfuonline_lv.details?sem_id_in=26S&lvnr_id_in=402030\n
CLASS:PUBLIC
DTSTART:20260512T074500Z
DTEND:20260512T091500Z
DTSTAMP:20260422T211341Z
LOCATION:HS 3 (Sowi)
END:VEVENT
BEGIN:VEVENT
UID:26S_402030_4963342@uibk.ac.at
ORGANIZER;CN="LFU:online Universität Innsbruck":MAILTO:Uni-Innsbruck-noreply@uibk.ac.at
SUMMARY:VO Politische Theorie und Ideengeschichte (LV 402030-0 26S)
DESCRIPTION:Lehrveranstaltung 402030 26S, Gruppe 0\nTitel: VO Politische Theorie und Ideengeschichte\nOrt: HS 3 (Sowi)\n\nhttps://lfuonline.uibk.ac.at/public/lfuonline_lv.details?sem_id_in=26S&lvnr_id_in=402030\n
CLASS:PUBLIC
DTSTART:20260519T074500Z
DTEND:20260519T091500Z
DTSTAMP:20260422T211341Z
LOCATION:HS 3 (Sowi)
END:VEVENT
BEGIN:VEVENT
UID:26S_402030_4963343@uibk.ac.at
ORGANIZER;CN="LFU:online Universität Innsbruck":MAILTO:Uni-Innsbruck-noreply@uibk.ac.at
SUMMARY:VO Politische Theorie und Ideengeschichte (LV 402030-0 26S)
DESCRIPTION:Lehrveranstaltung 402030 26S, Gruppe 0\nTitel: VO Politische Theorie und Ideengeschichte\nOrt: HS 3 (Sowi)\n\nhttps://lfuonline.uibk.ac.at/public/lfuonline_lv.details?sem_id_in=26S&lvnr_id_in=402030\n
CLASS:PUBLIC
DTSTART:20260526T074500Z
DTEND:20260526T091500Z
DTSTAMP:20260422T211341Z
LOCATION:HS 3 (Sowi)
END:VEVENT
BEGIN:VEVENT
UID:26S_402030_4963344@uibk.ac.at
ORGANIZER;CN="LFU:online Universität Innsbruck":MAILTO:Uni-Innsbruck-noreply@uibk.ac.at
SUMMARY:VO Politische Theorie und Ideengeschichte (LV 402030-0 26S)
DESCRIPTION:Lehrveranstaltung 402030 26S, Gruppe 0\nTitel: VO Politische Theorie und Ideengeschichte\nOrt: HS 3 (Sowi)\n\nhttps://lfuonline.uibk.ac.at/public/lfuonline_lv.details?sem_id_in=26S&lvnr_id_in=402030\n
CLASS:PUBLIC
DTSTART:20260602T074500Z
DTEND:20260602T091500Z
DTSTAMP:20260422T211341Z
LOCATION:HS 3 (Sowi)
END:VEVENT
BEGIN:VEVENT
UID:26S_402030_4963345@uibk.ac.at
ORGANIZER;CN="LFU:online Universität Innsbruck":MAILTO:Uni-Innsbruck-noreply@uibk.ac.at
SUMMARY:VO Politische Theorie und Ideengeschichte (LV 402030-0 26S)
DESCRIPTION:Lehrveranstaltung 402030 26S, Gruppe 0\nTitel: VO Politische Theorie und Ideengeschichte\nOrt: HS 3 (Sowi)\n\nhttps://lfuonline.uibk.ac.at/public/lfuonline_lv.details?sem_id_in=26S&lvnr_id_in=402030\n
CLASS:PUBLIC
DTSTART:20260609T074500Z
DTEND:20260609T091500Z
DTSTAMP:20260422T211341Z
LOCATION:HS 3 (Sowi)
END:VEVENT
BEGIN:VEVENT
UID:26S_402030_4963346@uibk.ac.at
ORGANIZER;CN="LFU:online Universität Innsbruck":MAILTO:Uni-Innsbruck-noreply@uibk.ac.at
SUMMARY:VO Politische Theorie und Ideengeschichte (LV 402030-0 26S)
DESCRIPTION:Lehrveranstaltung 402030 26S, Gruppe 0\nTitel: VO Politische Theorie und Ideengeschichte\nOrt: HS 3 (Sowi)\n\nhttps://lfuonline.uibk.ac.at/public/lfuonline_lv.details?sem_id_in=26S&lvnr_id_in=402030\n
CLASS:PUBLIC
DTSTART:20260616T074500Z
DTEND:20260616T091500Z
DTSTAMP:20260422T211341Z
LOCATION:HS 3 (Sowi)
END:VEVENT
BEGIN:VEVENT
UID:26S_402030_4963347@uibk.ac.at
ORGANIZER;CN="LFU:online Universität Innsbruck":MAILTO:Uni-Innsbruck-noreply@uibk.ac.at
SUMMARY:VO Politische Theorie und Ideengeschichte (LV 402030-0 26S)
DESCRIPTION:Lehrveranstaltung 402030 26S, Gruppe 0\nTitel: VO Politische Theorie und Ideengeschichte\nOrt: HS 3 (Sowi)\n\nhttps://lfuonline.uibk.ac.at/public/lfuonline_lv.details?sem_id_in=26S&lvnr_id_in=402030\n
CLASS:PUBLIC
DTSTART:20260623T074500Z
DTEND:20260623T091500Z
DTSTAMP:20260422T211341Z
LOCATION:HS 3 (Sowi)
COMMENT:Klausur (Antritt I)
END:VEVENT
BEGIN:VEVENT
UID:26S_402030_5067693@uibk.ac.at
ORGANIZER;CN="LFU:online Universität Innsbruck":MAILTO:Uni-Innsbruck-noreply@uibk.ac.at
SUMMARY:VO Politische Theorie und Ideengeschichte (LV 402030-0 26S)
DESCRIPTION:Lehrveranstaltung 402030 26S, Gruppe 0\nTitel: VO Politische Theorie und Ideengeschichte\nOrt: HS 3 (Sowi)\n\nhttps://lfuonline.uibk.ac.at/public/lfuonline_lv.details?sem_id_in=26S&lvnr_id_in=402030\n
CLASS:PUBLIC
DTSTART:20260921T074500Z
DTEND:20260921T091500Z
DTSTAMP:20260422T211341Z
LOCATION:HS 3 (Sowi)
COMMENT:Klausur (Antritt II)
END:VEVENT
END:VCALENDAR