BEGIN:VCALENDAR
VERSION:2.0
PRODID:-//Universität Innsbruck//LFU:online//DE
METHOD:PUBLISH
BEGIN:VEVENT
UID:23S_402505_4210459@uibk.ac.at
ORGANIZER;CN="LFU:online Universität Innsbruck":MAILTO:Uni-Innsbruck-noreply@uibk.ac.at
SUMMARY:VO Politik und Geschlecht (LV 402505-0 23S)
DESCRIPTION:Lehrveranstaltung 402505 23S, Gruppe 0\nTitel: VO Politik und Geschlecht\nOrt: HS 2 (Sowi)\n\nhttps://lfuonline.uibk.ac.at/public/lfuonline_lv.details?sem_id_in=23S&lvnr_id_in=402505\n
CLASS:PUBLIC
DTSTART:20230316T121500Z
DTEND:20230316T134500Z
DTSTAMP:20260420T001329Z
LOCATION:HS 2 (Sowi)
END:VEVENT
BEGIN:VEVENT
UID:23S_402505_4210460@uibk.ac.at
ORGANIZER;CN="LFU:online Universität Innsbruck":MAILTO:Uni-Innsbruck-noreply@uibk.ac.at
SUMMARY:VO Politik und Geschlecht (LV 402505-0 23S)
DESCRIPTION:Lehrveranstaltung 402505 23S, Gruppe 0\nTitel: VO Politik und Geschlecht\nOrt: HS 2 (Sowi)\n\nhttps://lfuonline.uibk.ac.at/public/lfuonline_lv.details?sem_id_in=23S&lvnr_id_in=402505\n
CLASS:PUBLIC
DTSTART:20230323T121500Z
DTEND:20230323T134500Z
DTSTAMP:20260420T001329Z
LOCATION:HS 2 (Sowi)
END:VEVENT
BEGIN:VEVENT
UID:23S_402505_4210461@uibk.ac.at
ORGANIZER;CN="LFU:online Universität Innsbruck":MAILTO:Uni-Innsbruck-noreply@uibk.ac.at
SUMMARY:VO Politik und Geschlecht (LV 402505-0 23S)
DESCRIPTION:Lehrveranstaltung 402505 23S, Gruppe 0\nTitel: VO Politik und Geschlecht\nOrt: HS 2 (Sowi)\n\nhttps://lfuonline.uibk.ac.at/public/lfuonline_lv.details?sem_id_in=23S&lvnr_id_in=402505\n
CLASS:PUBLIC
DTSTART:20230330T111500Z
DTEND:20230330T124500Z
DTSTAMP:20260420T001329Z
LOCATION:HS 2 (Sowi)
END:VEVENT
BEGIN:VEVENT
UID:23S_402505_4210462@uibk.ac.at
ORGANIZER;CN="LFU:online Universität Innsbruck":MAILTO:Uni-Innsbruck-noreply@uibk.ac.at
SUMMARY:VO Politik und Geschlecht (LV 402505-0 23S)
DESCRIPTION:Lehrveranstaltung 402505 23S, Gruppe 0\nTitel: VO Politik und Geschlecht\nOrt: HS 2 (Sowi)\n\nhttps://lfuonline.uibk.ac.at/public/lfuonline_lv.details?sem_id_in=23S&lvnr_id_in=402505\n
CLASS:PUBLIC
DTSTART:20230420T111500Z
DTEND:20230420T124500Z
DTSTAMP:20260420T001329Z
LOCATION:HS 2 (Sowi)
END:VEVENT
BEGIN:VEVENT
UID:23S_402505_4210463@uibk.ac.at
ORGANIZER;CN="LFU:online Universität Innsbruck":MAILTO:Uni-Innsbruck-noreply@uibk.ac.at
SUMMARY:VO Politik und Geschlecht (LV 402505-0 23S)
DESCRIPTION:Lehrveranstaltung 402505 23S, Gruppe 0\nTitel: VO Politik und Geschlecht\nOrt: HS 2 (Sowi)\n\nhttps://lfuonline.uibk.ac.at/public/lfuonline_lv.details?sem_id_in=23S&lvnr_id_in=402505\n
CLASS:PUBLIC
DTSTART:20230427T111500Z
DTEND:20230427T124500Z
DTSTAMP:20260420T001329Z
LOCATION:HS 2 (Sowi)
END:VEVENT
BEGIN:VEVENT
UID:23S_402505_4210464@uibk.ac.at
ORGANIZER;CN="LFU:online Universität Innsbruck":MAILTO:Uni-Innsbruck-noreply@uibk.ac.at
SUMMARY:VO Politik und Geschlecht (LV 402505-0 23S)
DESCRIPTION:Lehrveranstaltung 402505 23S, Gruppe 0\nTitel: VO Politik und Geschlecht\nOrt: HS 2 (Sowi)\n\nhttps://lfuonline.uibk.ac.at/public/lfuonline_lv.details?sem_id_in=23S&lvnr_id_in=402505\n
CLASS:PUBLIC
DTSTART:20230504T111500Z
DTEND:20230504T124500Z
DTSTAMP:20260420T001329Z
LOCATION:HS 2 (Sowi)
END:VEVENT
BEGIN:VEVENT
UID:23S_402505_4210465@uibk.ac.at
ORGANIZER;CN="LFU:online Universität Innsbruck":MAILTO:Uni-Innsbruck-noreply@uibk.ac.at
SUMMARY:VO Politik und Geschlecht (LV 402505-0 23S)
DESCRIPTION:Lehrveranstaltung 402505 23S, Gruppe 0\nTitel: VO Politik und Geschlecht\nOrt: HS 2 (Sowi)\n\nhttps://lfuonline.uibk.ac.at/public/lfuonline_lv.details?sem_id_in=23S&lvnr_id_in=402505\n
CLASS:PUBLIC
DTSTART:20230511T111500Z
DTEND:20230511T124500Z
DTSTAMP:20260420T001329Z
LOCATION:HS 2 (Sowi)
END:VEVENT
BEGIN:VEVENT
UID:23S_402505_4210466@uibk.ac.at
ORGANIZER;CN="LFU:online Universität Innsbruck":MAILTO:Uni-Innsbruck-noreply@uibk.ac.at
SUMMARY:VO Politik und Geschlecht (LV 402505-0 23S)
DESCRIPTION:Lehrveranstaltung 402505 23S, Gruppe 0\nTitel: VO Politik und Geschlecht\nOrt: HS 2 (Sowi)\n\nhttps://lfuonline.uibk.ac.at/public/lfuonline_lv.details?sem_id_in=23S&lvnr_id_in=402505\n
CLASS:PUBLIC
DTSTART:20230525T111500Z
DTEND:20230525T124500Z
DTSTAMP:20260420T001329Z
LOCATION:HS 2 (Sowi)
END:VEVENT
BEGIN:VEVENT
UID:23S_402505_4210467@uibk.ac.at
ORGANIZER;CN="LFU:online Universität Innsbruck":MAILTO:Uni-Innsbruck-noreply@uibk.ac.at
SUMMARY:VO Politik und Geschlecht (LV 402505-0 23S)
DESCRIPTION:Lehrveranstaltung 402505 23S, Gruppe 0\nTitel: VO Politik und Geschlecht\nOrt: HS 2 (Sowi)\n\nhttps://lfuonline.uibk.ac.at/public/lfuonline_lv.details?sem_id_in=23S&lvnr_id_in=402505\n
CLASS:PUBLIC
DTSTART:20230601T111500Z
DTEND:20230601T124500Z
DTSTAMP:20260420T001329Z
LOCATION:HS 2 (Sowi)
END:VEVENT
BEGIN:VEVENT
UID:23S_402505_4210468@uibk.ac.at
ORGANIZER;CN="LFU:online Universität Innsbruck":MAILTO:Uni-Innsbruck-noreply@uibk.ac.at
SUMMARY:VO Politik und Geschlecht (LV 402505-0 23S)
DESCRIPTION:Lehrveranstaltung 402505 23S, Gruppe 0\nTitel: VO Politik und Geschlecht\nOrt: HS 2 (Sowi)\n\nhttps://lfuonline.uibk.ac.at/public/lfuonline_lv.details?sem_id_in=23S&lvnr_id_in=402505\n
CLASS:PUBLIC
DTSTART:20230615T111500Z
DTEND:20230615T124500Z
DTSTAMP:20260420T001329Z
LOCATION:HS 2 (Sowi)
END:VEVENT
BEGIN:VEVENT
UID:23S_402505_4210469@uibk.ac.at
ORGANIZER;CN="LFU:online Universität Innsbruck":MAILTO:Uni-Innsbruck-noreply@uibk.ac.at
SUMMARY:VO Politik und Geschlecht (LV 402505-0 23S)
DESCRIPTION:Lehrveranstaltung 402505 23S, Gruppe 0\nTitel: VO Politik und Geschlecht\nOrt: HS 2 (Sowi)\n\nhttps://lfuonline.uibk.ac.at/public/lfuonline_lv.details?sem_id_in=23S&lvnr_id_in=402505\n
CLASS:PUBLIC
DTSTART:20230622T111500Z
DTEND:20230622T124500Z
DTSTAMP:20260420T001329Z
LOCATION:HS 2 (Sowi)
END:VEVENT
BEGIN:VEVENT
UID:23S_402505_4210470@uibk.ac.at
ORGANIZER;CN="LFU:online Universität Innsbruck":MAILTO:Uni-Innsbruck-noreply@uibk.ac.at
SUMMARY:VO Politik und Geschlecht (LV 402505-0 23S)
DESCRIPTION:Lehrveranstaltung 402505 23S, Gruppe 0\nTitel: VO Politik und Geschlecht\nOrt: HS 2 (Sowi)\n\nhttps://lfuonline.uibk.ac.at/public/lfuonline_lv.details?sem_id_in=23S&lvnr_id_in=402505\n
CLASS:PUBLIC
DTSTART:20230629T111500Z
DTEND:20230629T124500Z
DTSTAMP:20260420T001329Z
LOCATION:HS 2 (Sowi)
END:VEVENT
END:VCALENDAR