BEGIN:VCALENDAR
VERSION:2.0
PRODID:-//Universität Innsbruck//LFU:online//DE
METHOD:PUBLISH
BEGIN:VEVENT
UID:23S_402506_4283606@uibk.ac.at
ORGANIZER;CN="LFU:online Universität Innsbruck":MAILTO:Uni-Innsbruck-noreply@uibk.ac.at
SUMMARY:SE Politik und Geschlecht (LV 402506-0 23S)
DESCRIPTION:Lehrveranstaltung 402506 23S, Gruppe 0\nTitel: SE Politik und Geschlecht\nOrt: UR 1 (Sowi)\n\nhttps://lfuonline.uibk.ac.at/public/lfuonline_lv.details?sem_id_in=23S&lvnr_id_in=402506\n
CLASS:PUBLIC
DTSTART:20230316T103000Z
DTEND:20230316T120000Z
DTSTAMP:20260419T151034Z
LOCATION:UR 1 (Sowi)
END:VEVENT
BEGIN:VEVENT
UID:23S_402506_4283607@uibk.ac.at
ORGANIZER;CN="LFU:online Universität Innsbruck":MAILTO:Uni-Innsbruck-noreply@uibk.ac.at
SUMMARY:SE Politik und Geschlecht (LV 402506-0 23S)
DESCRIPTION:Lehrveranstaltung 402506 23S, Gruppe 0\nTitel: SE Politik und Geschlecht\nOrt: UR 1 (Sowi)\n\nhttps://lfuonline.uibk.ac.at/public/lfuonline_lv.details?sem_id_in=23S&lvnr_id_in=402506\n
CLASS:PUBLIC
DTSTART:20230323T103000Z
DTEND:20230323T120000Z
DTSTAMP:20260419T151034Z
LOCATION:UR 1 (Sowi)
END:VEVENT
BEGIN:VEVENT
UID:23S_402506_4283608@uibk.ac.at
ORGANIZER;CN="LFU:online Universität Innsbruck":MAILTO:Uni-Innsbruck-noreply@uibk.ac.at
SUMMARY:SE Politik und Geschlecht (LV 402506-0 23S)
DESCRIPTION:Lehrveranstaltung 402506 23S, Gruppe 0\nTitel: SE Politik und Geschlecht\nOrt: UR 1 (Sowi)\n\nhttps://lfuonline.uibk.ac.at/public/lfuonline_lv.details?sem_id_in=23S&lvnr_id_in=402506\n
CLASS:PUBLIC
DTSTART:20230330T093000Z
DTEND:20230330T110000Z
DTSTAMP:20260419T151034Z
LOCATION:UR 1 (Sowi)
END:VEVENT
BEGIN:VEVENT
UID:23S_402506_4283611@uibk.ac.at
ORGANIZER;CN="LFU:online Universität Innsbruck":MAILTO:Uni-Innsbruck-noreply@uibk.ac.at
SUMMARY:SE Politik und Geschlecht (LV 402506-0 23S)
DESCRIPTION:Lehrveranstaltung 402506 23S, Gruppe 0\nTitel: SE Politik und Geschlecht\nOrt: UR 1 (Sowi)\n\nhttps://lfuonline.uibk.ac.at/public/lfuonline_lv.details?sem_id_in=23S&lvnr_id_in=402506\n
CLASS:PUBLIC
DTSTART:20230420T093000Z
DTEND:20230420T110000Z
DTSTAMP:20260419T151034Z
LOCATION:UR 1 (Sowi)
END:VEVENT
BEGIN:VEVENT
UID:23S_402506_4283612@uibk.ac.at
ORGANIZER;CN="LFU:online Universität Innsbruck":MAILTO:Uni-Innsbruck-noreply@uibk.ac.at
SUMMARY:SE Politik und Geschlecht (LV 402506-0 23S)
DESCRIPTION:Lehrveranstaltung 402506 23S, Gruppe 0\nTitel: SE Politik und Geschlecht\nOrt: UR 1 (Sowi)\n\nhttps://lfuonline.uibk.ac.at/public/lfuonline_lv.details?sem_id_in=23S&lvnr_id_in=402506\n
CLASS:PUBLIC
DTSTART:20230427T093000Z
DTEND:20230427T110000Z
DTSTAMP:20260419T151034Z
LOCATION:UR 1 (Sowi)
END:VEVENT
BEGIN:VEVENT
UID:23S_402506_4283613@uibk.ac.at
ORGANIZER;CN="LFU:online Universität Innsbruck":MAILTO:Uni-Innsbruck-noreply@uibk.ac.at
SUMMARY:SE Politik und Geschlecht (LV 402506-0 23S)
DESCRIPTION:Lehrveranstaltung 402506 23S, Gruppe 0\nTitel: SE Politik und Geschlecht\nOrt: UR 1 (Sowi)\n\nhttps://lfuonline.uibk.ac.at/public/lfuonline_lv.details?sem_id_in=23S&lvnr_id_in=402506\n
CLASS:PUBLIC
DTSTART:20230504T093000Z
DTEND:20230504T110000Z
DTSTAMP:20260419T151034Z
LOCATION:UR 1 (Sowi)
END:VEVENT
BEGIN:VEVENT
UID:23S_402506_4283614@uibk.ac.at
ORGANIZER;CN="LFU:online Universität Innsbruck":MAILTO:Uni-Innsbruck-noreply@uibk.ac.at
SUMMARY:SE Politik und Geschlecht (LV 402506-0 23S)
DESCRIPTION:Lehrveranstaltung 402506 23S, Gruppe 0\nTitel: SE Politik und Geschlecht\nOrt: UR 1 (Sowi)\n\nhttps://lfuonline.uibk.ac.at/public/lfuonline_lv.details?sem_id_in=23S&lvnr_id_in=402506\n
CLASS:PUBLIC
DTSTART:20230511T093000Z
DTEND:20230511T110000Z
DTSTAMP:20260419T151034Z
LOCATION:UR 1 (Sowi)
END:VEVENT
BEGIN:VEVENT
UID:23S_402506_4283616@uibk.ac.at
ORGANIZER;CN="LFU:online Universität Innsbruck":MAILTO:Uni-Innsbruck-noreply@uibk.ac.at
SUMMARY:SE Politik und Geschlecht (LV 402506-0 23S)
DESCRIPTION:Lehrveranstaltung 402506 23S, Gruppe 0\nTitel: SE Politik und Geschlecht\nOrt: UR 1 (Sowi)\n\nhttps://lfuonline.uibk.ac.at/public/lfuonline_lv.details?sem_id_in=23S&lvnr_id_in=402506\n
CLASS:PUBLIC
DTSTART:20230525T093000Z
DTEND:20230525T110000Z
DTSTAMP:20260419T151034Z
LOCATION:UR 1 (Sowi)
END:VEVENT
BEGIN:VEVENT
UID:23S_402506_4283617@uibk.ac.at
ORGANIZER;CN="LFU:online Universität Innsbruck":MAILTO:Uni-Innsbruck-noreply@uibk.ac.at
SUMMARY:SE Politik und Geschlecht (LV 402506-0 23S)
DESCRIPTION:Lehrveranstaltung 402506 23S, Gruppe 0\nTitel: SE Politik und Geschlecht\nOrt: UR 1 (Sowi)\n\nhttps://lfuonline.uibk.ac.at/public/lfuonline_lv.details?sem_id_in=23S&lvnr_id_in=402506\n
CLASS:PUBLIC
DTSTART:20230601T093000Z
DTEND:20230601T110000Z
DTSTAMP:20260419T151034Z
LOCATION:UR 1 (Sowi)
END:VEVENT
BEGIN:VEVENT
UID:23S_402506_4283619@uibk.ac.at
ORGANIZER;CN="LFU:online Universität Innsbruck":MAILTO:Uni-Innsbruck-noreply@uibk.ac.at
SUMMARY:SE Politik und Geschlecht (LV 402506-0 23S)
DESCRIPTION:Lehrveranstaltung 402506 23S, Gruppe 0\nTitel: SE Politik und Geschlecht\nOrt: UR 1 (Sowi)\n\nhttps://lfuonline.uibk.ac.at/public/lfuonline_lv.details?sem_id_in=23S&lvnr_id_in=402506\n
CLASS:PUBLIC
DTSTART:20230615T093000Z
DTEND:20230615T110000Z
DTSTAMP:20260419T151034Z
LOCATION:UR 1 (Sowi)
END:VEVENT
BEGIN:VEVENT
UID:23S_402506_4283620@uibk.ac.at
ORGANIZER;CN="LFU:online Universität Innsbruck":MAILTO:Uni-Innsbruck-noreply@uibk.ac.at
SUMMARY:SE Politik und Geschlecht (LV 402506-0 23S)
DESCRIPTION:Lehrveranstaltung 402506 23S, Gruppe 0\nTitel: SE Politik und Geschlecht\nOrt: UR 1 (Sowi)\n\nhttps://lfuonline.uibk.ac.at/public/lfuonline_lv.details?sem_id_in=23S&lvnr_id_in=402506\n
CLASS:PUBLIC
DTSTART:20230622T093000Z
DTEND:20230622T110000Z
DTSTAMP:20260419T151034Z
LOCATION:UR 1 (Sowi)
END:VEVENT
BEGIN:VEVENT
UID:23S_402506_4283621@uibk.ac.at
ORGANIZER;CN="LFU:online Universität Innsbruck":MAILTO:Uni-Innsbruck-noreply@uibk.ac.at
SUMMARY:SE Politik und Geschlecht (LV 402506-0 23S)
DESCRIPTION:Lehrveranstaltung 402506 23S, Gruppe 0\nTitel: SE Politik und Geschlecht\nOrt: UR 1 (Sowi)\n\nhttps://lfuonline.uibk.ac.at/public/lfuonline_lv.details?sem_id_in=23S&lvnr_id_in=402506\n
CLASS:PUBLIC
DTSTART:20230629T093000Z
DTEND:20230629T110000Z
DTSTAMP:20260419T151034Z
LOCATION:UR 1 (Sowi)
END:VEVENT
END:VCALENDAR