BEGIN:VCALENDAR
VERSION:2.0
PRODID:-//Universität Innsbruck//LFU:online//DE
METHOD:PUBLISH
BEGIN:VEVENT
UID:23S_402507_4233999@uibk.ac.at
ORGANIZER;CN="LFU:online Universität Innsbruck":MAILTO:Uni-Innsbruck-noreply@uibk.ac.at
SUMMARY:SE Politik und Geschlecht (LV 402507-0 23S)
DESCRIPTION:Lehrveranstaltung 402507 23S, Gruppe 0\nTitel: SE Politik und Geschlecht\nOrt: MS (Theologie)\n\nhttps://lfuonline.uibk.ac.at/public/lfuonline_lv.details?sem_id_in=23S&lvnr_id_in=402507\n
CLASS:PUBLIC
DTSTART:20230314T121500Z
DTEND:20230314T134500Z
DTSTAMP:20260420T001331Z
LOCATION:MS (Theologie)
END:VEVENT
BEGIN:VEVENT
UID:23S_402507_4234000@uibk.ac.at
ORGANIZER;CN="LFU:online Universität Innsbruck":MAILTO:Uni-Innsbruck-noreply@uibk.ac.at
SUMMARY:SE Politik und Geschlecht (LV 402507-0 23S)
DESCRIPTION:Lehrveranstaltung 402507 23S, Gruppe 0\nTitel: SE Politik und Geschlecht\nOrt: MS (Theologie)\n\nhttps://lfuonline.uibk.ac.at/public/lfuonline_lv.details?sem_id_in=23S&lvnr_id_in=402507\n
CLASS:PUBLIC
DTSTART:20230321T121500Z
DTEND:20230321T134500Z
DTSTAMP:20260420T001331Z
LOCATION:MS (Theologie)
END:VEVENT
BEGIN:VEVENT
UID:23S_402507_4234001@uibk.ac.at
ORGANIZER;CN="LFU:online Universität Innsbruck":MAILTO:Uni-Innsbruck-noreply@uibk.ac.at
SUMMARY:SE Politik und Geschlecht (LV 402507-0 23S)
DESCRIPTION:Lehrveranstaltung 402507 23S, Gruppe 0\nTitel: SE Politik und Geschlecht\nOrt: MS (Theologie)\n\nhttps://lfuonline.uibk.ac.at/public/lfuonline_lv.details?sem_id_in=23S&lvnr_id_in=402507\n
CLASS:PUBLIC
DTSTART:20230328T111500Z
DTEND:20230328T124500Z
DTSTAMP:20260420T001331Z
LOCATION:MS (Theologie)
END:VEVENT
BEGIN:VEVENT
UID:23S_402507_4234002@uibk.ac.at
ORGANIZER;CN="LFU:online Universität Innsbruck":MAILTO:Uni-Innsbruck-noreply@uibk.ac.at
SUMMARY:SE Politik und Geschlecht (LV 402507-0 23S)
DESCRIPTION:Lehrveranstaltung 402507 23S, Gruppe 0\nTitel: SE Politik und Geschlecht\nOrt: MS (Theologie)\n\nhttps://lfuonline.uibk.ac.at/public/lfuonline_lv.details?sem_id_in=23S&lvnr_id_in=402507\n
CLASS:PUBLIC
DTSTART:20230418T111500Z
DTEND:20230418T124500Z
DTSTAMP:20260420T001331Z
LOCATION:MS (Theologie)
END:VEVENT
BEGIN:VEVENT
UID:23S_402507_4234003@uibk.ac.at
ORGANIZER;CN="LFU:online Universität Innsbruck":MAILTO:Uni-Innsbruck-noreply@uibk.ac.at
SUMMARY:SE Politik und Geschlecht (LV 402507-0 23S)
DESCRIPTION:Lehrveranstaltung 402507 23S, Gruppe 0\nTitel: SE Politik und Geschlecht\nOrt: MS (Theologie)\n\nhttps://lfuonline.uibk.ac.at/public/lfuonline_lv.details?sem_id_in=23S&lvnr_id_in=402507\n
CLASS:PUBLIC
DTSTART:20230425T111500Z
DTEND:20230425T124500Z
DTSTAMP:20260420T001331Z
LOCATION:MS (Theologie)
END:VEVENT
BEGIN:VEVENT
UID:23S_402507_4234004@uibk.ac.at
ORGANIZER;CN="LFU:online Universität Innsbruck":MAILTO:Uni-Innsbruck-noreply@uibk.ac.at
SUMMARY:SE Politik und Geschlecht (LV 402507-0 23S)
DESCRIPTION:Lehrveranstaltung 402507 23S, Gruppe 0\nTitel: SE Politik und Geschlecht\nOrt: MS (Theologie)\n\nhttps://lfuonline.uibk.ac.at/public/lfuonline_lv.details?sem_id_in=23S&lvnr_id_in=402507\n
CLASS:PUBLIC
DTSTART:20230502T111500Z
DTEND:20230502T124500Z
DTSTAMP:20260420T001331Z
LOCATION:MS (Theologie)
END:VEVENT
BEGIN:VEVENT
UID:23S_402507_4234005@uibk.ac.at
ORGANIZER;CN="LFU:online Universität Innsbruck":MAILTO:Uni-Innsbruck-noreply@uibk.ac.at
SUMMARY:SE Politik und Geschlecht (LV 402507-0 23S)
DESCRIPTION:Lehrveranstaltung 402507 23S, Gruppe 0\nTitel: SE Politik und Geschlecht\nOrt: MS (Theologie)\n\nhttps://lfuonline.uibk.ac.at/public/lfuonline_lv.details?sem_id_in=23S&lvnr_id_in=402507\n
CLASS:PUBLIC
DTSTART:20230509T111500Z
DTEND:20230509T124500Z
DTSTAMP:20260420T001331Z
LOCATION:MS (Theologie)
END:VEVENT
BEGIN:VEVENT
UID:23S_402507_4234006@uibk.ac.at
ORGANIZER;CN="LFU:online Universität Innsbruck":MAILTO:Uni-Innsbruck-noreply@uibk.ac.at
SUMMARY:SE Politik und Geschlecht (LV 402507-0 23S)
DESCRIPTION:Lehrveranstaltung 402507 23S, Gruppe 0\nTitel: SE Politik und Geschlecht\nOrt: MS (Theologie)\n\nhttps://lfuonline.uibk.ac.at/public/lfuonline_lv.details?sem_id_in=23S&lvnr_id_in=402507\n
CLASS:PUBLIC
DTSTART:20230516T111500Z
DTEND:20230516T124500Z
DTSTAMP:20260420T001331Z
LOCATION:MS (Theologie)
END:VEVENT
BEGIN:VEVENT
UID:23S_402507_4234007@uibk.ac.at
ORGANIZER;CN="LFU:online Universität Innsbruck":MAILTO:Uni-Innsbruck-noreply@uibk.ac.at
SUMMARY:SE Politik und Geschlecht (LV 402507-0 23S)
DESCRIPTION:Lehrveranstaltung 402507 23S, Gruppe 0\nTitel: SE Politik und Geschlecht\nOrt: MS (Theologie)\n\nhttps://lfuonline.uibk.ac.at/public/lfuonline_lv.details?sem_id_in=23S&lvnr_id_in=402507\n
CLASS:PUBLIC
DTSTART:20230523T111500Z
DTEND:20230523T124500Z
DTSTAMP:20260420T001331Z
LOCATION:MS (Theologie)
END:VEVENT
BEGIN:VEVENT
UID:23S_402507_4234008@uibk.ac.at
ORGANIZER;CN="LFU:online Universität Innsbruck":MAILTO:Uni-Innsbruck-noreply@uibk.ac.at
SUMMARY:SE Politik und Geschlecht (LV 402507-0 23S)
DESCRIPTION:Lehrveranstaltung 402507 23S, Gruppe 0\nTitel: SE Politik und Geschlecht\nOrt: MS (Theologie)\n\nhttps://lfuonline.uibk.ac.at/public/lfuonline_lv.details?sem_id_in=23S&lvnr_id_in=402507\n
CLASS:PUBLIC
DTSTART:20230530T111500Z
DTEND:20230530T124500Z
DTSTAMP:20260420T001331Z
LOCATION:MS (Theologie)
END:VEVENT
BEGIN:VEVENT
UID:23S_402507_4234009@uibk.ac.at
ORGANIZER;CN="LFU:online Universität Innsbruck":MAILTO:Uni-Innsbruck-noreply@uibk.ac.at
SUMMARY:SE Politik und Geschlecht (LV 402507-0 23S)
DESCRIPTION:Lehrveranstaltung 402507 23S, Gruppe 0\nTitel: SE Politik und Geschlecht\nOrt: MS (Theologie)\n\nhttps://lfuonline.uibk.ac.at/public/lfuonline_lv.details?sem_id_in=23S&lvnr_id_in=402507\n
CLASS:PUBLIC
DTSTART:20230606T111500Z
DTEND:20230606T124500Z
DTSTAMP:20260420T001331Z
LOCATION:MS (Theologie)
END:VEVENT
BEGIN:VEVENT
UID:23S_402507_4234010@uibk.ac.at
ORGANIZER;CN="LFU:online Universität Innsbruck":MAILTO:Uni-Innsbruck-noreply@uibk.ac.at
SUMMARY:SE Politik und Geschlecht (LV 402507-0 23S)
DESCRIPTION:Lehrveranstaltung 402507 23S, Gruppe 0\nTitel: SE Politik und Geschlecht\nOrt: MS (Theologie)\n\nhttps://lfuonline.uibk.ac.at/public/lfuonline_lv.details?sem_id_in=23S&lvnr_id_in=402507\n
CLASS:PUBLIC
DTSTART:20230613T111500Z
DTEND:20230613T124500Z
DTSTAMP:20260420T001331Z
LOCATION:MS (Theologie)
END:VEVENT
BEGIN:VEVENT
UID:23S_402507_4234011@uibk.ac.at
ORGANIZER;CN="LFU:online Universität Innsbruck":MAILTO:Uni-Innsbruck-noreply@uibk.ac.at
SUMMARY:SE Politik und Geschlecht (LV 402507-0 23S)
DESCRIPTION:Lehrveranstaltung 402507 23S, Gruppe 0\nTitel: SE Politik und Geschlecht\nOrt: MS (Theologie)\n\nhttps://lfuonline.uibk.ac.at/public/lfuonline_lv.details?sem_id_in=23S&lvnr_id_in=402507\n
CLASS:PUBLIC
DTSTART:20230620T111500Z
DTEND:20230620T124500Z
DTSTAMP:20260420T001331Z
LOCATION:MS (Theologie)
END:VEVENT
BEGIN:VEVENT
UID:23S_402507_4234012@uibk.ac.at
ORGANIZER;CN="LFU:online Universität Innsbruck":MAILTO:Uni-Innsbruck-noreply@uibk.ac.at
SUMMARY:SE Politik und Geschlecht (LV 402507-0 23S)
DESCRIPTION:Lehrveranstaltung 402507 23S, Gruppe 0\nTitel: SE Politik und Geschlecht\nOrt: MS (Theologie)\n\nhttps://lfuonline.uibk.ac.at/public/lfuonline_lv.details?sem_id_in=23S&lvnr_id_in=402507\n
CLASS:PUBLIC
DTSTART:20230627T111500Z
DTEND:20230627T124500Z
DTSTAMP:20260420T001331Z
LOCATION:MS (Theologie)
END:VEVENT
END:VCALENDAR