BEGIN:VCALENDAR
VERSION:2.0
PRODID:-//Universität Innsbruck//LFU:online//DE
METHOD:PUBLISH
BEGIN:VEVENT
UID:26S_402525_4962171@uibk.ac.at
ORGANIZER;CN="LFU:online Universität Innsbruck":MAILTO:Uni-Innsbruck-noreply@uibk.ac.at
SUMMARY:VO Politikfeldanalysen im Bereich der europäischen Integrationsforschung (LV 402525-0 26S)
DESCRIPTION:Lehrveranstaltung 402525 26S, Gruppe 0\nTitel: VO Politikfeldanalysen im Bereich der europäischen Integrationsforschung\nOrt: SR  5 (Sowi)\n\nhttps://lfuonline.uibk.ac.at/public/lfuonline_lv.details?sem_id_in=26S&lvnr_id_in=402525\n
CLASS:PUBLIC
DTSTART:20260309T154500Z
DTEND:20260309T171500Z
DTSTAMP:20260422T211341Z
LOCATION:SR  5 (Sowi)
END:VEVENT
BEGIN:VEVENT
UID:26S_402525_4962172@uibk.ac.at
ORGANIZER;CN="LFU:online Universität Innsbruck":MAILTO:Uni-Innsbruck-noreply@uibk.ac.at
SUMMARY:VO Politikfeldanalysen im Bereich der europäischen Integrationsforschung (LV 402525-0 26S)
DESCRIPTION:Lehrveranstaltung 402525 26S, Gruppe 0\nTitel: VO Politikfeldanalysen im Bereich der europäischen Integrationsforschung\nOrt: SR  5 (Sowi)\n\nhttps://lfuonline.uibk.ac.at/public/lfuonline_lv.details?sem_id_in=26S&lvnr_id_in=402525\n
CLASS:PUBLIC
DTSTART:20260316T154500Z
DTEND:20260316T171500Z
DTSTAMP:20260422T211341Z
LOCATION:SR  5 (Sowi)
END:VEVENT
BEGIN:VEVENT
UID:26S_402525_4962173@uibk.ac.at
ORGANIZER;CN="LFU:online Universität Innsbruck":MAILTO:Uni-Innsbruck-noreply@uibk.ac.at
SUMMARY:VO Politikfeldanalysen im Bereich der europäischen Integrationsforschung (LV 402525-0 26S)
DESCRIPTION:Lehrveranstaltung 402525 26S, Gruppe 0\nTitel: VO Politikfeldanalysen im Bereich der europäischen Integrationsforschung\nOrt: SR  5 (Sowi)\n\nhttps://lfuonline.uibk.ac.at/public/lfuonline_lv.details?sem_id_in=26S&lvnr_id_in=402525\n
CLASS:PUBLIC
DTSTART:20260323T154500Z
DTEND:20260323T171500Z
DTSTAMP:20260422T211341Z
LOCATION:SR  5 (Sowi)
END:VEVENT
BEGIN:VEVENT
UID:26S_402525_4962174@uibk.ac.at
ORGANIZER;CN="LFU:online Universität Innsbruck":MAILTO:Uni-Innsbruck-noreply@uibk.ac.at
SUMMARY:VO Politikfeldanalysen im Bereich der europäischen Integrationsforschung (LV 402525-0 26S)
DESCRIPTION:Lehrveranstaltung 402525 26S, Gruppe 0\nTitel: VO Politikfeldanalysen im Bereich der europäischen Integrationsforschung\nOrt: SR  5 (Sowi)\n\nhttps://lfuonline.uibk.ac.at/public/lfuonline_lv.details?sem_id_in=26S&lvnr_id_in=402525\n
CLASS:PUBLIC
DTSTART:20260413T144500Z
DTEND:20260413T161500Z
DTSTAMP:20260422T211341Z
LOCATION:SR  5 (Sowi)
END:VEVENT
BEGIN:VEVENT
UID:26S_402525_4962175@uibk.ac.at
ORGANIZER;CN="LFU:online Universität Innsbruck":MAILTO:Uni-Innsbruck-noreply@uibk.ac.at
SUMMARY:VO Politikfeldanalysen im Bereich der europäischen Integrationsforschung (LV 402525-0 26S)
DESCRIPTION:Lehrveranstaltung 402525 26S, Gruppe 0\nTitel: VO Politikfeldanalysen im Bereich der europäischen Integrationsforschung\nOrt: SR  5 (Sowi)\n\nhttps://lfuonline.uibk.ac.at/public/lfuonline_lv.details?sem_id_in=26S&lvnr_id_in=402525\n
CLASS:PUBLIC
DTSTART:20260420T144500Z
DTEND:20260420T161500Z
DTSTAMP:20260422T211341Z
LOCATION:SR  5 (Sowi)
END:VEVENT
BEGIN:VEVENT
UID:26S_402525_4962176@uibk.ac.at
ORGANIZER;CN="LFU:online Universität Innsbruck":MAILTO:Uni-Innsbruck-noreply@uibk.ac.at
SUMMARY:VO Politikfeldanalysen im Bereich der europäischen Integrationsforschung (LV 402525-0 26S)
DESCRIPTION:Lehrveranstaltung 402525 26S, Gruppe 0\nTitel: VO Politikfeldanalysen im Bereich der europäischen Integrationsforschung\nOrt: SR  5 (Sowi)\n\nhttps://lfuonline.uibk.ac.at/public/lfuonline_lv.details?sem_id_in=26S&lvnr_id_in=402525\n
CLASS:PUBLIC
DTSTART:20260427T144500Z
DTEND:20260427T161500Z
DTSTAMP:20260422T211341Z
LOCATION:SR  5 (Sowi)
END:VEVENT
BEGIN:VEVENT
UID:26S_402525_4962177@uibk.ac.at
ORGANIZER;CN="LFU:online Universität Innsbruck":MAILTO:Uni-Innsbruck-noreply@uibk.ac.at
SUMMARY:VO Politikfeldanalysen im Bereich der europäischen Integrationsforschung (LV 402525-0 26S)
DESCRIPTION:Lehrveranstaltung 402525 26S, Gruppe 0\nTitel: VO Politikfeldanalysen im Bereich der europäischen Integrationsforschung\nOrt: SR  5 (Sowi)\n\nhttps://lfuonline.uibk.ac.at/public/lfuonline_lv.details?sem_id_in=26S&lvnr_id_in=402525\n
CLASS:PUBLIC
DTSTART:20260504T144500Z
DTEND:20260504T161500Z
DTSTAMP:20260422T211341Z
LOCATION:SR  5 (Sowi)
END:VEVENT
BEGIN:VEVENT
UID:26S_402525_4962178@uibk.ac.at
ORGANIZER;CN="LFU:online Universität Innsbruck":MAILTO:Uni-Innsbruck-noreply@uibk.ac.at
SUMMARY:VO Politikfeldanalysen im Bereich der europäischen Integrationsforschung (LV 402525-0 26S)
DESCRIPTION:Lehrveranstaltung 402525 26S, Gruppe 0\nTitel: VO Politikfeldanalysen im Bereich der europäischen Integrationsforschung\nOrt: SR  5 (Sowi)\n\nhttps://lfuonline.uibk.ac.at/public/lfuonline_lv.details?sem_id_in=26S&lvnr_id_in=402525\n
CLASS:PUBLIC
DTSTART:20260511T144500Z
DTEND:20260511T161500Z
DTSTAMP:20260422T211341Z
LOCATION:SR  5 (Sowi)
END:VEVENT
BEGIN:VEVENT
UID:26S_402525_4962179@uibk.ac.at
ORGANIZER;CN="LFU:online Universität Innsbruck":MAILTO:Uni-Innsbruck-noreply@uibk.ac.at
SUMMARY:VO Politikfeldanalysen im Bereich der europäischen Integrationsforschung (LV 402525-0 26S)
DESCRIPTION:Lehrveranstaltung 402525 26S, Gruppe 0\nTitel: VO Politikfeldanalysen im Bereich der europäischen Integrationsforschung\nOrt: SR  5 (Sowi)\n\nhttps://lfuonline.uibk.ac.at/public/lfuonline_lv.details?sem_id_in=26S&lvnr_id_in=402525\n
CLASS:PUBLIC
DTSTART:20260518T144500Z
DTEND:20260518T161500Z
DTSTAMP:20260422T211341Z
LOCATION:SR  5 (Sowi)
END:VEVENT
BEGIN:VEVENT
UID:26S_402525_5057885@uibk.ac.at
ORGANIZER;CN="LFU:online Universität Innsbruck":MAILTO:Uni-Innsbruck-noreply@uibk.ac.at
SUMMARY:VO Politikfeldanalysen im Bereich der europäischen Integrationsforschung (LV 402525-0 26S)
DESCRIPTION:Lehrveranstaltung 402525 26S, Gruppe 0\nTitel: VO Politikfeldanalysen im Bereich der europäischen Integrationsforschung\nOrt: SR  5 (Sowi)\n\nhttps://lfuonline.uibk.ac.at/public/lfuonline_lv.details?sem_id_in=26S&lvnr_id_in=402525\n
CLASS:PUBLIC
DTSTART:20260519T060000Z
DTEND:20260519T073000Z
DTSTAMP:20260422T211341Z
LOCATION:SR  5 (Sowi)
END:VEVENT
BEGIN:VEVENT
UID:26S_402525_4962181@uibk.ac.at
ORGANIZER;CN="LFU:online Universität Innsbruck":MAILTO:Uni-Innsbruck-noreply@uibk.ac.at
SUMMARY:VO Politikfeldanalysen im Bereich der europäischen Integrationsforschung (LV 402525-0 26S)
DESCRIPTION:Lehrveranstaltung 402525 26S, Gruppe 0\nTitel: VO Politikfeldanalysen im Bereich der europäischen Integrationsforschung\nOrt: SR  5 (Sowi)\n\nhttps://lfuonline.uibk.ac.at/public/lfuonline_lv.details?sem_id_in=26S&lvnr_id_in=402525\n
CLASS:PUBLIC
DTSTART:20260608T144500Z
DTEND:20260608T161500Z
DTSTAMP:20260422T211341Z
LOCATION:SR  5 (Sowi)
END:VEVENT
BEGIN:VEVENT
UID:26S_402525_4962182@uibk.ac.at
ORGANIZER;CN="LFU:online Universität Innsbruck":MAILTO:Uni-Innsbruck-noreply@uibk.ac.at
SUMMARY:VO Politikfeldanalysen im Bereich der europäischen Integrationsforschung (LV 402525-0 26S)
DESCRIPTION:Lehrveranstaltung 402525 26S, Gruppe 0\nTitel: VO Politikfeldanalysen im Bereich der europäischen Integrationsforschung\nOrt: SR  5 (Sowi)\n\nhttps://lfuonline.uibk.ac.at/public/lfuonline_lv.details?sem_id_in=26S&lvnr_id_in=402525\n
CLASS:PUBLIC
DTSTART:20260615T144500Z
DTEND:20260615T161500Z
DTSTAMP:20260422T211341Z
LOCATION:SR  5 (Sowi)
END:VEVENT
BEGIN:VEVENT
UID:26S_402525_4962183@uibk.ac.at
ORGANIZER;CN="LFU:online Universität Innsbruck":MAILTO:Uni-Innsbruck-noreply@uibk.ac.at
SUMMARY:VO Politikfeldanalysen im Bereich der europäischen Integrationsforschung (LV 402525-0 26S)
DESCRIPTION:Lehrveranstaltung 402525 26S, Gruppe 0\nTitel: VO Politikfeldanalysen im Bereich der europäischen Integrationsforschung\nOrt: SR  5 (Sowi)\n\nhttps://lfuonline.uibk.ac.at/public/lfuonline_lv.details?sem_id_in=26S&lvnr_id_in=402525\n
CLASS:PUBLIC
DTSTART:20260622T144500Z
DTEND:20260622T161500Z
DTSTAMP:20260422T211341Z
LOCATION:SR  5 (Sowi)
END:VEVENT
END:VCALENDAR