BEGIN:VCALENDAR
VERSION:2.0
PRODID:-//Universität Innsbruck//LFU:online//DE
METHOD:PUBLISH
BEGIN:VEVENT
UID:20S_404001_3533072@uibk.ac.at
ORGANIZER;CN="LFU:online Universität Innsbruck":MAILTO:Uni-Innsbruck-noreply@uibk.ac.at
SUMMARY:VO Theorie ökonomischer Entscheidungen: Strategisches Verhalten (LV 404001-0 20S)
DESCRIPTION:Lehrveranstaltung 404001 20S, Gruppe 0\nTitel: VO Theorie ökonomischer Entscheidungen: Strategisches Verhalten\nOrt: Aula (Sowi)\n\nhttps://lfuonline.uibk.ac.at/public/lfuonline_lv.details?sem_id_in=20S&lvnr_id_in=404001\n
CLASS:PUBLIC
DTSTART:20200306T110000Z
DTEND:20200306T124500Z
DTSTAMP:20260423T132310Z
LOCATION:Aula (Sowi)
END:VEVENT
BEGIN:VEVENT
UID:20S_404001_3533060@uibk.ac.at
ORGANIZER;CN="LFU:online Universität Innsbruck":MAILTO:Uni-Innsbruck-noreply@uibk.ac.at
SUMMARY:VO Theorie ökonomischer Entscheidungen: Strategisches Verhalten (LV 404001-0 20S)
DESCRIPTION:Lehrveranstaltung 404001 20S, Gruppe 0\nTitel: VO Theorie ökonomischer Entscheidungen: Strategisches Verhalten\nOrt: Aula (Sowi)\n\nhttps://lfuonline.uibk.ac.at/public/lfuonline_lv.details?sem_id_in=20S&lvnr_id_in=404001\n
CLASS:PUBLIC
DTSTART:20200310T170000Z
DTEND:20200310T184500Z
DTSTAMP:20260423T132310Z
LOCATION:Aula (Sowi)
END:VEVENT
BEGIN:VEVENT
UID:20S_404001_3533073@uibk.ac.at
ORGANIZER;CN="LFU:online Universität Innsbruck":MAILTO:Uni-Innsbruck-noreply@uibk.ac.at
SUMMARY:VO Theorie ökonomischer Entscheidungen: Strategisches Verhalten (LV 404001-0 20S)
DESCRIPTION:Lehrveranstaltung 404001 20S, Gruppe 0\nTitel: VO Theorie ökonomischer Entscheidungen: Strategisches Verhalten\nOrt: Aula (Sowi)\n\nhttps://lfuonline.uibk.ac.at/public/lfuonline_lv.details?sem_id_in=20S&lvnr_id_in=404001\n
CLASS:PUBLIC
DTSTART:20200313T110000Z
DTEND:20200313T124500Z
DTSTAMP:20260423T132310Z
LOCATION:Aula (Sowi)
END:VEVENT
BEGIN:VEVENT
UID:20S_404001_3533061@uibk.ac.at
ORGANIZER;CN="LFU:online Universität Innsbruck":MAILTO:Uni-Innsbruck-noreply@uibk.ac.at
SUMMARY:VO Theorie ökonomischer Entscheidungen: Strategisches Verhalten (LV 404001-0 20S)
DESCRIPTION:Lehrveranstaltung 404001 20S, Gruppe 0\nTitel: VO Theorie ökonomischer Entscheidungen: Strategisches Verhalten\nOrt: Aula (Sowi)\n\nhttps://lfuonline.uibk.ac.at/public/lfuonline_lv.details?sem_id_in=20S&lvnr_id_in=404001\n
CLASS:PUBLIC
DTSTART:20200317T170000Z
DTEND:20200317T184500Z
DTSTAMP:20260423T132310Z
LOCATION:Aula (Sowi)
END:VEVENT
BEGIN:VEVENT
UID:20S_404001_3533074@uibk.ac.at
ORGANIZER;CN="LFU:online Universität Innsbruck":MAILTO:Uni-Innsbruck-noreply@uibk.ac.at
SUMMARY:VO Theorie ökonomischer Entscheidungen: Strategisches Verhalten (LV 404001-0 20S)
DESCRIPTION:Lehrveranstaltung 404001 20S, Gruppe 0\nTitel: VO Theorie ökonomischer Entscheidungen: Strategisches Verhalten\nOrt: Aula (Sowi)\n\nhttps://lfuonline.uibk.ac.at/public/lfuonline_lv.details?sem_id_in=20S&lvnr_id_in=404001\n
CLASS:PUBLIC
DTSTART:20200320T110000Z
DTEND:20200320T124500Z
DTSTAMP:20260423T132310Z
LOCATION:Aula (Sowi)
END:VEVENT
BEGIN:VEVENT
UID:20S_404001_3533062@uibk.ac.at
ORGANIZER;CN="LFU:online Universität Innsbruck":MAILTO:Uni-Innsbruck-noreply@uibk.ac.at
SUMMARY:VO Theorie ökonomischer Entscheidungen: Strategisches Verhalten (LV 404001-0 20S)
DESCRIPTION:Lehrveranstaltung 404001 20S, Gruppe 0\nTitel: VO Theorie ökonomischer Entscheidungen: Strategisches Verhalten\nOrt: Aula (Sowi)\n\nhttps://lfuonline.uibk.ac.at/public/lfuonline_lv.details?sem_id_in=20S&lvnr_id_in=404001\n
CLASS:PUBLIC
DTSTART:20200324T170000Z
DTEND:20200324T184500Z
DTSTAMP:20260423T132310Z
LOCATION:Aula (Sowi)
END:VEVENT
BEGIN:VEVENT
UID:20S_404001_3533075@uibk.ac.at
ORGANIZER;CN="LFU:online Universität Innsbruck":MAILTO:Uni-Innsbruck-noreply@uibk.ac.at
SUMMARY:VO Theorie ökonomischer Entscheidungen: Strategisches Verhalten (LV 404001-0 20S)
DESCRIPTION:Lehrveranstaltung 404001 20S, Gruppe 0\nTitel: VO Theorie ökonomischer Entscheidungen: Strategisches Verhalten\nOrt: Aula (Sowi)\n\nhttps://lfuonline.uibk.ac.at/public/lfuonline_lv.details?sem_id_in=20S&lvnr_id_in=404001\n
CLASS:PUBLIC
DTSTART:20200327T110000Z
DTEND:20200327T124500Z
DTSTAMP:20260423T132310Z
LOCATION:Aula (Sowi)
END:VEVENT
BEGIN:VEVENT
UID:20S_404001_3533063@uibk.ac.at
ORGANIZER;CN="LFU:online Universität Innsbruck":MAILTO:Uni-Innsbruck-noreply@uibk.ac.at
SUMMARY:VO Theorie ökonomischer Entscheidungen: Strategisches Verhalten (LV 404001-0 20S)
DESCRIPTION:Lehrveranstaltung 404001 20S, Gruppe 0\nTitel: VO Theorie ökonomischer Entscheidungen: Strategisches Verhalten\nOrt: Aula (Sowi)\n\nhttps://lfuonline.uibk.ac.at/public/lfuonline_lv.details?sem_id_in=20S&lvnr_id_in=404001\n
CLASS:PUBLIC
DTSTART:20200331T160000Z
DTEND:20200331T174500Z
DTSTAMP:20260423T132310Z
LOCATION:Aula (Sowi)
END:VEVENT
BEGIN:VEVENT
UID:20S_404001_3533076@uibk.ac.at
ORGANIZER;CN="LFU:online Universität Innsbruck":MAILTO:Uni-Innsbruck-noreply@uibk.ac.at
SUMMARY:VO Theorie ökonomischer Entscheidungen: Strategisches Verhalten (LV 404001-0 20S)
DESCRIPTION:Lehrveranstaltung 404001 20S, Gruppe 0\nTitel: VO Theorie ökonomischer Entscheidungen: Strategisches Verhalten\nOrt: Aula (Sowi)\n\nhttps://lfuonline.uibk.ac.at/public/lfuonline_lv.details?sem_id_in=20S&lvnr_id_in=404001\n
CLASS:PUBLIC
DTSTART:20200403T100000Z
DTEND:20200403T114500Z
DTSTAMP:20260423T132310Z
LOCATION:Aula (Sowi)
END:VEVENT
BEGIN:VEVENT
UID:20S_404001_3533064@uibk.ac.at
ORGANIZER;CN="LFU:online Universität Innsbruck":MAILTO:Uni-Innsbruck-noreply@uibk.ac.at
SUMMARY:VO Theorie ökonomischer Entscheidungen: Strategisches Verhalten (LV 404001-0 20S)
DESCRIPTION:Lehrveranstaltung 404001 20S, Gruppe 0\nTitel: VO Theorie ökonomischer Entscheidungen: Strategisches Verhalten\nOrt: Aula (Sowi)\n\nhttps://lfuonline.uibk.ac.at/public/lfuonline_lv.details?sem_id_in=20S&lvnr_id_in=404001\n
CLASS:PUBLIC
DTSTART:20200421T160000Z
DTEND:20200421T174500Z
DTSTAMP:20260423T132310Z
LOCATION:Aula (Sowi)
END:VEVENT
BEGIN:VEVENT
UID:20S_404001_3533077@uibk.ac.at
ORGANIZER;CN="LFU:online Universität Innsbruck":MAILTO:Uni-Innsbruck-noreply@uibk.ac.at
SUMMARY:VO Theorie ökonomischer Entscheidungen: Strategisches Verhalten (LV 404001-0 20S)
DESCRIPTION:Lehrveranstaltung 404001 20S, Gruppe 0\nTitel: VO Theorie ökonomischer Entscheidungen: Strategisches Verhalten\nOrt: Aula (Sowi)\n\nhttps://lfuonline.uibk.ac.at/public/lfuonline_lv.details?sem_id_in=20S&lvnr_id_in=404001\n
CLASS:PUBLIC
DTSTART:20200424T100000Z
DTEND:20200424T114500Z
DTSTAMP:20260423T132310Z
LOCATION:Aula (Sowi)
END:VEVENT
BEGIN:VEVENT
UID:20S_404001_3533065@uibk.ac.at
ORGANIZER;CN="LFU:online Universität Innsbruck":MAILTO:Uni-Innsbruck-noreply@uibk.ac.at
SUMMARY:VO Theorie ökonomischer Entscheidungen: Strategisches Verhalten (LV 404001-0 20S)
DESCRIPTION:Lehrveranstaltung 404001 20S, Gruppe 0\nTitel: VO Theorie ökonomischer Entscheidungen: Strategisches Verhalten\nOrt: Aula (Sowi)\n\nhttps://lfuonline.uibk.ac.at/public/lfuonline_lv.details?sem_id_in=20S&lvnr_id_in=404001\n
CLASS:PUBLIC
DTSTART:20200428T160000Z
DTEND:20200428T174500Z
DTSTAMP:20260423T132310Z
LOCATION:Aula (Sowi)
END:VEVENT
BEGIN:VEVENT
UID:20S_404001_3533066@uibk.ac.at
ORGANIZER;CN="LFU:online Universität Innsbruck":MAILTO:Uni-Innsbruck-noreply@uibk.ac.at
SUMMARY:VO Theorie ökonomischer Entscheidungen: Strategisches Verhalten (LV 404001-0 20S)
DESCRIPTION:Lehrveranstaltung 404001 20S, Gruppe 0\nTitel: VO Theorie ökonomischer Entscheidungen: Strategisches Verhalten\nOrt: Aula (Sowi)\n\nhttps://lfuonline.uibk.ac.at/public/lfuonline_lv.details?sem_id_in=20S&lvnr_id_in=404001\n
CLASS:PUBLIC
DTSTART:20200505T160000Z
DTEND:20200505T174500Z
DTSTAMP:20260423T132310Z
LOCATION:Aula (Sowi)
END:VEVENT
BEGIN:VEVENT
UID:20S_404001_3533078@uibk.ac.at
ORGANIZER;CN="LFU:online Universität Innsbruck":MAILTO:Uni-Innsbruck-noreply@uibk.ac.at
SUMMARY:VO Theorie ökonomischer Entscheidungen: Strategisches Verhalten (LV 404001-0 20S)
DESCRIPTION:Lehrveranstaltung 404001 20S, Gruppe 0\nTitel: VO Theorie ökonomischer Entscheidungen: Strategisches Verhalten\nOrt: Aula (Sowi)\n\nhttps://lfuonline.uibk.ac.at/public/lfuonline_lv.details?sem_id_in=20S&lvnr_id_in=404001\n
CLASS:PUBLIC
DTSTART:20200508T100000Z
DTEND:20200508T114500Z
DTSTAMP:20260423T132310Z
LOCATION:Aula (Sowi)
END:VEVENT
END:VCALENDAR