BEGIN:VCALENDAR
VERSION:2.0
PRODID:-//Universität Innsbruck//LFU:online//DE
METHOD:PUBLISH
BEGIN:VEVENT
UID:20S_404002_3502683@uibk.ac.at
ORGANIZER;CN="LFU:online Universität Innsbruck":MAILTO:Uni-Innsbruck-noreply@uibk.ac.at
SUMMARY:PS Theorie ökonomischer Entscheidungen: Strategisches Verhalten (LV 404002-0 20S)
DESCRIPTION:Lehrveranstaltung 404002 20S, Gruppe 0\nTitel: PS Theorie ökonomischer Entscheidungen: Strategisches Verhalten\nOrt: UR 1 (Sowi)\n\nhttps://lfuonline.uibk.ac.at/public/lfuonline_lv.details?sem_id_in=20S&lvnr_id_in=404002\n
CLASS:PUBLIC
DTSTART:20200309T090000Z
DTEND:20200309T104500Z
DTSTAMP:20260423T161659Z
LOCATION:UR 1 (Sowi)
END:VEVENT
BEGIN:VEVENT
UID:20S_404002_3502684@uibk.ac.at
ORGANIZER;CN="LFU:online Universität Innsbruck":MAILTO:Uni-Innsbruck-noreply@uibk.ac.at
SUMMARY:PS Theorie ökonomischer Entscheidungen: Strategisches Verhalten (LV 404002-0 20S)
DESCRIPTION:Lehrveranstaltung 404002 20S, Gruppe 0\nTitel: PS Theorie ökonomischer Entscheidungen: Strategisches Verhalten\nOrt: UR 1 (Sowi)\n\nhttps://lfuonline.uibk.ac.at/public/lfuonline_lv.details?sem_id_in=20S&lvnr_id_in=404002\n
CLASS:PUBLIC
DTSTART:20200316T090000Z
DTEND:20200316T104500Z
DTSTAMP:20260423T161659Z
LOCATION:UR 1 (Sowi)
END:VEVENT
BEGIN:VEVENT
UID:20S_404002_3502685@uibk.ac.at
ORGANIZER;CN="LFU:online Universität Innsbruck":MAILTO:Uni-Innsbruck-noreply@uibk.ac.at
SUMMARY:PS Theorie ökonomischer Entscheidungen: Strategisches Verhalten (LV 404002-0 20S)
DESCRIPTION:Lehrveranstaltung 404002 20S, Gruppe 0\nTitel: PS Theorie ökonomischer Entscheidungen: Strategisches Verhalten\nOrt: UR 1 (Sowi)\n\nhttps://lfuonline.uibk.ac.at/public/lfuonline_lv.details?sem_id_in=20S&lvnr_id_in=404002\n
CLASS:PUBLIC
DTSTART:20200323T090000Z
DTEND:20200323T104500Z
DTSTAMP:20260423T161659Z
LOCATION:UR 1 (Sowi)
END:VEVENT
BEGIN:VEVENT
UID:20S_404002_3502686@uibk.ac.at
ORGANIZER;CN="LFU:online Universität Innsbruck":MAILTO:Uni-Innsbruck-noreply@uibk.ac.at
SUMMARY:PS Theorie ökonomischer Entscheidungen: Strategisches Verhalten (LV 404002-0 20S)
DESCRIPTION:Lehrveranstaltung 404002 20S, Gruppe 0\nTitel: PS Theorie ökonomischer Entscheidungen: Strategisches Verhalten\nOrt: UR 1 (Sowi)\n\nhttps://lfuonline.uibk.ac.at/public/lfuonline_lv.details?sem_id_in=20S&lvnr_id_in=404002\n
CLASS:PUBLIC
DTSTART:20200330T080000Z
DTEND:20200330T094500Z
DTSTAMP:20260423T161659Z
LOCATION:UR 1 (Sowi)
END:VEVENT
BEGIN:VEVENT
UID:20S_404002_3502687@uibk.ac.at
ORGANIZER;CN="LFU:online Universität Innsbruck":MAILTO:Uni-Innsbruck-noreply@uibk.ac.at
SUMMARY:PS Theorie ökonomischer Entscheidungen: Strategisches Verhalten (LV 404002-0 20S)
DESCRIPTION:Lehrveranstaltung 404002 20S, Gruppe 0\nTitel: PS Theorie ökonomischer Entscheidungen: Strategisches Verhalten\nOrt: UR 1 (Sowi)\n\nhttps://lfuonline.uibk.ac.at/public/lfuonline_lv.details?sem_id_in=20S&lvnr_id_in=404002\n
CLASS:PUBLIC
DTSTART:20200420T080000Z
DTEND:20200420T094500Z
DTSTAMP:20260423T161659Z
LOCATION:UR 1 (Sowi)
END:VEVENT
BEGIN:VEVENT
UID:20S_404002_3578844@uibk.ac.at
ORGANIZER;CN="LFU:online Universität Innsbruck":MAILTO:Uni-Innsbruck-noreply@uibk.ac.at
SUMMARY:PS Theorie ökonomischer Entscheidungen: Strategisches Verhalten (LV 404002-0 20S)
DESCRIPTION:Lehrveranstaltung 404002 20S, Gruppe 0\nTitel: PS Theorie ökonomischer Entscheidungen: Strategisches Verhalten\nOrt: UR 1 (Sowi)\n\nhttps://lfuonline.uibk.ac.at/public/lfuonline_lv.details?sem_id_in=20S&lvnr_id_in=404002\n
CLASS:PUBLIC
DTSTART:20200427T080000Z
DTEND:20200427T094500Z
DTSTAMP:20260423T161659Z
LOCATION:UR 1 (Sowi)
END:VEVENT
BEGIN:VEVENT
UID:20S_404002_3502688@uibk.ac.at
ORGANIZER;CN="LFU:online Universität Innsbruck":MAILTO:Uni-Innsbruck-noreply@uibk.ac.at
SUMMARY:PS Theorie ökonomischer Entscheidungen: Strategisches Verhalten (LV 404002-0 20S)
DESCRIPTION:Lehrveranstaltung 404002 20S, Gruppe 0\nTitel: PS Theorie ökonomischer Entscheidungen: Strategisches Verhalten\nOrt: UR 1 (Sowi)\n\nhttps://lfuonline.uibk.ac.at/public/lfuonline_lv.details?sem_id_in=20S&lvnr_id_in=404002\n
CLASS:PUBLIC
DTSTART:20200504T080000Z
DTEND:20200504T094500Z
DTSTAMP:20260423T161659Z
LOCATION:UR 1 (Sowi)
END:VEVENT
BEGIN:VEVENT
UID:20S_404002_3502689@uibk.ac.at
ORGANIZER;CN="LFU:online Universität Innsbruck":MAILTO:Uni-Innsbruck-noreply@uibk.ac.at
SUMMARY:PS Theorie ökonomischer Entscheidungen: Strategisches Verhalten (LV 404002-0 20S)
DESCRIPTION:Lehrveranstaltung 404002 20S, Gruppe 0\nTitel: PS Theorie ökonomischer Entscheidungen: Strategisches Verhalten\nOrt: UR 1 (Sowi)\n\nhttps://lfuonline.uibk.ac.at/public/lfuonline_lv.details?sem_id_in=20S&lvnr_id_in=404002\n
CLASS:PUBLIC
DTSTART:20200511T080000Z
DTEND:20200511T094500Z
DTSTAMP:20260423T161659Z
LOCATION:UR 1 (Sowi)
END:VEVENT
BEGIN:VEVENT
UID:20S_404002_3502690@uibk.ac.at
ORGANIZER;CN="LFU:online Universität Innsbruck":MAILTO:Uni-Innsbruck-noreply@uibk.ac.at
SUMMARY:PS Theorie ökonomischer Entscheidungen: Strategisches Verhalten (LV 404002-0 20S)
DESCRIPTION:Lehrveranstaltung 404002 20S, Gruppe 0\nTitel: PS Theorie ökonomischer Entscheidungen: Strategisches Verhalten\nOrt: UR 1 (Sowi)\n\nhttps://lfuonline.uibk.ac.at/public/lfuonline_lv.details?sem_id_in=20S&lvnr_id_in=404002\n
CLASS:PUBLIC
DTSTART:20200518T080000Z
DTEND:20200518T094500Z
DTSTAMP:20260423T161659Z
LOCATION:UR 1 (Sowi)
END:VEVENT
BEGIN:VEVENT
UID:20S_404002_3502691@uibk.ac.at
ORGANIZER;CN="LFU:online Universität Innsbruck":MAILTO:Uni-Innsbruck-noreply@uibk.ac.at
SUMMARY:PS Theorie ökonomischer Entscheidungen: Strategisches Verhalten (LV 404002-0 20S)
DESCRIPTION:Lehrveranstaltung 404002 20S, Gruppe 0\nTitel: PS Theorie ökonomischer Entscheidungen: Strategisches Verhalten\nOrt: UR 1 (Sowi)\n\nhttps://lfuonline.uibk.ac.at/public/lfuonline_lv.details?sem_id_in=20S&lvnr_id_in=404002\n
CLASS:PUBLIC
DTSTART:20200525T080000Z
DTEND:20200525T094500Z
DTSTAMP:20260423T161659Z
LOCATION:UR 1 (Sowi)
END:VEVENT
BEGIN:VEVENT
UID:20S_404002_3502692@uibk.ac.at
ORGANIZER;CN="LFU:online Universität Innsbruck":MAILTO:Uni-Innsbruck-noreply@uibk.ac.at
SUMMARY:PS Theorie ökonomischer Entscheidungen: Strategisches Verhalten (LV 404002-0 20S)
DESCRIPTION:Lehrveranstaltung 404002 20S, Gruppe 0\nTitel: PS Theorie ökonomischer Entscheidungen: Strategisches Verhalten\nOrt: UR 1 (Sowi)\n\nhttps://lfuonline.uibk.ac.at/public/lfuonline_lv.details?sem_id_in=20S&lvnr_id_in=404002\n
CLASS:PUBLIC
DTSTART:20200601T080000Z
DTEND:20200601T094500Z
DTSTAMP:20260423T161659Z
LOCATION:UR 1 (Sowi)
END:VEVENT
BEGIN:VEVENT
UID:20S_404002_3502693@uibk.ac.at
ORGANIZER;CN="LFU:online Universität Innsbruck":MAILTO:Uni-Innsbruck-noreply@uibk.ac.at
SUMMARY:PS Theorie ökonomischer Entscheidungen: Strategisches Verhalten (LV 404002-0 20S)
DESCRIPTION:Lehrveranstaltung 404002 20S, Gruppe 0\nTitel: PS Theorie ökonomischer Entscheidungen: Strategisches Verhalten\nOrt: UR 1 (Sowi)\n\nhttps://lfuonline.uibk.ac.at/public/lfuonline_lv.details?sem_id_in=20S&lvnr_id_in=404002\n
CLASS:PUBLIC
DTSTART:20200608T080000Z
DTEND:20200608T094500Z
DTSTAMP:20260423T161659Z
LOCATION:UR 1 (Sowi)
END:VEVENT
BEGIN:VEVENT
UID:20S_404002_3502694@uibk.ac.at
ORGANIZER;CN="LFU:online Universität Innsbruck":MAILTO:Uni-Innsbruck-noreply@uibk.ac.at
SUMMARY:PS Theorie ökonomischer Entscheidungen: Strategisches Verhalten (LV 404002-0 20S)
DESCRIPTION:Lehrveranstaltung 404002 20S, Gruppe 0\nTitel: PS Theorie ökonomischer Entscheidungen: Strategisches Verhalten\nOrt: UR 1 (Sowi)\n\nhttps://lfuonline.uibk.ac.at/public/lfuonline_lv.details?sem_id_in=20S&lvnr_id_in=404002\n
CLASS:PUBLIC
DTSTART:20200615T080000Z
DTEND:20200615T094500Z
DTSTAMP:20260423T161659Z
LOCATION:UR 1 (Sowi)
END:VEVENT
BEGIN:VEVENT
UID:20S_404002_3502695@uibk.ac.at
ORGANIZER;CN="LFU:online Universität Innsbruck":MAILTO:Uni-Innsbruck-noreply@uibk.ac.at
SUMMARY:PS Theorie ökonomischer Entscheidungen: Strategisches Verhalten (LV 404002-0 20S)
DESCRIPTION:Lehrveranstaltung 404002 20S, Gruppe 0\nTitel: PS Theorie ökonomischer Entscheidungen: Strategisches Verhalten\nOrt: UR 1 (Sowi)\n\nhttps://lfuonline.uibk.ac.at/public/lfuonline_lv.details?sem_id_in=20S&lvnr_id_in=404002\n
CLASS:PUBLIC
DTSTART:20200622T080000Z
DTEND:20200622T094500Z
DTSTAMP:20260423T161659Z
LOCATION:UR 1 (Sowi)
END:VEVENT
END:VCALENDAR