BEGIN:VCALENDAR
VERSION:2.0
PRODID:-//Universität Innsbruck//LFU:online//DE
METHOD:PUBLISH
BEGIN:VEVENT
UID:20S_404003_3502697@uibk.ac.at
ORGANIZER;CN="LFU:online Universität Innsbruck":MAILTO:Uni-Innsbruck-noreply@uibk.ac.at
SUMMARY:PS Theorie ökonomischer Entscheidungen: Strategisches Verhalten (LV 404003-0 20S)
DESCRIPTION:Lehrveranstaltung 404003 20S, Gruppe 0\nTitel: PS Theorie ökonomischer Entscheidungen: Strategisches Verhalten\nOrt: UR 1 (Sowi)\n\nhttps://lfuonline.uibk.ac.at/public/lfuonline_lv.details?sem_id_in=20S&lvnr_id_in=404003\n
CLASS:PUBLIC
DTSTART:20200309T110000Z
DTEND:20200309T124500Z
DTSTAMP:20260423T132311Z
LOCATION:UR 1 (Sowi)
END:VEVENT
BEGIN:VEVENT
UID:20S_404003_3502698@uibk.ac.at
ORGANIZER;CN="LFU:online Universität Innsbruck":MAILTO:Uni-Innsbruck-noreply@uibk.ac.at
SUMMARY:PS Theorie ökonomischer Entscheidungen: Strategisches Verhalten (LV 404003-0 20S)
DESCRIPTION:Lehrveranstaltung 404003 20S, Gruppe 0\nTitel: PS Theorie ökonomischer Entscheidungen: Strategisches Verhalten\nOrt: UR 1 (Sowi)\n\nhttps://lfuonline.uibk.ac.at/public/lfuonline_lv.details?sem_id_in=20S&lvnr_id_in=404003\n
CLASS:PUBLIC
DTSTART:20200316T110000Z
DTEND:20200316T124500Z
DTSTAMP:20260423T132311Z
LOCATION:UR 1 (Sowi)
END:VEVENT
BEGIN:VEVENT
UID:20S_404003_3502699@uibk.ac.at
ORGANIZER;CN="LFU:online Universität Innsbruck":MAILTO:Uni-Innsbruck-noreply@uibk.ac.at
SUMMARY:PS Theorie ökonomischer Entscheidungen: Strategisches Verhalten (LV 404003-0 20S)
DESCRIPTION:Lehrveranstaltung 404003 20S, Gruppe 0\nTitel: PS Theorie ökonomischer Entscheidungen: Strategisches Verhalten\nOrt: UR 1 (Sowi)\n\nhttps://lfuonline.uibk.ac.at/public/lfuonline_lv.details?sem_id_in=20S&lvnr_id_in=404003\n
CLASS:PUBLIC
DTSTART:20200323T110000Z
DTEND:20200323T124500Z
DTSTAMP:20260423T132311Z
LOCATION:UR 1 (Sowi)
END:VEVENT
BEGIN:VEVENT
UID:20S_404003_3502700@uibk.ac.at
ORGANIZER;CN="LFU:online Universität Innsbruck":MAILTO:Uni-Innsbruck-noreply@uibk.ac.at
SUMMARY:PS Theorie ökonomischer Entscheidungen: Strategisches Verhalten (LV 404003-0 20S)
DESCRIPTION:Lehrveranstaltung 404003 20S, Gruppe 0\nTitel: PS Theorie ökonomischer Entscheidungen: Strategisches Verhalten\nOrt: UR 1 (Sowi)\n\nhttps://lfuonline.uibk.ac.at/public/lfuonline_lv.details?sem_id_in=20S&lvnr_id_in=404003\n
CLASS:PUBLIC
DTSTART:20200330T100000Z
DTEND:20200330T114500Z
DTSTAMP:20260423T132311Z
LOCATION:UR 1 (Sowi)
END:VEVENT
BEGIN:VEVENT
UID:20S_404003_3502701@uibk.ac.at
ORGANIZER;CN="LFU:online Universität Innsbruck":MAILTO:Uni-Innsbruck-noreply@uibk.ac.at
SUMMARY:PS Theorie ökonomischer Entscheidungen: Strategisches Verhalten (LV 404003-0 20S)
DESCRIPTION:Lehrveranstaltung 404003 20S, Gruppe 0\nTitel: PS Theorie ökonomischer Entscheidungen: Strategisches Verhalten\nOrt: UR 1 (Sowi)\n\nhttps://lfuonline.uibk.ac.at/public/lfuonline_lv.details?sem_id_in=20S&lvnr_id_in=404003\n
CLASS:PUBLIC
DTSTART:20200420T100000Z
DTEND:20200420T114500Z
DTSTAMP:20260423T132311Z
LOCATION:UR 1 (Sowi)
END:VEVENT
BEGIN:VEVENT
UID:20S_404003_3578843@uibk.ac.at
ORGANIZER;CN="LFU:online Universität Innsbruck":MAILTO:Uni-Innsbruck-noreply@uibk.ac.at
SUMMARY:PS Theorie ökonomischer Entscheidungen: Strategisches Verhalten (LV 404003-0 20S)
DESCRIPTION:Lehrveranstaltung 404003 20S, Gruppe 0\nTitel: PS Theorie ökonomischer Entscheidungen: Strategisches Verhalten\nOrt: UR 1 (Sowi)\n\nhttps://lfuonline.uibk.ac.at/public/lfuonline_lv.details?sem_id_in=20S&lvnr_id_in=404003\n
CLASS:PUBLIC
DTSTART:20200427T100000Z
DTEND:20200427T114500Z
DTSTAMP:20260423T132311Z
LOCATION:UR 1 (Sowi)
END:VEVENT
BEGIN:VEVENT
UID:20S_404003_3502702@uibk.ac.at
ORGANIZER;CN="LFU:online Universität Innsbruck":MAILTO:Uni-Innsbruck-noreply@uibk.ac.at
SUMMARY:PS Theorie ökonomischer Entscheidungen: Strategisches Verhalten (LV 404003-0 20S)
DESCRIPTION:Lehrveranstaltung 404003 20S, Gruppe 0\nTitel: PS Theorie ökonomischer Entscheidungen: Strategisches Verhalten\nOrt: UR 1 (Sowi)\n\nhttps://lfuonline.uibk.ac.at/public/lfuonline_lv.details?sem_id_in=20S&lvnr_id_in=404003\n
CLASS:PUBLIC
DTSTART:20200504T100000Z
DTEND:20200504T114500Z
DTSTAMP:20260423T132311Z
LOCATION:UR 1 (Sowi)
END:VEVENT
BEGIN:VEVENT
UID:20S_404003_3502703@uibk.ac.at
ORGANIZER;CN="LFU:online Universität Innsbruck":MAILTO:Uni-Innsbruck-noreply@uibk.ac.at
SUMMARY:PS Theorie ökonomischer Entscheidungen: Strategisches Verhalten (LV 404003-0 20S)
DESCRIPTION:Lehrveranstaltung 404003 20S, Gruppe 0\nTitel: PS Theorie ökonomischer Entscheidungen: Strategisches Verhalten\nOrt: UR 1 (Sowi)\n\nhttps://lfuonline.uibk.ac.at/public/lfuonline_lv.details?sem_id_in=20S&lvnr_id_in=404003\n
CLASS:PUBLIC
DTSTART:20200511T100000Z
DTEND:20200511T114500Z
DTSTAMP:20260423T132311Z
LOCATION:UR 1 (Sowi)
END:VEVENT
BEGIN:VEVENT
UID:20S_404003_3502704@uibk.ac.at
ORGANIZER;CN="LFU:online Universität Innsbruck":MAILTO:Uni-Innsbruck-noreply@uibk.ac.at
SUMMARY:PS Theorie ökonomischer Entscheidungen: Strategisches Verhalten (LV 404003-0 20S)
DESCRIPTION:Lehrveranstaltung 404003 20S, Gruppe 0\nTitel: PS Theorie ökonomischer Entscheidungen: Strategisches Verhalten\nOrt: UR 1 (Sowi)\n\nhttps://lfuonline.uibk.ac.at/public/lfuonline_lv.details?sem_id_in=20S&lvnr_id_in=404003\n
CLASS:PUBLIC
DTSTART:20200518T100000Z
DTEND:20200518T114500Z
DTSTAMP:20260423T132311Z
LOCATION:UR 1 (Sowi)
END:VEVENT
BEGIN:VEVENT
UID:20S_404003_3502705@uibk.ac.at
ORGANIZER;CN="LFU:online Universität Innsbruck":MAILTO:Uni-Innsbruck-noreply@uibk.ac.at
SUMMARY:PS Theorie ökonomischer Entscheidungen: Strategisches Verhalten (LV 404003-0 20S)
DESCRIPTION:Lehrveranstaltung 404003 20S, Gruppe 0\nTitel: PS Theorie ökonomischer Entscheidungen: Strategisches Verhalten\nOrt: UR 1 (Sowi)\n\nhttps://lfuonline.uibk.ac.at/public/lfuonline_lv.details?sem_id_in=20S&lvnr_id_in=404003\n
CLASS:PUBLIC
DTSTART:20200525T100000Z
DTEND:20200525T114500Z
DTSTAMP:20260423T132311Z
LOCATION:UR 1 (Sowi)
END:VEVENT
BEGIN:VEVENT
UID:20S_404003_3502706@uibk.ac.at
ORGANIZER;CN="LFU:online Universität Innsbruck":MAILTO:Uni-Innsbruck-noreply@uibk.ac.at
SUMMARY:PS Theorie ökonomischer Entscheidungen: Strategisches Verhalten (LV 404003-0 20S)
DESCRIPTION:Lehrveranstaltung 404003 20S, Gruppe 0\nTitel: PS Theorie ökonomischer Entscheidungen: Strategisches Verhalten\nOrt: UR 1 (Sowi)\n\nhttps://lfuonline.uibk.ac.at/public/lfuonline_lv.details?sem_id_in=20S&lvnr_id_in=404003\n
CLASS:PUBLIC
DTSTART:20200601T100000Z
DTEND:20200601T114500Z
DTSTAMP:20260423T132311Z
LOCATION:UR 1 (Sowi)
END:VEVENT
BEGIN:VEVENT
UID:20S_404003_3502707@uibk.ac.at
ORGANIZER;CN="LFU:online Universität Innsbruck":MAILTO:Uni-Innsbruck-noreply@uibk.ac.at
SUMMARY:PS Theorie ökonomischer Entscheidungen: Strategisches Verhalten (LV 404003-0 20S)
DESCRIPTION:Lehrveranstaltung 404003 20S, Gruppe 0\nTitel: PS Theorie ökonomischer Entscheidungen: Strategisches Verhalten\nOrt: UR 1 (Sowi)\n\nhttps://lfuonline.uibk.ac.at/public/lfuonline_lv.details?sem_id_in=20S&lvnr_id_in=404003\n
CLASS:PUBLIC
DTSTART:20200608T100000Z
DTEND:20200608T114500Z
DTSTAMP:20260423T132311Z
LOCATION:UR 1 (Sowi)
END:VEVENT
BEGIN:VEVENT
UID:20S_404003_3502708@uibk.ac.at
ORGANIZER;CN="LFU:online Universität Innsbruck":MAILTO:Uni-Innsbruck-noreply@uibk.ac.at
SUMMARY:PS Theorie ökonomischer Entscheidungen: Strategisches Verhalten (LV 404003-0 20S)
DESCRIPTION:Lehrveranstaltung 404003 20S, Gruppe 0\nTitel: PS Theorie ökonomischer Entscheidungen: Strategisches Verhalten\nOrt: UR 1 (Sowi)\n\nhttps://lfuonline.uibk.ac.at/public/lfuonline_lv.details?sem_id_in=20S&lvnr_id_in=404003\n
CLASS:PUBLIC
DTSTART:20200615T100000Z
DTEND:20200615T114500Z
DTSTAMP:20260423T132311Z
LOCATION:UR 1 (Sowi)
END:VEVENT
BEGIN:VEVENT
UID:20S_404003_3502709@uibk.ac.at
ORGANIZER;CN="LFU:online Universität Innsbruck":MAILTO:Uni-Innsbruck-noreply@uibk.ac.at
SUMMARY:PS Theorie ökonomischer Entscheidungen: Strategisches Verhalten (LV 404003-0 20S)
DESCRIPTION:Lehrveranstaltung 404003 20S, Gruppe 0\nTitel: PS Theorie ökonomischer Entscheidungen: Strategisches Verhalten\nOrt: UR 1 (Sowi)\n\nhttps://lfuonline.uibk.ac.at/public/lfuonline_lv.details?sem_id_in=20S&lvnr_id_in=404003\n
CLASS:PUBLIC
DTSTART:20200622T100000Z
DTEND:20200622T114500Z
DTSTAMP:20260423T132311Z
LOCATION:UR 1 (Sowi)
END:VEVENT
END:VCALENDAR