BEGIN:VCALENDAR
VERSION:2.0
PRODID:-//Universität Innsbruck//LFU:online//DE
METHOD:PUBLISH
BEGIN:VEVENT
UID:20S_404004_3499544@uibk.ac.at
ORGANIZER;CN="LFU:online Universität Innsbruck":MAILTO:Uni-Innsbruck-noreply@uibk.ac.at
SUMMARY:PS Theorie ökonomischer Entscheidungen: Strategisches Verhalten (LV 404004-0 20S)
DESCRIPTION:Lehrveranstaltung 404004 20S, Gruppe 0\nTitel: PS Theorie ökonomischer Entscheidungen: Strategisches Verhalten\nOrt: SR  1 (Sowi)\n\nhttps://lfuonline.uibk.ac.at/public/lfuonline_lv.details?sem_id_in=20S&lvnr_id_in=404004\n
CLASS:PUBLIC
DTSTART:20200310T070000Z
DTEND:20200310T084500Z
DTSTAMP:20260423T161711Z
LOCATION:SR  1 (Sowi)
END:VEVENT
BEGIN:VEVENT
UID:20S_404004_3499545@uibk.ac.at
ORGANIZER;CN="LFU:online Universität Innsbruck":MAILTO:Uni-Innsbruck-noreply@uibk.ac.at
SUMMARY:PS Theorie ökonomischer Entscheidungen: Strategisches Verhalten (LV 404004-0 20S)
DESCRIPTION:Lehrveranstaltung 404004 20S, Gruppe 0\nTitel: PS Theorie ökonomischer Entscheidungen: Strategisches Verhalten\nOrt: SR  1 (Sowi)\n\nhttps://lfuonline.uibk.ac.at/public/lfuonline_lv.details?sem_id_in=20S&lvnr_id_in=404004\n
CLASS:PUBLIC
DTSTART:20200317T070000Z
DTEND:20200317T084500Z
DTSTAMP:20260423T161711Z
LOCATION:SR  1 (Sowi)
END:VEVENT
BEGIN:VEVENT
UID:20S_404004_3499546@uibk.ac.at
ORGANIZER;CN="LFU:online Universität Innsbruck":MAILTO:Uni-Innsbruck-noreply@uibk.ac.at
SUMMARY:PS Theorie ökonomischer Entscheidungen: Strategisches Verhalten (LV 404004-0 20S)
DESCRIPTION:Lehrveranstaltung 404004 20S, Gruppe 0\nTitel: PS Theorie ökonomischer Entscheidungen: Strategisches Verhalten\nOrt: SR  1 (Sowi)\n\nhttps://lfuonline.uibk.ac.at/public/lfuonline_lv.details?sem_id_in=20S&lvnr_id_in=404004\n
CLASS:PUBLIC
DTSTART:20200324T070000Z
DTEND:20200324T084500Z
DTSTAMP:20260423T161711Z
LOCATION:SR  1 (Sowi)
END:VEVENT
BEGIN:VEVENT
UID:20S_404004_3499547@uibk.ac.at
ORGANIZER;CN="LFU:online Universität Innsbruck":MAILTO:Uni-Innsbruck-noreply@uibk.ac.at
SUMMARY:PS Theorie ökonomischer Entscheidungen: Strategisches Verhalten (LV 404004-0 20S)
DESCRIPTION:Lehrveranstaltung 404004 20S, Gruppe 0\nTitel: PS Theorie ökonomischer Entscheidungen: Strategisches Verhalten\nOrt: SR  1 (Sowi)\n\nhttps://lfuonline.uibk.ac.at/public/lfuonline_lv.details?sem_id_in=20S&lvnr_id_in=404004\n
CLASS:PUBLIC
DTSTART:20200331T060000Z
DTEND:20200331T074500Z
DTSTAMP:20260423T161711Z
LOCATION:SR  1 (Sowi)
END:VEVENT
BEGIN:VEVENT
UID:20S_404004_3499548@uibk.ac.at
ORGANIZER;CN="LFU:online Universität Innsbruck":MAILTO:Uni-Innsbruck-noreply@uibk.ac.at
SUMMARY:PS Theorie ökonomischer Entscheidungen: Strategisches Verhalten (LV 404004-0 20S)
DESCRIPTION:Lehrveranstaltung 404004 20S, Gruppe 0\nTitel: PS Theorie ökonomischer Entscheidungen: Strategisches Verhalten\nOrt: SR  1 (Sowi)\n\nhttps://lfuonline.uibk.ac.at/public/lfuonline_lv.details?sem_id_in=20S&lvnr_id_in=404004\n
CLASS:PUBLIC
DTSTART:20200421T060000Z
DTEND:20200421T074500Z
DTSTAMP:20260423T161711Z
LOCATION:SR  1 (Sowi)
END:VEVENT
BEGIN:VEVENT
UID:20S_404004_3499549@uibk.ac.at
ORGANIZER;CN="LFU:online Universität Innsbruck":MAILTO:Uni-Innsbruck-noreply@uibk.ac.at
SUMMARY:PS Theorie ökonomischer Entscheidungen: Strategisches Verhalten (LV 404004-0 20S)
DESCRIPTION:Lehrveranstaltung 404004 20S, Gruppe 0\nTitel: PS Theorie ökonomischer Entscheidungen: Strategisches Verhalten\nOrt: SR  1 (Sowi)\n\nhttps://lfuonline.uibk.ac.at/public/lfuonline_lv.details?sem_id_in=20S&lvnr_id_in=404004\n
CLASS:PUBLIC
DTSTART:20200428T060000Z
DTEND:20200428T074500Z
DTSTAMP:20260423T161711Z
LOCATION:SR  1 (Sowi)
END:VEVENT
BEGIN:VEVENT
UID:20S_404004_3499550@uibk.ac.at
ORGANIZER;CN="LFU:online Universität Innsbruck":MAILTO:Uni-Innsbruck-noreply@uibk.ac.at
SUMMARY:PS Theorie ökonomischer Entscheidungen: Strategisches Verhalten (LV 404004-0 20S)
DESCRIPTION:Lehrveranstaltung 404004 20S, Gruppe 0\nTitel: PS Theorie ökonomischer Entscheidungen: Strategisches Verhalten\nOrt: SR  1 (Sowi)\n\nhttps://lfuonline.uibk.ac.at/public/lfuonline_lv.details?sem_id_in=20S&lvnr_id_in=404004\n
CLASS:PUBLIC
DTSTART:20200505T060000Z
DTEND:20200505T074500Z
DTSTAMP:20260423T161711Z
LOCATION:SR  1 (Sowi)
END:VEVENT
BEGIN:VEVENT
UID:20S_404004_3499551@uibk.ac.at
ORGANIZER;CN="LFU:online Universität Innsbruck":MAILTO:Uni-Innsbruck-noreply@uibk.ac.at
SUMMARY:PS Theorie ökonomischer Entscheidungen: Strategisches Verhalten (LV 404004-0 20S)
DESCRIPTION:Lehrveranstaltung 404004 20S, Gruppe 0\nTitel: PS Theorie ökonomischer Entscheidungen: Strategisches Verhalten\nOrt: SR  1 (Sowi)\n\nhttps://lfuonline.uibk.ac.at/public/lfuonline_lv.details?sem_id_in=20S&lvnr_id_in=404004\n
CLASS:PUBLIC
DTSTART:20200512T060000Z
DTEND:20200512T074500Z
DTSTAMP:20260423T161711Z
LOCATION:SR  1 (Sowi)
END:VEVENT
BEGIN:VEVENT
UID:20S_404004_3499552@uibk.ac.at
ORGANIZER;CN="LFU:online Universität Innsbruck":MAILTO:Uni-Innsbruck-noreply@uibk.ac.at
SUMMARY:PS Theorie ökonomischer Entscheidungen: Strategisches Verhalten (LV 404004-0 20S)
DESCRIPTION:Lehrveranstaltung 404004 20S, Gruppe 0\nTitel: PS Theorie ökonomischer Entscheidungen: Strategisches Verhalten\nOrt: SR  1 (Sowi)\n\nhttps://lfuonline.uibk.ac.at/public/lfuonline_lv.details?sem_id_in=20S&lvnr_id_in=404004\n
CLASS:PUBLIC
DTSTART:20200519T060000Z
DTEND:20200519T074500Z
DTSTAMP:20260423T161711Z
LOCATION:SR  1 (Sowi)
END:VEVENT
BEGIN:VEVENT
UID:20S_404004_3499553@uibk.ac.at
ORGANIZER;CN="LFU:online Universität Innsbruck":MAILTO:Uni-Innsbruck-noreply@uibk.ac.at
SUMMARY:PS Theorie ökonomischer Entscheidungen: Strategisches Verhalten (LV 404004-0 20S)
DESCRIPTION:Lehrveranstaltung 404004 20S, Gruppe 0\nTitel: PS Theorie ökonomischer Entscheidungen: Strategisches Verhalten\nOrt: SR  1 (Sowi)\n\nhttps://lfuonline.uibk.ac.at/public/lfuonline_lv.details?sem_id_in=20S&lvnr_id_in=404004\n
CLASS:PUBLIC
DTSTART:20200526T060000Z
DTEND:20200526T074500Z
DTSTAMP:20260423T161711Z
LOCATION:SR  1 (Sowi)
END:VEVENT
BEGIN:VEVENT
UID:20S_404004_3499554@uibk.ac.at
ORGANIZER;CN="LFU:online Universität Innsbruck":MAILTO:Uni-Innsbruck-noreply@uibk.ac.at
SUMMARY:PS Theorie ökonomischer Entscheidungen: Strategisches Verhalten (LV 404004-0 20S)
DESCRIPTION:Lehrveranstaltung 404004 20S, Gruppe 0\nTitel: PS Theorie ökonomischer Entscheidungen: Strategisches Verhalten\nOrt: SR  1 (Sowi)\n\nhttps://lfuonline.uibk.ac.at/public/lfuonline_lv.details?sem_id_in=20S&lvnr_id_in=404004\n
CLASS:PUBLIC
DTSTART:20200602T060000Z
DTEND:20200602T074500Z
DTSTAMP:20260423T161711Z
LOCATION:SR  1 (Sowi)
END:VEVENT
BEGIN:VEVENT
UID:20S_404004_3499555@uibk.ac.at
ORGANIZER;CN="LFU:online Universität Innsbruck":MAILTO:Uni-Innsbruck-noreply@uibk.ac.at
SUMMARY:PS Theorie ökonomischer Entscheidungen: Strategisches Verhalten (LV 404004-0 20S)
DESCRIPTION:Lehrveranstaltung 404004 20S, Gruppe 0\nTitel: PS Theorie ökonomischer Entscheidungen: Strategisches Verhalten\nOrt: SR  1 (Sowi)\n\nhttps://lfuonline.uibk.ac.at/public/lfuonline_lv.details?sem_id_in=20S&lvnr_id_in=404004\n
CLASS:PUBLIC
DTSTART:20200609T060000Z
DTEND:20200609T074500Z
DTSTAMP:20260423T161711Z
LOCATION:SR  1 (Sowi)
END:VEVENT
BEGIN:VEVENT
UID:20S_404004_3499556@uibk.ac.at
ORGANIZER;CN="LFU:online Universität Innsbruck":MAILTO:Uni-Innsbruck-noreply@uibk.ac.at
SUMMARY:PS Theorie ökonomischer Entscheidungen: Strategisches Verhalten (LV 404004-0 20S)
DESCRIPTION:Lehrveranstaltung 404004 20S, Gruppe 0\nTitel: PS Theorie ökonomischer Entscheidungen: Strategisches Verhalten\nOrt: SR  1 (Sowi)\n\nhttps://lfuonline.uibk.ac.at/public/lfuonline_lv.details?sem_id_in=20S&lvnr_id_in=404004\n
CLASS:PUBLIC
DTSTART:20200616T060000Z
DTEND:20200616T074500Z
DTSTAMP:20260423T161711Z
LOCATION:SR  1 (Sowi)
END:VEVENT
BEGIN:VEVENT
UID:20S_404004_3499557@uibk.ac.at
ORGANIZER;CN="LFU:online Universität Innsbruck":MAILTO:Uni-Innsbruck-noreply@uibk.ac.at
SUMMARY:PS Theorie ökonomischer Entscheidungen: Strategisches Verhalten (LV 404004-0 20S)
DESCRIPTION:Lehrveranstaltung 404004 20S, Gruppe 0\nTitel: PS Theorie ökonomischer Entscheidungen: Strategisches Verhalten\nOrt: SR  1 (Sowi)\n\nhttps://lfuonline.uibk.ac.at/public/lfuonline_lv.details?sem_id_in=20S&lvnr_id_in=404004\n
CLASS:PUBLIC
DTSTART:20200623T060000Z
DTEND:20200623T074500Z
DTSTAMP:20260423T161711Z
LOCATION:SR  1 (Sowi)
END:VEVENT
END:VCALENDAR