BEGIN:VCALENDAR
VERSION:2.0
PRODID:-//Universität Innsbruck//LFU:online//DE
METHOD:PUBLISH
BEGIN:VEVENT
UID:20S_404007_3499518@uibk.ac.at
ORGANIZER;CN="LFU:online Universität Innsbruck":MAILTO:Uni-Innsbruck-noreply@uibk.ac.at
SUMMARY:PS Theorie ökonomischer Entscheidungen: Strategisches Verhalten (LV 404007-0 20S)
DESCRIPTION:Lehrveranstaltung 404007 20S, Gruppe 0\nTitel: PS Theorie ökonomischer Entscheidungen: Strategisches Verhalten\nOrt: SR  1 (Sowi)\n\nhttps://lfuonline.uibk.ac.at/public/lfuonline_lv.details?sem_id_in=20S&lvnr_id_in=404007\n
CLASS:PUBLIC
DTSTART:20200312T110000Z
DTEND:20200312T124500Z
DTSTAMP:20260423T161659Z
LOCATION:SR  1 (Sowi)
END:VEVENT
BEGIN:VEVENT
UID:20S_404007_3499519@uibk.ac.at
ORGANIZER;CN="LFU:online Universität Innsbruck":MAILTO:Uni-Innsbruck-noreply@uibk.ac.at
SUMMARY:PS Theorie ökonomischer Entscheidungen: Strategisches Verhalten (LV 404007-0 20S)
DESCRIPTION:Lehrveranstaltung 404007 20S, Gruppe 0\nTitel: PS Theorie ökonomischer Entscheidungen: Strategisches Verhalten\nOrt: SR  1 (Sowi)\n\nhttps://lfuonline.uibk.ac.at/public/lfuonline_lv.details?sem_id_in=20S&lvnr_id_in=404007\n
CLASS:PUBLIC
DTSTART:20200319T110000Z
DTEND:20200319T124500Z
DTSTAMP:20260423T161659Z
LOCATION:SR  1 (Sowi)
END:VEVENT
BEGIN:VEVENT
UID:20S_404007_3499520@uibk.ac.at
ORGANIZER;CN="LFU:online Universität Innsbruck":MAILTO:Uni-Innsbruck-noreply@uibk.ac.at
SUMMARY:PS Theorie ökonomischer Entscheidungen: Strategisches Verhalten (LV 404007-0 20S)
DESCRIPTION:Lehrveranstaltung 404007 20S, Gruppe 0\nTitel: PS Theorie ökonomischer Entscheidungen: Strategisches Verhalten\nOrt: SR  1 (Sowi)\n\nhttps://lfuonline.uibk.ac.at/public/lfuonline_lv.details?sem_id_in=20S&lvnr_id_in=404007\n
CLASS:PUBLIC
DTSTART:20200326T110000Z
DTEND:20200326T124500Z
DTSTAMP:20260423T161659Z
LOCATION:SR  1 (Sowi)
END:VEVENT
BEGIN:VEVENT
UID:20S_404007_3499521@uibk.ac.at
ORGANIZER;CN="LFU:online Universität Innsbruck":MAILTO:Uni-Innsbruck-noreply@uibk.ac.at
SUMMARY:PS Theorie ökonomischer Entscheidungen: Strategisches Verhalten (LV 404007-0 20S)
DESCRIPTION:Lehrveranstaltung 404007 20S, Gruppe 0\nTitel: PS Theorie ökonomischer Entscheidungen: Strategisches Verhalten\nOrt: SR  1 (Sowi)\n\nhttps://lfuonline.uibk.ac.at/public/lfuonline_lv.details?sem_id_in=20S&lvnr_id_in=404007\n
CLASS:PUBLIC
DTSTART:20200402T100000Z
DTEND:20200402T114500Z
DTSTAMP:20260423T161659Z
LOCATION:SR  1 (Sowi)
END:VEVENT
BEGIN:VEVENT
UID:20S_404007_3499522@uibk.ac.at
ORGANIZER;CN="LFU:online Universität Innsbruck":MAILTO:Uni-Innsbruck-noreply@uibk.ac.at
SUMMARY:PS Theorie ökonomischer Entscheidungen: Strategisches Verhalten (LV 404007-0 20S)
DESCRIPTION:Lehrveranstaltung 404007 20S, Gruppe 0\nTitel: PS Theorie ökonomischer Entscheidungen: Strategisches Verhalten\nOrt: SR  1 (Sowi)\n\nhttps://lfuonline.uibk.ac.at/public/lfuonline_lv.details?sem_id_in=20S&lvnr_id_in=404007\n
CLASS:PUBLIC
DTSTART:20200423T100000Z
DTEND:20200423T114500Z
DTSTAMP:20260423T161659Z
LOCATION:SR  1 (Sowi)
END:VEVENT
BEGIN:VEVENT
UID:20S_404007_3499523@uibk.ac.at
ORGANIZER;CN="LFU:online Universität Innsbruck":MAILTO:Uni-Innsbruck-noreply@uibk.ac.at
SUMMARY:PS Theorie ökonomischer Entscheidungen: Strategisches Verhalten (LV 404007-0 20S)
DESCRIPTION:Lehrveranstaltung 404007 20S, Gruppe 0\nTitel: PS Theorie ökonomischer Entscheidungen: Strategisches Verhalten\nOrt: SR  1 (Sowi)\n\nhttps://lfuonline.uibk.ac.at/public/lfuonline_lv.details?sem_id_in=20S&lvnr_id_in=404007\n
CLASS:PUBLIC
DTSTART:20200430T100000Z
DTEND:20200430T114500Z
DTSTAMP:20260423T161659Z
LOCATION:SR  1 (Sowi)
END:VEVENT
BEGIN:VEVENT
UID:20S_404007_3499524@uibk.ac.at
ORGANIZER;CN="LFU:online Universität Innsbruck":MAILTO:Uni-Innsbruck-noreply@uibk.ac.at
SUMMARY:PS Theorie ökonomischer Entscheidungen: Strategisches Verhalten (LV 404007-0 20S)
DESCRIPTION:Lehrveranstaltung 404007 20S, Gruppe 0\nTitel: PS Theorie ökonomischer Entscheidungen: Strategisches Verhalten\nOrt: SR  1 (Sowi)\n\nhttps://lfuonline.uibk.ac.at/public/lfuonline_lv.details?sem_id_in=20S&lvnr_id_in=404007\n
CLASS:PUBLIC
DTSTART:20200507T100000Z
DTEND:20200507T114500Z
DTSTAMP:20260423T161659Z
LOCATION:SR  1 (Sowi)
END:VEVENT
BEGIN:VEVENT
UID:20S_404007_3499525@uibk.ac.at
ORGANIZER;CN="LFU:online Universität Innsbruck":MAILTO:Uni-Innsbruck-noreply@uibk.ac.at
SUMMARY:PS Theorie ökonomischer Entscheidungen: Strategisches Verhalten (LV 404007-0 20S)
DESCRIPTION:Lehrveranstaltung 404007 20S, Gruppe 0\nTitel: PS Theorie ökonomischer Entscheidungen: Strategisches Verhalten\nOrt: SR  1 (Sowi)\n\nhttps://lfuonline.uibk.ac.at/public/lfuonline_lv.details?sem_id_in=20S&lvnr_id_in=404007\n
CLASS:PUBLIC
DTSTART:20200514T100000Z
DTEND:20200514T114500Z
DTSTAMP:20260423T161659Z
LOCATION:SR  1 (Sowi)
END:VEVENT
BEGIN:VEVENT
UID:20S_404007_3499526@uibk.ac.at
ORGANIZER;CN="LFU:online Universität Innsbruck":MAILTO:Uni-Innsbruck-noreply@uibk.ac.at
SUMMARY:PS Theorie ökonomischer Entscheidungen: Strategisches Verhalten (LV 404007-0 20S)
DESCRIPTION:Lehrveranstaltung 404007 20S, Gruppe 0\nTitel: PS Theorie ökonomischer Entscheidungen: Strategisches Verhalten\nOrt: SR  1 (Sowi)\n\nhttps://lfuonline.uibk.ac.at/public/lfuonline_lv.details?sem_id_in=20S&lvnr_id_in=404007\n
CLASS:PUBLIC
DTSTART:20200528T100000Z
DTEND:20200528T114500Z
DTSTAMP:20260423T161659Z
LOCATION:SR  1 (Sowi)
END:VEVENT
BEGIN:VEVENT
UID:20S_404007_3499527@uibk.ac.at
ORGANIZER;CN="LFU:online Universität Innsbruck":MAILTO:Uni-Innsbruck-noreply@uibk.ac.at
SUMMARY:PS Theorie ökonomischer Entscheidungen: Strategisches Verhalten (LV 404007-0 20S)
DESCRIPTION:Lehrveranstaltung 404007 20S, Gruppe 0\nTitel: PS Theorie ökonomischer Entscheidungen: Strategisches Verhalten\nOrt: SR  1 (Sowi)\n\nhttps://lfuonline.uibk.ac.at/public/lfuonline_lv.details?sem_id_in=20S&lvnr_id_in=404007\n
CLASS:PUBLIC
DTSTART:20200604T100000Z
DTEND:20200604T114500Z
DTSTAMP:20260423T161659Z
LOCATION:SR  1 (Sowi)
END:VEVENT
BEGIN:VEVENT
UID:20S_404007_3499528@uibk.ac.at
ORGANIZER;CN="LFU:online Universität Innsbruck":MAILTO:Uni-Innsbruck-noreply@uibk.ac.at
SUMMARY:PS Theorie ökonomischer Entscheidungen: Strategisches Verhalten (LV 404007-0 20S)
DESCRIPTION:Lehrveranstaltung 404007 20S, Gruppe 0\nTitel: PS Theorie ökonomischer Entscheidungen: Strategisches Verhalten\nOrt: SR  1 (Sowi)\n\nhttps://lfuonline.uibk.ac.at/public/lfuonline_lv.details?sem_id_in=20S&lvnr_id_in=404007\n
CLASS:PUBLIC
DTSTART:20200618T100000Z
DTEND:20200618T114500Z
DTSTAMP:20260423T161659Z
LOCATION:SR  1 (Sowi)
END:VEVENT
BEGIN:VEVENT
UID:20S_404007_3499529@uibk.ac.at
ORGANIZER;CN="LFU:online Universität Innsbruck":MAILTO:Uni-Innsbruck-noreply@uibk.ac.at
SUMMARY:PS Theorie ökonomischer Entscheidungen: Strategisches Verhalten (LV 404007-0 20S)
DESCRIPTION:Lehrveranstaltung 404007 20S, Gruppe 0\nTitel: PS Theorie ökonomischer Entscheidungen: Strategisches Verhalten\nOrt: SR  1 (Sowi)\n\nhttps://lfuonline.uibk.ac.at/public/lfuonline_lv.details?sem_id_in=20S&lvnr_id_in=404007\n
CLASS:PUBLIC
DTSTART:20200625T100000Z
DTEND:20200625T114500Z
DTSTAMP:20260423T161659Z
LOCATION:SR  1 (Sowi)
END:VEVENT
END:VCALENDAR