BEGIN:VCALENDAR
VERSION:2.0
PRODID:-//Universität Innsbruck//LFU:online//DE
METHOD:PUBLISH
BEGIN:VEVENT
UID:20S_404008_3499531@uibk.ac.at
ORGANIZER;CN="LFU:online Universität Innsbruck":MAILTO:Uni-Innsbruck-noreply@uibk.ac.at
SUMMARY:PS Theorie ökonomischer Entscheidungen: Strategisches Verhalten (LV 404008-0 20S)
DESCRIPTION:Lehrveranstaltung 404008 20S, Gruppe 0\nTitel: PS Theorie ökonomischer Entscheidungen: Strategisches Verhalten\nOrt: SR  1 (Sowi)\n\nhttps://lfuonline.uibk.ac.at/public/lfuonline_lv.details?sem_id_in=20S&lvnr_id_in=404008\n
CLASS:PUBLIC
DTSTART:20200312T130000Z
DTEND:20200312T144500Z
DTSTAMP:20260423T161711Z
LOCATION:SR  1 (Sowi)
END:VEVENT
BEGIN:VEVENT
UID:20S_404008_3499532@uibk.ac.at
ORGANIZER;CN="LFU:online Universität Innsbruck":MAILTO:Uni-Innsbruck-noreply@uibk.ac.at
SUMMARY:PS Theorie ökonomischer Entscheidungen: Strategisches Verhalten (LV 404008-0 20S)
DESCRIPTION:Lehrveranstaltung 404008 20S, Gruppe 0\nTitel: PS Theorie ökonomischer Entscheidungen: Strategisches Verhalten\nOrt: SR  1 (Sowi)\n\nhttps://lfuonline.uibk.ac.at/public/lfuonline_lv.details?sem_id_in=20S&lvnr_id_in=404008\n
CLASS:PUBLIC
DTSTART:20200319T130000Z
DTEND:20200319T144500Z
DTSTAMP:20260423T161711Z
LOCATION:SR  1 (Sowi)
END:VEVENT
BEGIN:VEVENT
UID:20S_404008_3499533@uibk.ac.at
ORGANIZER;CN="LFU:online Universität Innsbruck":MAILTO:Uni-Innsbruck-noreply@uibk.ac.at
SUMMARY:PS Theorie ökonomischer Entscheidungen: Strategisches Verhalten (LV 404008-0 20S)
DESCRIPTION:Lehrveranstaltung 404008 20S, Gruppe 0\nTitel: PS Theorie ökonomischer Entscheidungen: Strategisches Verhalten\nOrt: SR  1 (Sowi)\n\nhttps://lfuonline.uibk.ac.at/public/lfuonline_lv.details?sem_id_in=20S&lvnr_id_in=404008\n
CLASS:PUBLIC
DTSTART:20200326T130000Z
DTEND:20200326T144500Z
DTSTAMP:20260423T161711Z
LOCATION:SR  1 (Sowi)
END:VEVENT
BEGIN:VEVENT
UID:20S_404008_3499534@uibk.ac.at
ORGANIZER;CN="LFU:online Universität Innsbruck":MAILTO:Uni-Innsbruck-noreply@uibk.ac.at
SUMMARY:PS Theorie ökonomischer Entscheidungen: Strategisches Verhalten (LV 404008-0 20S)
DESCRIPTION:Lehrveranstaltung 404008 20S, Gruppe 0\nTitel: PS Theorie ökonomischer Entscheidungen: Strategisches Verhalten\nOrt: SR  1 (Sowi)\n\nhttps://lfuonline.uibk.ac.at/public/lfuonline_lv.details?sem_id_in=20S&lvnr_id_in=404008\n
CLASS:PUBLIC
DTSTART:20200402T120000Z
DTEND:20200402T134500Z
DTSTAMP:20260423T161711Z
LOCATION:SR  1 (Sowi)
END:VEVENT
BEGIN:VEVENT
UID:20S_404008_3499535@uibk.ac.at
ORGANIZER;CN="LFU:online Universität Innsbruck":MAILTO:Uni-Innsbruck-noreply@uibk.ac.at
SUMMARY:PS Theorie ökonomischer Entscheidungen: Strategisches Verhalten (LV 404008-0 20S)
DESCRIPTION:Lehrveranstaltung 404008 20S, Gruppe 0\nTitel: PS Theorie ökonomischer Entscheidungen: Strategisches Verhalten\nOrt: SR  1 (Sowi)\n\nhttps://lfuonline.uibk.ac.at/public/lfuonline_lv.details?sem_id_in=20S&lvnr_id_in=404008\n
CLASS:PUBLIC
DTSTART:20200423T120000Z
DTEND:20200423T134500Z
DTSTAMP:20260423T161711Z
LOCATION:SR  1 (Sowi)
END:VEVENT
BEGIN:VEVENT
UID:20S_404008_3499536@uibk.ac.at
ORGANIZER;CN="LFU:online Universität Innsbruck":MAILTO:Uni-Innsbruck-noreply@uibk.ac.at
SUMMARY:PS Theorie ökonomischer Entscheidungen: Strategisches Verhalten (LV 404008-0 20S)
DESCRIPTION:Lehrveranstaltung 404008 20S, Gruppe 0\nTitel: PS Theorie ökonomischer Entscheidungen: Strategisches Verhalten\nOrt: SR  1 (Sowi)\n\nhttps://lfuonline.uibk.ac.at/public/lfuonline_lv.details?sem_id_in=20S&lvnr_id_in=404008\n
CLASS:PUBLIC
DTSTART:20200430T120000Z
DTEND:20200430T134500Z
DTSTAMP:20260423T161711Z
LOCATION:SR  1 (Sowi)
END:VEVENT
BEGIN:VEVENT
UID:20S_404008_3499537@uibk.ac.at
ORGANIZER;CN="LFU:online Universität Innsbruck":MAILTO:Uni-Innsbruck-noreply@uibk.ac.at
SUMMARY:PS Theorie ökonomischer Entscheidungen: Strategisches Verhalten (LV 404008-0 20S)
DESCRIPTION:Lehrveranstaltung 404008 20S, Gruppe 0\nTitel: PS Theorie ökonomischer Entscheidungen: Strategisches Verhalten\nOrt: SR  1 (Sowi)\n\nhttps://lfuonline.uibk.ac.at/public/lfuonline_lv.details?sem_id_in=20S&lvnr_id_in=404008\n
CLASS:PUBLIC
DTSTART:20200507T120000Z
DTEND:20200507T134500Z
DTSTAMP:20260423T161711Z
LOCATION:SR  1 (Sowi)
END:VEVENT
BEGIN:VEVENT
UID:20S_404008_3499538@uibk.ac.at
ORGANIZER;CN="LFU:online Universität Innsbruck":MAILTO:Uni-Innsbruck-noreply@uibk.ac.at
SUMMARY:PS Theorie ökonomischer Entscheidungen: Strategisches Verhalten (LV 404008-0 20S)
DESCRIPTION:Lehrveranstaltung 404008 20S, Gruppe 0\nTitel: PS Theorie ökonomischer Entscheidungen: Strategisches Verhalten\nOrt: SR  1 (Sowi)\n\nhttps://lfuonline.uibk.ac.at/public/lfuonline_lv.details?sem_id_in=20S&lvnr_id_in=404008\n
CLASS:PUBLIC
DTSTART:20200514T120000Z
DTEND:20200514T134500Z
DTSTAMP:20260423T161711Z
LOCATION:SR  1 (Sowi)
END:VEVENT
BEGIN:VEVENT
UID:20S_404008_3499539@uibk.ac.at
ORGANIZER;CN="LFU:online Universität Innsbruck":MAILTO:Uni-Innsbruck-noreply@uibk.ac.at
SUMMARY:PS Theorie ökonomischer Entscheidungen: Strategisches Verhalten (LV 404008-0 20S)
DESCRIPTION:Lehrveranstaltung 404008 20S, Gruppe 0\nTitel: PS Theorie ökonomischer Entscheidungen: Strategisches Verhalten\nOrt: SR  1 (Sowi)\n\nhttps://lfuonline.uibk.ac.at/public/lfuonline_lv.details?sem_id_in=20S&lvnr_id_in=404008\n
CLASS:PUBLIC
DTSTART:20200528T120000Z
DTEND:20200528T134500Z
DTSTAMP:20260423T161711Z
LOCATION:SR  1 (Sowi)
END:VEVENT
BEGIN:VEVENT
UID:20S_404008_3499540@uibk.ac.at
ORGANIZER;CN="LFU:online Universität Innsbruck":MAILTO:Uni-Innsbruck-noreply@uibk.ac.at
SUMMARY:PS Theorie ökonomischer Entscheidungen: Strategisches Verhalten (LV 404008-0 20S)
DESCRIPTION:Lehrveranstaltung 404008 20S, Gruppe 0\nTitel: PS Theorie ökonomischer Entscheidungen: Strategisches Verhalten\nOrt: SR  1 (Sowi)\n\nhttps://lfuonline.uibk.ac.at/public/lfuonline_lv.details?sem_id_in=20S&lvnr_id_in=404008\n
CLASS:PUBLIC
DTSTART:20200604T120000Z
DTEND:20200604T134500Z
DTSTAMP:20260423T161711Z
LOCATION:SR  1 (Sowi)
END:VEVENT
BEGIN:VEVENT
UID:20S_404008_3499541@uibk.ac.at
ORGANIZER;CN="LFU:online Universität Innsbruck":MAILTO:Uni-Innsbruck-noreply@uibk.ac.at
SUMMARY:PS Theorie ökonomischer Entscheidungen: Strategisches Verhalten (LV 404008-0 20S)
DESCRIPTION:Lehrveranstaltung 404008 20S, Gruppe 0\nTitel: PS Theorie ökonomischer Entscheidungen: Strategisches Verhalten\nOrt: SR  1 (Sowi)\n\nhttps://lfuonline.uibk.ac.at/public/lfuonline_lv.details?sem_id_in=20S&lvnr_id_in=404008\n
CLASS:PUBLIC
DTSTART:20200618T120000Z
DTEND:20200618T134500Z
DTSTAMP:20260423T161711Z
LOCATION:SR  1 (Sowi)
END:VEVENT
BEGIN:VEVENT
UID:20S_404008_3499542@uibk.ac.at
ORGANIZER;CN="LFU:online Universität Innsbruck":MAILTO:Uni-Innsbruck-noreply@uibk.ac.at
SUMMARY:PS Theorie ökonomischer Entscheidungen: Strategisches Verhalten (LV 404008-0 20S)
DESCRIPTION:Lehrveranstaltung 404008 20S, Gruppe 0\nTitel: PS Theorie ökonomischer Entscheidungen: Strategisches Verhalten\nOrt: SR  1 (Sowi)\n\nhttps://lfuonline.uibk.ac.at/public/lfuonline_lv.details?sem_id_in=20S&lvnr_id_in=404008\n
CLASS:PUBLIC
DTSTART:20200625T120000Z
DTEND:20200625T134500Z
DTSTAMP:20260423T161711Z
LOCATION:SR  1 (Sowi)
END:VEVENT
END:VCALENDAR