BEGIN:VCALENDAR
VERSION:2.0
PRODID:-//Universität Innsbruck//LFU:online//DE
METHOD:PUBLISH
BEGIN:VEVENT
UID:20S_404010_3499631@uibk.ac.at
ORGANIZER;CN="LFU:online Universität Innsbruck":MAILTO:Uni-Innsbruck-noreply@uibk.ac.at
SUMMARY:PS Theorie ökonomischer Entscheidungen: Strategisches Verhalten (LV 404010-0 20S)
DESCRIPTION:Lehrveranstaltung 404010 20S, Gruppe 0\nTitel: PS Theorie ökonomischer Entscheidungen: Strategisches Verhalten\nOrt: UR 1 (Sowi)\n\nhttps://lfuonline.uibk.ac.at/public/lfuonline_lv.details?sem_id_in=20S&lvnr_id_in=404010\n
CLASS:PUBLIC
DTSTART:20200312T130000Z
DTEND:20200312T144500Z
DTSTAMP:20260423T161659Z
LOCATION:UR 1 (Sowi)
END:VEVENT
BEGIN:VEVENT
UID:20S_404010_3551433@uibk.ac.at
ORGANIZER;CN="LFU:online Universität Innsbruck":MAILTO:Uni-Innsbruck-noreply@uibk.ac.at
SUMMARY:PS Theorie ökonomischer Entscheidungen: Strategisches Verhalten (LV 404010-0 20S)
DESCRIPTION:Lehrveranstaltung 404010 20S, Gruppe 0\nTitel: PS Theorie ökonomischer Entscheidungen: Strategisches Verhalten\nOrt: UR 3 (Sowi)\n\nhttps://lfuonline.uibk.ac.at/public/lfuonline_lv.details?sem_id_in=20S&lvnr_id_in=404010\n
CLASS:PUBLIC
DTSTART:20200317T110000Z
DTEND:20200317T124500Z
DTSTAMP:20260423T161659Z
LOCATION:UR 3 (Sowi)
END:VEVENT
BEGIN:VEVENT
UID:20S_404010_3499633@uibk.ac.at
ORGANIZER;CN="LFU:online Universität Innsbruck":MAILTO:Uni-Innsbruck-noreply@uibk.ac.at
SUMMARY:PS Theorie ökonomischer Entscheidungen: Strategisches Verhalten (LV 404010-0 20S)
DESCRIPTION:Lehrveranstaltung 404010 20S, Gruppe 0\nTitel: PS Theorie ökonomischer Entscheidungen: Strategisches Verhalten\nOrt: UR 1 (Sowi)\n\nhttps://lfuonline.uibk.ac.at/public/lfuonline_lv.details?sem_id_in=20S&lvnr_id_in=404010\n
CLASS:PUBLIC
DTSTART:20200326T130000Z
DTEND:20200326T144500Z
DTSTAMP:20260423T161659Z
LOCATION:UR 1 (Sowi)
END:VEVENT
BEGIN:VEVENT
UID:20S_404010_3499634@uibk.ac.at
ORGANIZER;CN="LFU:online Universität Innsbruck":MAILTO:Uni-Innsbruck-noreply@uibk.ac.at
SUMMARY:PS Theorie ökonomischer Entscheidungen: Strategisches Verhalten (LV 404010-0 20S)
DESCRIPTION:Lehrveranstaltung 404010 20S, Gruppe 0\nTitel: PS Theorie ökonomischer Entscheidungen: Strategisches Verhalten\nOrt: UR 1 (Sowi)\n\nhttps://lfuonline.uibk.ac.at/public/lfuonline_lv.details?sem_id_in=20S&lvnr_id_in=404010\n
CLASS:PUBLIC
DTSTART:20200402T120000Z
DTEND:20200402T134500Z
DTSTAMP:20260423T161659Z
LOCATION:UR 1 (Sowi)
END:VEVENT
BEGIN:VEVENT
UID:20S_404010_3499635@uibk.ac.at
ORGANIZER;CN="LFU:online Universität Innsbruck":MAILTO:Uni-Innsbruck-noreply@uibk.ac.at
SUMMARY:PS Theorie ökonomischer Entscheidungen: Strategisches Verhalten (LV 404010-0 20S)
DESCRIPTION:Lehrveranstaltung 404010 20S, Gruppe 0\nTitel: PS Theorie ökonomischer Entscheidungen: Strategisches Verhalten\nOrt: UR 1 (Sowi)\n\nhttps://lfuonline.uibk.ac.at/public/lfuonline_lv.details?sem_id_in=20S&lvnr_id_in=404010\n
CLASS:PUBLIC
DTSTART:20200423T120000Z
DTEND:20200423T134500Z
DTSTAMP:20260423T161659Z
LOCATION:UR 1 (Sowi)
END:VEVENT
BEGIN:VEVENT
UID:20S_404010_3499636@uibk.ac.at
ORGANIZER;CN="LFU:online Universität Innsbruck":MAILTO:Uni-Innsbruck-noreply@uibk.ac.at
SUMMARY:PS Theorie ökonomischer Entscheidungen: Strategisches Verhalten (LV 404010-0 20S)
DESCRIPTION:Lehrveranstaltung 404010 20S, Gruppe 0\nTitel: PS Theorie ökonomischer Entscheidungen: Strategisches Verhalten\nOrt: UR 1 (Sowi)\n\nhttps://lfuonline.uibk.ac.at/public/lfuonline_lv.details?sem_id_in=20S&lvnr_id_in=404010\n
CLASS:PUBLIC
DTSTART:20200430T120000Z
DTEND:20200430T134500Z
DTSTAMP:20260423T161659Z
LOCATION:UR 1 (Sowi)
END:VEVENT
BEGIN:VEVENT
UID:20S_404010_3499637@uibk.ac.at
ORGANIZER;CN="LFU:online Universität Innsbruck":MAILTO:Uni-Innsbruck-noreply@uibk.ac.at
SUMMARY:PS Theorie ökonomischer Entscheidungen: Strategisches Verhalten (LV 404010-0 20S)
DESCRIPTION:Lehrveranstaltung 404010 20S, Gruppe 0\nTitel: PS Theorie ökonomischer Entscheidungen: Strategisches Verhalten\nOrt: UR 1 (Sowi)\n\nhttps://lfuonline.uibk.ac.at/public/lfuonline_lv.details?sem_id_in=20S&lvnr_id_in=404010\n
CLASS:PUBLIC
DTSTART:20200507T120000Z
DTEND:20200507T134500Z
DTSTAMP:20260423T161659Z
LOCATION:UR 1 (Sowi)
END:VEVENT
BEGIN:VEVENT
UID:20S_404010_3499638@uibk.ac.at
ORGANIZER;CN="LFU:online Universität Innsbruck":MAILTO:Uni-Innsbruck-noreply@uibk.ac.at
SUMMARY:PS Theorie ökonomischer Entscheidungen: Strategisches Verhalten (LV 404010-0 20S)
DESCRIPTION:Lehrveranstaltung 404010 20S, Gruppe 0\nTitel: PS Theorie ökonomischer Entscheidungen: Strategisches Verhalten\nOrt: UR 1 (Sowi)\n\nhttps://lfuonline.uibk.ac.at/public/lfuonline_lv.details?sem_id_in=20S&lvnr_id_in=404010\n
CLASS:PUBLIC
DTSTART:20200514T120000Z
DTEND:20200514T134500Z
DTSTAMP:20260423T161659Z
LOCATION:UR 1 (Sowi)
END:VEVENT
BEGIN:VEVENT
UID:20S_404010_3499639@uibk.ac.at
ORGANIZER;CN="LFU:online Universität Innsbruck":MAILTO:Uni-Innsbruck-noreply@uibk.ac.at
SUMMARY:PS Theorie ökonomischer Entscheidungen: Strategisches Verhalten (LV 404010-0 20S)
DESCRIPTION:Lehrveranstaltung 404010 20S, Gruppe 0\nTitel: PS Theorie ökonomischer Entscheidungen: Strategisches Verhalten\nOrt: UR 1 (Sowi)\n\nhttps://lfuonline.uibk.ac.at/public/lfuonline_lv.details?sem_id_in=20S&lvnr_id_in=404010\n
CLASS:PUBLIC
DTSTART:20200528T120000Z
DTEND:20200528T134500Z
DTSTAMP:20260423T161659Z
LOCATION:UR 1 (Sowi)
END:VEVENT
BEGIN:VEVENT
UID:20S_404010_3499640@uibk.ac.at
ORGANIZER;CN="LFU:online Universität Innsbruck":MAILTO:Uni-Innsbruck-noreply@uibk.ac.at
SUMMARY:PS Theorie ökonomischer Entscheidungen: Strategisches Verhalten (LV 404010-0 20S)
DESCRIPTION:Lehrveranstaltung 404010 20S, Gruppe 0\nTitel: PS Theorie ökonomischer Entscheidungen: Strategisches Verhalten\nOrt: UR 1 (Sowi)\n\nhttps://lfuonline.uibk.ac.at/public/lfuonline_lv.details?sem_id_in=20S&lvnr_id_in=404010\n
CLASS:PUBLIC
DTSTART:20200604T120000Z
DTEND:20200604T134500Z
DTSTAMP:20260423T161659Z
LOCATION:UR 1 (Sowi)
END:VEVENT
BEGIN:VEVENT
UID:20S_404010_3499641@uibk.ac.at
ORGANIZER;CN="LFU:online Universität Innsbruck":MAILTO:Uni-Innsbruck-noreply@uibk.ac.at
SUMMARY:PS Theorie ökonomischer Entscheidungen: Strategisches Verhalten (LV 404010-0 20S)
DESCRIPTION:Lehrveranstaltung 404010 20S, Gruppe 0\nTitel: PS Theorie ökonomischer Entscheidungen: Strategisches Verhalten\nOrt: UR 1 (Sowi)\n\nhttps://lfuonline.uibk.ac.at/public/lfuonline_lv.details?sem_id_in=20S&lvnr_id_in=404010\n
CLASS:PUBLIC
DTSTART:20200618T120000Z
DTEND:20200618T134500Z
DTSTAMP:20260423T161659Z
LOCATION:UR 1 (Sowi)
END:VEVENT
BEGIN:VEVENT
UID:20S_404010_3499642@uibk.ac.at
ORGANIZER;CN="LFU:online Universität Innsbruck":MAILTO:Uni-Innsbruck-noreply@uibk.ac.at
SUMMARY:PS Theorie ökonomischer Entscheidungen: Strategisches Verhalten (LV 404010-0 20S)
DESCRIPTION:Lehrveranstaltung 404010 20S, Gruppe 0\nTitel: PS Theorie ökonomischer Entscheidungen: Strategisches Verhalten\nOrt: UR 1 (Sowi)\n\nhttps://lfuonline.uibk.ac.at/public/lfuonline_lv.details?sem_id_in=20S&lvnr_id_in=404010\n
CLASS:PUBLIC
DTSTART:20200625T120000Z
DTEND:20200625T134500Z
DTSTAMP:20260423T161659Z
LOCATION:UR 1 (Sowi)
END:VEVENT
END:VCALENDAR