BEGIN:VCALENDAR
VERSION:2.0
PRODID:-//Universität Innsbruck//LFU:online//DE
METHOD:PUBLISH
BEGIN:VEVENT
UID:23S_404011_4221089@uibk.ac.at
ORGANIZER;CN="LFU:online Universität Innsbruck":MAILTO:Uni-Innsbruck-noreply@uibk.ac.at
SUMMARY:PS Theorie ökonomischer Entscheidungen: Strategisches Verhalten (LV 404011-0 23S)
DESCRIPTION:Lehrveranstaltung 404011 23S, Gruppe 0\nTitel: PS Theorie ökonomischer Entscheidungen: Strategisches Verhalten\nOrt: SR  1 (Sowi)\n\nhttps://lfuonline.uibk.ac.at/public/lfuonline_lv.details?sem_id_in=23S&lvnr_id_in=404011\n
CLASS:PUBLIC
DTSTART:20230308T084500Z
DTEND:20230308T101500Z
DTSTAMP:20260420T084134Z
LOCATION:SR  1 (Sowi)
END:VEVENT
BEGIN:VEVENT
UID:23S_404011_4221090@uibk.ac.at
ORGANIZER;CN="LFU:online Universität Innsbruck":MAILTO:Uni-Innsbruck-noreply@uibk.ac.at
SUMMARY:PS Theorie ökonomischer Entscheidungen: Strategisches Verhalten (LV 404011-0 23S)
DESCRIPTION:Lehrveranstaltung 404011 23S, Gruppe 0\nTitel: PS Theorie ökonomischer Entscheidungen: Strategisches Verhalten\nOrt: SR  1 (Sowi)\n\nhttps://lfuonline.uibk.ac.at/public/lfuonline_lv.details?sem_id_in=23S&lvnr_id_in=404011\n
CLASS:PUBLIC
DTSTART:20230315T084500Z
DTEND:20230315T101500Z
DTSTAMP:20260420T084134Z
LOCATION:SR  1 (Sowi)
END:VEVENT
BEGIN:VEVENT
UID:23S_404011_4221091@uibk.ac.at
ORGANIZER;CN="LFU:online Universität Innsbruck":MAILTO:Uni-Innsbruck-noreply@uibk.ac.at
SUMMARY:PS Theorie ökonomischer Entscheidungen: Strategisches Verhalten (LV 404011-0 23S)
DESCRIPTION:Lehrveranstaltung 404011 23S, Gruppe 0\nTitel: PS Theorie ökonomischer Entscheidungen: Strategisches Verhalten\nOrt: SR  1 (Sowi)\n\nhttps://lfuonline.uibk.ac.at/public/lfuonline_lv.details?sem_id_in=23S&lvnr_id_in=404011\n
CLASS:PUBLIC
DTSTART:20230322T084500Z
DTEND:20230322T101500Z
DTSTAMP:20260420T084134Z
LOCATION:SR  1 (Sowi)
END:VEVENT
BEGIN:VEVENT
UID:23S_404011_4221092@uibk.ac.at
ORGANIZER;CN="LFU:online Universität Innsbruck":MAILTO:Uni-Innsbruck-noreply@uibk.ac.at
SUMMARY:PS Theorie ökonomischer Entscheidungen: Strategisches Verhalten (LV 404011-0 23S)
DESCRIPTION:Lehrveranstaltung 404011 23S, Gruppe 0\nTitel: PS Theorie ökonomischer Entscheidungen: Strategisches Verhalten\nOrt: SR  1 (Sowi)\n\nhttps://lfuonline.uibk.ac.at/public/lfuonline_lv.details?sem_id_in=23S&lvnr_id_in=404011\n
CLASS:PUBLIC
DTSTART:20230329T074500Z
DTEND:20230329T091500Z
DTSTAMP:20260420T084134Z
LOCATION:SR  1 (Sowi)
END:VEVENT
BEGIN:VEVENT
UID:23S_404011_4221093@uibk.ac.at
ORGANIZER;CN="LFU:online Universität Innsbruck":MAILTO:Uni-Innsbruck-noreply@uibk.ac.at
SUMMARY:PS Theorie ökonomischer Entscheidungen: Strategisches Verhalten (LV 404011-0 23S)
DESCRIPTION:Lehrveranstaltung 404011 23S, Gruppe 0\nTitel: PS Theorie ökonomischer Entscheidungen: Strategisches Verhalten\nOrt: SR  1 (Sowi)\n\nhttps://lfuonline.uibk.ac.at/public/lfuonline_lv.details?sem_id_in=23S&lvnr_id_in=404011\n
CLASS:PUBLIC
DTSTART:20230419T074500Z
DTEND:20230419T091500Z
DTSTAMP:20260420T084134Z
LOCATION:SR  1 (Sowi)
END:VEVENT
BEGIN:VEVENT
UID:23S_404011_4221094@uibk.ac.at
ORGANIZER;CN="LFU:online Universität Innsbruck":MAILTO:Uni-Innsbruck-noreply@uibk.ac.at
SUMMARY:PS Theorie ökonomischer Entscheidungen: Strategisches Verhalten (LV 404011-0 23S)
DESCRIPTION:Lehrveranstaltung 404011 23S, Gruppe 0\nTitel: PS Theorie ökonomischer Entscheidungen: Strategisches Verhalten\nOrt: SR  1 (Sowi)\n\nhttps://lfuonline.uibk.ac.at/public/lfuonline_lv.details?sem_id_in=23S&lvnr_id_in=404011\n
CLASS:PUBLIC
DTSTART:20230426T074500Z
DTEND:20230426T091500Z
DTSTAMP:20260420T084134Z
LOCATION:SR  1 (Sowi)
END:VEVENT
BEGIN:VEVENT
UID:23S_404011_4221095@uibk.ac.at
ORGANIZER;CN="LFU:online Universität Innsbruck":MAILTO:Uni-Innsbruck-noreply@uibk.ac.at
SUMMARY:PS Theorie ökonomischer Entscheidungen: Strategisches Verhalten (LV 404011-0 23S)
DESCRIPTION:Lehrveranstaltung 404011 23S, Gruppe 0\nTitel: PS Theorie ökonomischer Entscheidungen: Strategisches Verhalten\nOrt: SR  1 (Sowi)\n\nhttps://lfuonline.uibk.ac.at/public/lfuonline_lv.details?sem_id_in=23S&lvnr_id_in=404011\n
CLASS:PUBLIC
DTSTART:20230503T074500Z
DTEND:20230503T091500Z
DTSTAMP:20260420T084134Z
LOCATION:SR  1 (Sowi)
END:VEVENT
BEGIN:VEVENT
UID:23S_404011_4221096@uibk.ac.at
ORGANIZER;CN="LFU:online Universität Innsbruck":MAILTO:Uni-Innsbruck-noreply@uibk.ac.at
SUMMARY:PS Theorie ökonomischer Entscheidungen: Strategisches Verhalten (LV 404011-0 23S)
DESCRIPTION:Lehrveranstaltung 404011 23S, Gruppe 0\nTitel: PS Theorie ökonomischer Entscheidungen: Strategisches Verhalten\nOrt: SR  1 (Sowi)\n\nhttps://lfuonline.uibk.ac.at/public/lfuonline_lv.details?sem_id_in=23S&lvnr_id_in=404011\n
CLASS:PUBLIC
DTSTART:20230510T074500Z
DTEND:20230510T091500Z
DTSTAMP:20260420T084134Z
LOCATION:SR  1 (Sowi)
END:VEVENT
BEGIN:VEVENT
UID:23S_404011_4221097@uibk.ac.at
ORGANIZER;CN="LFU:online Universität Innsbruck":MAILTO:Uni-Innsbruck-noreply@uibk.ac.at
SUMMARY:PS Theorie ökonomischer Entscheidungen: Strategisches Verhalten (LV 404011-0 23S)
DESCRIPTION:Lehrveranstaltung 404011 23S, Gruppe 0\nTitel: PS Theorie ökonomischer Entscheidungen: Strategisches Verhalten\nOrt: SR  1 (Sowi)\n\nhttps://lfuonline.uibk.ac.at/public/lfuonline_lv.details?sem_id_in=23S&lvnr_id_in=404011\n
CLASS:PUBLIC
DTSTART:20230517T074500Z
DTEND:20230517T091500Z
DTSTAMP:20260420T084134Z
LOCATION:SR  1 (Sowi)
END:VEVENT
BEGIN:VEVENT
UID:23S_404011_4221098@uibk.ac.at
ORGANIZER;CN="LFU:online Universität Innsbruck":MAILTO:Uni-Innsbruck-noreply@uibk.ac.at
SUMMARY:PS Theorie ökonomischer Entscheidungen: Strategisches Verhalten (LV 404011-0 23S)
DESCRIPTION:Lehrveranstaltung 404011 23S, Gruppe 0\nTitel: PS Theorie ökonomischer Entscheidungen: Strategisches Verhalten\nOrt: SR  1 (Sowi)\n\nhttps://lfuonline.uibk.ac.at/public/lfuonline_lv.details?sem_id_in=23S&lvnr_id_in=404011\n
CLASS:PUBLIC
DTSTART:20230524T074500Z
DTEND:20230524T091500Z
DTSTAMP:20260420T084134Z
LOCATION:SR  1 (Sowi)
END:VEVENT
BEGIN:VEVENT
UID:23S_404011_4221099@uibk.ac.at
ORGANIZER;CN="LFU:online Universität Innsbruck":MAILTO:Uni-Innsbruck-noreply@uibk.ac.at
SUMMARY:PS Theorie ökonomischer Entscheidungen: Strategisches Verhalten (LV 404011-0 23S)
DESCRIPTION:Lehrveranstaltung 404011 23S, Gruppe 0\nTitel: PS Theorie ökonomischer Entscheidungen: Strategisches Verhalten\nOrt: SR  1 (Sowi)\n\nhttps://lfuonline.uibk.ac.at/public/lfuonline_lv.details?sem_id_in=23S&lvnr_id_in=404011\n
CLASS:PUBLIC
DTSTART:20230531T074500Z
DTEND:20230531T091500Z
DTSTAMP:20260420T084134Z
LOCATION:SR  1 (Sowi)
END:VEVENT
BEGIN:VEVENT
UID:23S_404011_4221100@uibk.ac.at
ORGANIZER;CN="LFU:online Universität Innsbruck":MAILTO:Uni-Innsbruck-noreply@uibk.ac.at
SUMMARY:PS Theorie ökonomischer Entscheidungen: Strategisches Verhalten (LV 404011-0 23S)
DESCRIPTION:Lehrveranstaltung 404011 23S, Gruppe 0\nTitel: PS Theorie ökonomischer Entscheidungen: Strategisches Verhalten\nOrt: SR  1 (Sowi)\n\nhttps://lfuonline.uibk.ac.at/public/lfuonline_lv.details?sem_id_in=23S&lvnr_id_in=404011\n
CLASS:PUBLIC
DTSTART:20230607T074500Z
DTEND:20230607T091500Z
DTSTAMP:20260420T084134Z
LOCATION:SR  1 (Sowi)
END:VEVENT
BEGIN:VEVENT
UID:23S_404011_4221101@uibk.ac.at
ORGANIZER;CN="LFU:online Universität Innsbruck":MAILTO:Uni-Innsbruck-noreply@uibk.ac.at
SUMMARY:PS Theorie ökonomischer Entscheidungen: Strategisches Verhalten (LV 404011-0 23S)
DESCRIPTION:Lehrveranstaltung 404011 23S, Gruppe 0\nTitel: PS Theorie ökonomischer Entscheidungen: Strategisches Verhalten\nOrt: SR  1 (Sowi)\n\nhttps://lfuonline.uibk.ac.at/public/lfuonline_lv.details?sem_id_in=23S&lvnr_id_in=404011\n
CLASS:PUBLIC
DTSTART:20230614T074500Z
DTEND:20230614T091500Z
DTSTAMP:20260420T084134Z
LOCATION:SR  1 (Sowi)
END:VEVENT
BEGIN:VEVENT
UID:23S_404011_4221102@uibk.ac.at
ORGANIZER;CN="LFU:online Universität Innsbruck":MAILTO:Uni-Innsbruck-noreply@uibk.ac.at
SUMMARY:PS Theorie ökonomischer Entscheidungen: Strategisches Verhalten (LV 404011-0 23S)
DESCRIPTION:Lehrveranstaltung 404011 23S, Gruppe 0\nTitel: PS Theorie ökonomischer Entscheidungen: Strategisches Verhalten\nOrt: SR  1 (Sowi)\n\nhttps://lfuonline.uibk.ac.at/public/lfuonline_lv.details?sem_id_in=23S&lvnr_id_in=404011\n
CLASS:PUBLIC
DTSTART:20230621T074500Z
DTEND:20230621T091500Z
DTSTAMP:20260420T084134Z
LOCATION:SR  1 (Sowi)
END:VEVENT
BEGIN:VEVENT
UID:23S_404011_4221103@uibk.ac.at
ORGANIZER;CN="LFU:online Universität Innsbruck":MAILTO:Uni-Innsbruck-noreply@uibk.ac.at
SUMMARY:PS Theorie ökonomischer Entscheidungen: Strategisches Verhalten (LV 404011-0 23S)
DESCRIPTION:Lehrveranstaltung 404011 23S, Gruppe 0\nTitel: PS Theorie ökonomischer Entscheidungen: Strategisches Verhalten\nOrt: SR  1 (Sowi)\n\nhttps://lfuonline.uibk.ac.at/public/lfuonline_lv.details?sem_id_in=23S&lvnr_id_in=404011\n
CLASS:PUBLIC
DTSTART:20230628T074500Z
DTEND:20230628T091500Z
DTSTAMP:20260420T084134Z
LOCATION:SR  1 (Sowi)
END:VEVENT
END:VCALENDAR