BEGIN:VCALENDAR
VERSION:2.0
PRODID:-//Universität Innsbruck//LFU:online//DE
METHOD:PUBLISH
BEGIN:VEVENT
UID:20S_404015_3572537@uibk.ac.at
ORGANIZER;CN="LFU:online Universität Innsbruck":MAILTO:Uni-Innsbruck-noreply@uibk.ac.at
SUMMARY:PS Theorie ökonomischer Entscheidungen: Strategisches Verhalten (LV 404015-0 20S)
DESCRIPTION:Lehrveranstaltung 404015 20S, Gruppe 0\nTitel: PS Theorie ökonomischer Entscheidungen: Strategisches Verhalten\nOrt: UR 1 (Sowi)\n\nhttps://lfuonline.uibk.ac.at/public/lfuonline_lv.details?sem_id_in=20S&lvnr_id_in=404015\n
CLASS:PUBLIC
DTSTART:20200309T150000Z
DTEND:20200309T164500Z
DTSTAMP:20260423T161711Z
LOCATION:UR 1 (Sowi)
END:VEVENT
BEGIN:VEVENT
UID:20S_404015_3572538@uibk.ac.at
ORGANIZER;CN="LFU:online Universität Innsbruck":MAILTO:Uni-Innsbruck-noreply@uibk.ac.at
SUMMARY:PS Theorie ökonomischer Entscheidungen: Strategisches Verhalten (LV 404015-0 20S)
DESCRIPTION:Lehrveranstaltung 404015 20S, Gruppe 0\nTitel: PS Theorie ökonomischer Entscheidungen: Strategisches Verhalten\nOrt: UR 1 (Sowi)\n\nhttps://lfuonline.uibk.ac.at/public/lfuonline_lv.details?sem_id_in=20S&lvnr_id_in=404015\n
CLASS:PUBLIC
DTSTART:20200316T150000Z
DTEND:20200316T164500Z
DTSTAMP:20260423T161711Z
LOCATION:UR 1 (Sowi)
END:VEVENT
BEGIN:VEVENT
UID:20S_404015_3572539@uibk.ac.at
ORGANIZER;CN="LFU:online Universität Innsbruck":MAILTO:Uni-Innsbruck-noreply@uibk.ac.at
SUMMARY:PS Theorie ökonomischer Entscheidungen: Strategisches Verhalten (LV 404015-0 20S)
DESCRIPTION:Lehrveranstaltung 404015 20S, Gruppe 0\nTitel: PS Theorie ökonomischer Entscheidungen: Strategisches Verhalten\nOrt: UR 1 (Sowi)\n\nhttps://lfuonline.uibk.ac.at/public/lfuonline_lv.details?sem_id_in=20S&lvnr_id_in=404015\n
CLASS:PUBLIC
DTSTART:20200323T150000Z
DTEND:20200323T164500Z
DTSTAMP:20260423T161711Z
LOCATION:UR 1 (Sowi)
END:VEVENT
BEGIN:VEVENT
UID:20S_404015_3572540@uibk.ac.at
ORGANIZER;CN="LFU:online Universität Innsbruck":MAILTO:Uni-Innsbruck-noreply@uibk.ac.at
SUMMARY:PS Theorie ökonomischer Entscheidungen: Strategisches Verhalten (LV 404015-0 20S)
DESCRIPTION:Lehrveranstaltung 404015 20S, Gruppe 0\nTitel: PS Theorie ökonomischer Entscheidungen: Strategisches Verhalten\nOrt: UR 1 (Sowi)\n\nhttps://lfuonline.uibk.ac.at/public/lfuonline_lv.details?sem_id_in=20S&lvnr_id_in=404015\n
CLASS:PUBLIC
DTSTART:20200330T140000Z
DTEND:20200330T154500Z
DTSTAMP:20260423T161711Z
LOCATION:UR 1 (Sowi)
END:VEVENT
BEGIN:VEVENT
UID:20S_404015_3572541@uibk.ac.at
ORGANIZER;CN="LFU:online Universität Innsbruck":MAILTO:Uni-Innsbruck-noreply@uibk.ac.at
SUMMARY:PS Theorie ökonomischer Entscheidungen: Strategisches Verhalten (LV 404015-0 20S)
DESCRIPTION:Lehrveranstaltung 404015 20S, Gruppe 0\nTitel: PS Theorie ökonomischer Entscheidungen: Strategisches Verhalten\nOrt: UR 1 (Sowi)\n\nhttps://lfuonline.uibk.ac.at/public/lfuonline_lv.details?sem_id_in=20S&lvnr_id_in=404015\n
CLASS:PUBLIC
DTSTART:20200420T140000Z
DTEND:20200420T154500Z
DTSTAMP:20260423T161711Z
LOCATION:UR 1 (Sowi)
END:VEVENT
BEGIN:VEVENT
UID:20S_404015_3572542@uibk.ac.at
ORGANIZER;CN="LFU:online Universität Innsbruck":MAILTO:Uni-Innsbruck-noreply@uibk.ac.at
SUMMARY:PS Theorie ökonomischer Entscheidungen: Strategisches Verhalten (LV 404015-0 20S)
DESCRIPTION:Lehrveranstaltung 404015 20S, Gruppe 0\nTitel: PS Theorie ökonomischer Entscheidungen: Strategisches Verhalten\nOrt: UR 1 (Sowi)\n\nhttps://lfuonline.uibk.ac.at/public/lfuonline_lv.details?sem_id_in=20S&lvnr_id_in=404015\n
CLASS:PUBLIC
DTSTART:20200427T140000Z
DTEND:20200427T154500Z
DTSTAMP:20260423T161711Z
LOCATION:UR 1 (Sowi)
END:VEVENT
BEGIN:VEVENT
UID:20S_404015_3572543@uibk.ac.at
ORGANIZER;CN="LFU:online Universität Innsbruck":MAILTO:Uni-Innsbruck-noreply@uibk.ac.at
SUMMARY:PS Theorie ökonomischer Entscheidungen: Strategisches Verhalten (LV 404015-0 20S)
DESCRIPTION:Lehrveranstaltung 404015 20S, Gruppe 0\nTitel: PS Theorie ökonomischer Entscheidungen: Strategisches Verhalten\nOrt: UR 1 (Sowi)\n\nhttps://lfuonline.uibk.ac.at/public/lfuonline_lv.details?sem_id_in=20S&lvnr_id_in=404015\n
CLASS:PUBLIC
DTSTART:20200504T140000Z
DTEND:20200504T154500Z
DTSTAMP:20260423T161711Z
LOCATION:UR 1 (Sowi)
END:VEVENT
BEGIN:VEVENT
UID:20S_404015_3572544@uibk.ac.at
ORGANIZER;CN="LFU:online Universität Innsbruck":MAILTO:Uni-Innsbruck-noreply@uibk.ac.at
SUMMARY:PS Theorie ökonomischer Entscheidungen: Strategisches Verhalten (LV 404015-0 20S)
DESCRIPTION:Lehrveranstaltung 404015 20S, Gruppe 0\nTitel: PS Theorie ökonomischer Entscheidungen: Strategisches Verhalten\nOrt: UR 1 (Sowi)\n\nhttps://lfuonline.uibk.ac.at/public/lfuonline_lv.details?sem_id_in=20S&lvnr_id_in=404015\n
CLASS:PUBLIC
DTSTART:20200511T140000Z
DTEND:20200511T154500Z
DTSTAMP:20260423T161711Z
LOCATION:UR 1 (Sowi)
END:VEVENT
BEGIN:VEVENT
UID:20S_404015_3572545@uibk.ac.at
ORGANIZER;CN="LFU:online Universität Innsbruck":MAILTO:Uni-Innsbruck-noreply@uibk.ac.at
SUMMARY:PS Theorie ökonomischer Entscheidungen: Strategisches Verhalten (LV 404015-0 20S)
DESCRIPTION:Lehrveranstaltung 404015 20S, Gruppe 0\nTitel: PS Theorie ökonomischer Entscheidungen: Strategisches Verhalten\nOrt: UR 1 (Sowi)\n\nhttps://lfuonline.uibk.ac.at/public/lfuonline_lv.details?sem_id_in=20S&lvnr_id_in=404015\n
CLASS:PUBLIC
DTSTART:20200518T140000Z
DTEND:20200518T154500Z
DTSTAMP:20260423T161711Z
LOCATION:UR 1 (Sowi)
END:VEVENT
BEGIN:VEVENT
UID:20S_404015_3572546@uibk.ac.at
ORGANIZER;CN="LFU:online Universität Innsbruck":MAILTO:Uni-Innsbruck-noreply@uibk.ac.at
SUMMARY:PS Theorie ökonomischer Entscheidungen: Strategisches Verhalten (LV 404015-0 20S)
DESCRIPTION:Lehrveranstaltung 404015 20S, Gruppe 0\nTitel: PS Theorie ökonomischer Entscheidungen: Strategisches Verhalten\nOrt: UR 1 (Sowi)\n\nhttps://lfuonline.uibk.ac.at/public/lfuonline_lv.details?sem_id_in=20S&lvnr_id_in=404015\n
CLASS:PUBLIC
DTSTART:20200525T140000Z
DTEND:20200525T154500Z
DTSTAMP:20260423T161711Z
LOCATION:UR 1 (Sowi)
END:VEVENT
BEGIN:VEVENT
UID:20S_404015_3572547@uibk.ac.at
ORGANIZER;CN="LFU:online Universität Innsbruck":MAILTO:Uni-Innsbruck-noreply@uibk.ac.at
SUMMARY:PS Theorie ökonomischer Entscheidungen: Strategisches Verhalten (LV 404015-0 20S)
DESCRIPTION:Lehrveranstaltung 404015 20S, Gruppe 0\nTitel: PS Theorie ökonomischer Entscheidungen: Strategisches Verhalten\nOrt: UR 1 (Sowi)\n\nhttps://lfuonline.uibk.ac.at/public/lfuonline_lv.details?sem_id_in=20S&lvnr_id_in=404015\n
CLASS:PUBLIC
DTSTART:20200608T140000Z
DTEND:20200608T154500Z
DTSTAMP:20260423T161711Z
LOCATION:UR 1 (Sowi)
END:VEVENT
BEGIN:VEVENT
UID:20S_404015_3572548@uibk.ac.at
ORGANIZER;CN="LFU:online Universität Innsbruck":MAILTO:Uni-Innsbruck-noreply@uibk.ac.at
SUMMARY:PS Theorie ökonomischer Entscheidungen: Strategisches Verhalten (LV 404015-0 20S)
DESCRIPTION:Lehrveranstaltung 404015 20S, Gruppe 0\nTitel: PS Theorie ökonomischer Entscheidungen: Strategisches Verhalten\nOrt: UR 1 (Sowi)\n\nhttps://lfuonline.uibk.ac.at/public/lfuonline_lv.details?sem_id_in=20S&lvnr_id_in=404015\n
CLASS:PUBLIC
DTSTART:20200615T140000Z
DTEND:20200615T154500Z
DTSTAMP:20260423T161711Z
LOCATION:UR 1 (Sowi)
END:VEVENT
BEGIN:VEVENT
UID:20S_404015_3572549@uibk.ac.at
ORGANIZER;CN="LFU:online Universität Innsbruck":MAILTO:Uni-Innsbruck-noreply@uibk.ac.at
SUMMARY:PS Theorie ökonomischer Entscheidungen: Strategisches Verhalten (LV 404015-0 20S)
DESCRIPTION:Lehrveranstaltung 404015 20S, Gruppe 0\nTitel: PS Theorie ökonomischer Entscheidungen: Strategisches Verhalten\nOrt: UR 1 (Sowi)\n\nhttps://lfuonline.uibk.ac.at/public/lfuonline_lv.details?sem_id_in=20S&lvnr_id_in=404015\n
CLASS:PUBLIC
DTSTART:20200622T140000Z
DTEND:20200622T154500Z
DTSTAMP:20260423T161711Z
LOCATION:UR 1 (Sowi)
END:VEVENT
END:VCALENDAR