BEGIN:VCALENDAR
VERSION:2.0
PRODID:-//Universität Innsbruck//LFU:online//DE
METHOD:PUBLISH
BEGIN:VEVENT
UID:20S_404016_3667977@uibk.ac.at
ORGANIZER;CN="LFU:online Universität Innsbruck":MAILTO:Uni-Innsbruck-noreply@uibk.ac.at
SUMMARY:PS Theorie ökonomischer Entscheidungen: Strategisches Verhalten (LV 404016-0 20S)
DESCRIPTION:Lehrveranstaltung 404016 20S, Gruppe 0\nTitel: PS Theorie ökonomischer Entscheidungen: Strategisches Verhalten\nOrt: eLecture - online\n\nhttps://lfuonline.uibk.ac.at/public/lfuonline_lv.details?sem_id_in=20S&lvnr_id_in=404016\n
CLASS:PUBLIC
DTSTART:20200713T060000Z
DTEND:20200713T153000Z
DTSTAMP:20260423T132310Z
LOCATION:eLecture - online
COMMENT:Sommer Uni ÖH
END:VEVENT
BEGIN:VEVENT
UID:20S_404016_3667978@uibk.ac.at
ORGANIZER;CN="LFU:online Universität Innsbruck":MAILTO:Uni-Innsbruck-noreply@uibk.ac.at
SUMMARY:PS Theorie ökonomischer Entscheidungen: Strategisches Verhalten (LV 404016-0 20S)
DESCRIPTION:Lehrveranstaltung 404016 20S, Gruppe 0\nTitel: PS Theorie ökonomischer Entscheidungen: Strategisches Verhalten\nOrt: eLecture - online\n\nhttps://lfuonline.uibk.ac.at/public/lfuonline_lv.details?sem_id_in=20S&lvnr_id_in=404016\n
CLASS:PUBLIC
DTSTART:20200715T060000Z
DTEND:20200715T153000Z
DTSTAMP:20260423T132310Z
LOCATION:eLecture - online
COMMENT:Sommer Uni ÖH
END:VEVENT
BEGIN:VEVENT
UID:20S_404016_3667993@uibk.ac.at
ORGANIZER;CN="LFU:online Universität Innsbruck":MAILTO:Uni-Innsbruck-noreply@uibk.ac.at
SUMMARY:PS Theorie ökonomischer Entscheidungen: Strategisches Verhalten (LV 404016-0 20S)
DESCRIPTION:Lehrveranstaltung 404016 20S, Gruppe 0\nTitel: PS Theorie ökonomischer Entscheidungen: Strategisches Verhalten\nOrt: eLecture - online\n\nhttps://lfuonline.uibk.ac.at/public/lfuonline_lv.details?sem_id_in=20S&lvnr_id_in=404016\n
CLASS:PUBLIC
DTSTART:20200717T060000Z
DTEND:20200717T074500Z
DTSTAMP:20260423T132310Z
LOCATION:eLecture - online
COMMENT:Sommer Uni ÖH
END:VEVENT
BEGIN:VEVENT
UID:20S_404016_3667996@uibk.ac.at
ORGANIZER;CN="LFU:online Universität Innsbruck":MAILTO:Uni-Innsbruck-noreply@uibk.ac.at
SUMMARY:PS Theorie ökonomischer Entscheidungen: Strategisches Verhalten (LV 404016-0 20S)
DESCRIPTION:Lehrveranstaltung 404016 20S, Gruppe 0\nTitel: PS Theorie ökonomischer Entscheidungen: Strategisches Verhalten\nOrt: eLecture - online\n\nhttps://lfuonline.uibk.ac.at/public/lfuonline_lv.details?sem_id_in=20S&lvnr_id_in=404016\n
CLASS:PUBLIC
DTSTART:20200727T060000Z
DTEND:20200727T093000Z
DTSTAMP:20260423T132310Z
LOCATION:eLecture - online
COMMENT:Sommer Uni ÖH
END:VEVENT
BEGIN:VEVENT
UID:20S_404016_3668578@uibk.ac.at
ORGANIZER;CN="LFU:online Universität Innsbruck":MAILTO:Uni-Innsbruck-noreply@uibk.ac.at
SUMMARY:PS Theorie ökonomischer Entscheidungen: Strategisches Verhalten (LV 404016-0 20S)
DESCRIPTION:Lehrveranstaltung 404016 20S, Gruppe 0\nTitel: PS Theorie ökonomischer Entscheidungen: Strategisches Verhalten\nOrt: eLecture - online\n\nhttps://lfuonline.uibk.ac.at/public/lfuonline_lv.details?sem_id_in=20S&lvnr_id_in=404016\n
CLASS:PUBLIC
DTSTART:20200803T080000Z
DTEND:20200803T094500Z
DTSTAMP:20260423T132310Z
LOCATION:eLecture - online
COMMENT:Sommer Uni ÖH
END:VEVENT
END:VCALENDAR