BEGIN:VCALENDAR
VERSION:2.0
PRODID:-//Universität Innsbruck//LFU:online//DE
METHOD:PUBLISH
BEGIN:VEVENT
UID:14S_404060_2087879@uibk.ac.at
ORGANIZER;CN="LFU:online Universität Innsbruck":MAILTO:Uni-Innsbruck-noreply@uibk.ac.at
SUMMARY:VO Finanzwissenschaft: Ökonomik der Besteuerung (LV 404060-0 14S)
DESCRIPTION:Lehrveranstaltung 404060 14S, Gruppe 0\nTitel: VO Finanzwissenschaft: Ökonomik der Besteuerung\nOrt: SR  1 (Sowi)\n\nhttps://lfuonline.uibk.ac.at/public/lfuonline_lv.details?sem_id_in=14S&lvnr_id_in=404060\n
CLASS:PUBLIC
DTSTART:20140310T100000Z
DTEND:20140310T114500Z
DTSTAMP:20260421T092018Z
LOCATION:SR  1 (Sowi)
END:VEVENT
BEGIN:VEVENT
UID:14S_404060_2087880@uibk.ac.at
ORGANIZER;CN="LFU:online Universität Innsbruck":MAILTO:Uni-Innsbruck-noreply@uibk.ac.at
SUMMARY:VO Finanzwissenschaft: Ökonomik der Besteuerung (LV 404060-0 14S)
DESCRIPTION:Lehrveranstaltung 404060 14S, Gruppe 0\nTitel: VO Finanzwissenschaft: Ökonomik der Besteuerung\nOrt: SR  1 (Sowi)\n\nhttps://lfuonline.uibk.ac.at/public/lfuonline_lv.details?sem_id_in=14S&lvnr_id_in=404060\n
CLASS:PUBLIC
DTSTART:20140317T100000Z
DTEND:20140317T114500Z
DTSTAMP:20260421T092018Z
LOCATION:SR  1 (Sowi)
END:VEVENT
BEGIN:VEVENT
UID:14S_404060_2087881@uibk.ac.at
ORGANIZER;CN="LFU:online Universität Innsbruck":MAILTO:Uni-Innsbruck-noreply@uibk.ac.at
SUMMARY:VO Finanzwissenschaft: Ökonomik der Besteuerung (LV 404060-0 14S)
DESCRIPTION:Lehrveranstaltung 404060 14S, Gruppe 0\nTitel: VO Finanzwissenschaft: Ökonomik der Besteuerung\nOrt: SR  1 (Sowi)\n\nhttps://lfuonline.uibk.ac.at/public/lfuonline_lv.details?sem_id_in=14S&lvnr_id_in=404060\n
CLASS:PUBLIC
DTSTART:20140324T100000Z
DTEND:20140324T114500Z
DTSTAMP:20260421T092018Z
LOCATION:SR  1 (Sowi)
END:VEVENT
BEGIN:VEVENT
UID:14S_404060_2087882@uibk.ac.at
ORGANIZER;CN="LFU:online Universität Innsbruck":MAILTO:Uni-Innsbruck-noreply@uibk.ac.at
SUMMARY:VO Finanzwissenschaft: Ökonomik der Besteuerung (LV 404060-0 14S)
DESCRIPTION:Lehrveranstaltung 404060 14S, Gruppe 0\nTitel: VO Finanzwissenschaft: Ökonomik der Besteuerung\nOrt: SR  1 (Sowi)\n\nhttps://lfuonline.uibk.ac.at/public/lfuonline_lv.details?sem_id_in=14S&lvnr_id_in=404060\n
CLASS:PUBLIC
DTSTART:20140331T090000Z
DTEND:20140331T104500Z
DTSTAMP:20260421T092018Z
LOCATION:SR  1 (Sowi)
END:VEVENT
BEGIN:VEVENT
UID:14S_404060_2087883@uibk.ac.at
ORGANIZER;CN="LFU:online Universität Innsbruck":MAILTO:Uni-Innsbruck-noreply@uibk.ac.at
SUMMARY:VO Finanzwissenschaft: Ökonomik der Besteuerung (LV 404060-0 14S)
DESCRIPTION:Lehrveranstaltung 404060 14S, Gruppe 0\nTitel: VO Finanzwissenschaft: Ökonomik der Besteuerung\nOrt: SR  1 (Sowi)\n\nhttps://lfuonline.uibk.ac.at/public/lfuonline_lv.details?sem_id_in=14S&lvnr_id_in=404060\n
CLASS:PUBLIC
DTSTART:20140407T090000Z
DTEND:20140407T104500Z
DTSTAMP:20260421T092018Z
LOCATION:SR  1 (Sowi)
END:VEVENT
BEGIN:VEVENT
UID:14S_404060_2087884@uibk.ac.at
ORGANIZER;CN="LFU:online Universität Innsbruck":MAILTO:Uni-Innsbruck-noreply@uibk.ac.at
SUMMARY:VO Finanzwissenschaft: Ökonomik der Besteuerung (LV 404060-0 14S)
DESCRIPTION:Lehrveranstaltung 404060 14S, Gruppe 0\nTitel: VO Finanzwissenschaft: Ökonomik der Besteuerung\nOrt: SR  1 (Sowi)\n\nhttps://lfuonline.uibk.ac.at/public/lfuonline_lv.details?sem_id_in=14S&lvnr_id_in=404060\n
CLASS:PUBLIC
DTSTART:20140428T090000Z
DTEND:20140428T104500Z
DTSTAMP:20260421T092018Z
LOCATION:SR  1 (Sowi)
END:VEVENT
BEGIN:VEVENT
UID:14S_404060_2087885@uibk.ac.at
ORGANIZER;CN="LFU:online Universität Innsbruck":MAILTO:Uni-Innsbruck-noreply@uibk.ac.at
SUMMARY:VO Finanzwissenschaft: Ökonomik der Besteuerung (LV 404060-0 14S)
DESCRIPTION:Lehrveranstaltung 404060 14S, Gruppe 0\nTitel: VO Finanzwissenschaft: Ökonomik der Besteuerung\nOrt: SR  1 (Sowi)\n\nhttps://lfuonline.uibk.ac.at/public/lfuonline_lv.details?sem_id_in=14S&lvnr_id_in=404060\n
CLASS:PUBLIC
DTSTART:20140505T090000Z
DTEND:20140505T104500Z
DTSTAMP:20260421T092018Z
LOCATION:SR  1 (Sowi)
END:VEVENT
BEGIN:VEVENT
UID:14S_404060_2087886@uibk.ac.at
ORGANIZER;CN="LFU:online Universität Innsbruck":MAILTO:Uni-Innsbruck-noreply@uibk.ac.at
SUMMARY:VO Finanzwissenschaft: Ökonomik der Besteuerung (LV 404060-0 14S)
DESCRIPTION:Lehrveranstaltung 404060 14S, Gruppe 0\nTitel: VO Finanzwissenschaft: Ökonomik der Besteuerung\nOrt: SR  1 (Sowi)\n\nhttps://lfuonline.uibk.ac.at/public/lfuonline_lv.details?sem_id_in=14S&lvnr_id_in=404060\n
CLASS:PUBLIC
DTSTART:20140512T090000Z
DTEND:20140512T104500Z
DTSTAMP:20260421T092018Z
LOCATION:SR  1 (Sowi)
END:VEVENT
BEGIN:VEVENT
UID:14S_404060_2087887@uibk.ac.at
ORGANIZER;CN="LFU:online Universität Innsbruck":MAILTO:Uni-Innsbruck-noreply@uibk.ac.at
SUMMARY:VO Finanzwissenschaft: Ökonomik der Besteuerung (LV 404060-0 14S)
DESCRIPTION:Lehrveranstaltung 404060 14S, Gruppe 0\nTitel: VO Finanzwissenschaft: Ökonomik der Besteuerung\nOrt: SR  1 (Sowi)\n\nhttps://lfuonline.uibk.ac.at/public/lfuonline_lv.details?sem_id_in=14S&lvnr_id_in=404060\n
CLASS:PUBLIC
DTSTART:20140519T090000Z
DTEND:20140519T104500Z
DTSTAMP:20260421T092018Z
LOCATION:SR  1 (Sowi)
END:VEVENT
BEGIN:VEVENT
UID:14S_404060_2087888@uibk.ac.at
ORGANIZER;CN="LFU:online Universität Innsbruck":MAILTO:Uni-Innsbruck-noreply@uibk.ac.at
SUMMARY:VO Finanzwissenschaft: Ökonomik der Besteuerung (LV 404060-0 14S)
DESCRIPTION:Lehrveranstaltung 404060 14S, Gruppe 0\nTitel: VO Finanzwissenschaft: Ökonomik der Besteuerung\nOrt: SR  1 (Sowi)\n\nhttps://lfuonline.uibk.ac.at/public/lfuonline_lv.details?sem_id_in=14S&lvnr_id_in=404060\n
CLASS:PUBLIC
DTSTART:20140526T090000Z
DTEND:20140526T104500Z
DTSTAMP:20260421T092018Z
LOCATION:SR  1 (Sowi)
END:VEVENT
BEGIN:VEVENT
UID:14S_404060_2087889@uibk.ac.at
ORGANIZER;CN="LFU:online Universität Innsbruck":MAILTO:Uni-Innsbruck-noreply@uibk.ac.at
SUMMARY:VO Finanzwissenschaft: Ökonomik der Besteuerung (LV 404060-0 14S)
DESCRIPTION:Lehrveranstaltung 404060 14S, Gruppe 0\nTitel: VO Finanzwissenschaft: Ökonomik der Besteuerung\nOrt: SR  1 (Sowi)\n\nhttps://lfuonline.uibk.ac.at/public/lfuonline_lv.details?sem_id_in=14S&lvnr_id_in=404060\n
CLASS:PUBLIC
DTSTART:20140602T090000Z
DTEND:20140602T104500Z
DTSTAMP:20260421T092018Z
LOCATION:SR  1 (Sowi)
END:VEVENT
BEGIN:VEVENT
UID:14S_404060_2087890@uibk.ac.at
ORGANIZER;CN="LFU:online Universität Innsbruck":MAILTO:Uni-Innsbruck-noreply@uibk.ac.at
SUMMARY:VO Finanzwissenschaft: Ökonomik der Besteuerung (LV 404060-0 14S)
DESCRIPTION:Lehrveranstaltung 404060 14S, Gruppe 0\nTitel: VO Finanzwissenschaft: Ökonomik der Besteuerung\nOrt: SR  1 (Sowi)\n\nhttps://lfuonline.uibk.ac.at/public/lfuonline_lv.details?sem_id_in=14S&lvnr_id_in=404060\n
CLASS:PUBLIC
DTSTART:20140616T090000Z
DTEND:20140616T104500Z
DTSTAMP:20260421T092018Z
LOCATION:SR  1 (Sowi)
END:VEVENT
BEGIN:VEVENT
UID:14S_404060_2087891@uibk.ac.at
ORGANIZER;CN="LFU:online Universität Innsbruck":MAILTO:Uni-Innsbruck-noreply@uibk.ac.at
SUMMARY:VO Finanzwissenschaft: Ökonomik der Besteuerung (LV 404060-0 14S)
DESCRIPTION:Lehrveranstaltung 404060 14S, Gruppe 0\nTitel: VO Finanzwissenschaft: Ökonomik der Besteuerung\nOrt: SR  1 (Sowi)\n\nhttps://lfuonline.uibk.ac.at/public/lfuonline_lv.details?sem_id_in=14S&lvnr_id_in=404060\n
CLASS:PUBLIC
DTSTART:20140623T090000Z
DTEND:20140623T104500Z
DTSTAMP:20260421T092018Z
LOCATION:SR  1 (Sowi)
END:VEVENT
END:VCALENDAR