BEGIN:VCALENDAR
VERSION:2.0
PRODID:-//Universität Innsbruck//LFU:online//DE
METHOD:PUBLISH
BEGIN:VEVENT
UID:14S_404061_2087921@uibk.ac.at
ORGANIZER;CN="LFU:online Universität Innsbruck":MAILTO:Uni-Innsbruck-noreply@uibk.ac.at
SUMMARY:PS Finanzwissenschaft: Ökonomik der Besteuerung (LV 404061-0 14S)
DESCRIPTION:Lehrveranstaltung 404061 14S, Gruppe 0\nTitel: PS Finanzwissenschaft: Ökonomik der Besteuerung\nOrt: SR  1 (Sowi)\n\nhttps://lfuonline.uibk.ac.at/public/lfuonline_lv.details?sem_id_in=14S&lvnr_id_in=404061\n
CLASS:PUBLIC
DTSTART:20140523T120000Z
DTEND:20140523T173000Z
DTSTAMP:20260421T092018Z
LOCATION:SR  1 (Sowi)
END:VEVENT
BEGIN:VEVENT
UID:14S_404061_2087922@uibk.ac.at
ORGANIZER;CN="LFU:online Universität Innsbruck":MAILTO:Uni-Innsbruck-noreply@uibk.ac.at
SUMMARY:PS Finanzwissenschaft: Ökonomik der Besteuerung (LV 404061-0 14S)
DESCRIPTION:Lehrveranstaltung 404061 14S, Gruppe 0\nTitel: PS Finanzwissenschaft: Ökonomik der Besteuerung\nOrt: SR  1 (Sowi)\n\nhttps://lfuonline.uibk.ac.at/public/lfuonline_lv.details?sem_id_in=14S&lvnr_id_in=404061\n
CLASS:PUBLIC
DTSTART:20140524T070000Z
DTEND:20140524T123000Z
DTSTAMP:20260421T092018Z
LOCATION:SR  1 (Sowi)
END:VEVENT
BEGIN:VEVENT
UID:14S_404061_2087923@uibk.ac.at
ORGANIZER;CN="LFU:online Universität Innsbruck":MAILTO:Uni-Innsbruck-noreply@uibk.ac.at
SUMMARY:PS Finanzwissenschaft: Ökonomik der Besteuerung (LV 404061-0 14S)
DESCRIPTION:Lehrveranstaltung 404061 14S, Gruppe 0\nTitel: PS Finanzwissenschaft: Ökonomik der Besteuerung\nOrt: SR  1 (Sowi)\n\nhttps://lfuonline.uibk.ac.at/public/lfuonline_lv.details?sem_id_in=14S&lvnr_id_in=404061\n
CLASS:PUBLIC
DTSTART:20140613T120000Z
DTEND:20140613T173000Z
DTSTAMP:20260421T092018Z
LOCATION:SR  1 (Sowi)
END:VEVENT
BEGIN:VEVENT
UID:14S_404061_2087924@uibk.ac.at
ORGANIZER;CN="LFU:online Universität Innsbruck":MAILTO:Uni-Innsbruck-noreply@uibk.ac.at
SUMMARY:PS Finanzwissenschaft: Ökonomik der Besteuerung (LV 404061-0 14S)
DESCRIPTION:Lehrveranstaltung 404061 14S, Gruppe 0\nTitel: PS Finanzwissenschaft: Ökonomik der Besteuerung\nOrt: SR  1 (Sowi)\n\nhttps://lfuonline.uibk.ac.at/public/lfuonline_lv.details?sem_id_in=14S&lvnr_id_in=404061\n
CLASS:PUBLIC
DTSTART:20140614T070000Z
DTEND:20140614T123000Z
DTSTAMP:20260421T092018Z
LOCATION:SR  1 (Sowi)
END:VEVENT
END:VCALENDAR