BEGIN:VCALENDAR
VERSION:2.0
PRODID:-//Universität Innsbruck//LFU:online//DE
METHOD:PUBLISH
BEGIN:VEVENT
UID:18S_408001_2971960@uibk.ac.at
ORGANIZER;CN="LFU:online Universität Innsbruck":MAILTO:Uni-Innsbruck-noreply@uibk.ac.at
SUMMARY:VO Einführung in soziologische Perspektiven und Denkweisen (LV 408001-0 18S)
DESCRIPTION:Lehrveranstaltung 408001 18S, Gruppe 0\nTitel: VO Einführung in soziologische Perspektiven und Denkweisen\nOrt: Aula (Sowi)\n\nhttps://lfuonline.uibk.ac.at/public/lfuonline_lv.details?sem_id_in=18S&lvnr_id_in=408001\n
CLASS:PUBLIC
DTSTART:20180313T120000Z
DTEND:20180313T134500Z
DTSTAMP:20260423T012932Z
LOCATION:Aula (Sowi)
END:VEVENT
BEGIN:VEVENT
UID:18S_408001_2971967@uibk.ac.at
ORGANIZER;CN="LFU:online Universität Innsbruck":MAILTO:Uni-Innsbruck-noreply@uibk.ac.at
SUMMARY:VO Einführung in soziologische Perspektiven und Denkweisen (LV 408001-0 18S)
DESCRIPTION:Lehrveranstaltung 408001 18S, Gruppe 0\nTitel: VO Einführung in soziologische Perspektiven und Denkweisen\nOrt: Aula (Sowi)\n\nhttps://lfuonline.uibk.ac.at/public/lfuonline_lv.details?sem_id_in=18S&lvnr_id_in=408001\n
CLASS:PUBLIC
DTSTART:20180315T120000Z
DTEND:20180315T134500Z
DTSTAMP:20260423T012932Z
LOCATION:Aula (Sowi)
END:VEVENT
BEGIN:VEVENT
UID:18S_408001_2971961@uibk.ac.at
ORGANIZER;CN="LFU:online Universität Innsbruck":MAILTO:Uni-Innsbruck-noreply@uibk.ac.at
SUMMARY:VO Einführung in soziologische Perspektiven und Denkweisen (LV 408001-0 18S)
DESCRIPTION:Lehrveranstaltung 408001 18S, Gruppe 0\nTitel: VO Einführung in soziologische Perspektiven und Denkweisen\nOrt: Aula (Sowi)\n\nhttps://lfuonline.uibk.ac.at/public/lfuonline_lv.details?sem_id_in=18S&lvnr_id_in=408001\n
CLASS:PUBLIC
DTSTART:20180320T120000Z
DTEND:20180320T134500Z
DTSTAMP:20260423T012932Z
LOCATION:Aula (Sowi)
END:VEVENT
BEGIN:VEVENT
UID:18S_408001_2971968@uibk.ac.at
ORGANIZER;CN="LFU:online Universität Innsbruck":MAILTO:Uni-Innsbruck-noreply@uibk.ac.at
SUMMARY:VO Einführung in soziologische Perspektiven und Denkweisen (LV 408001-0 18S)
DESCRIPTION:Lehrveranstaltung 408001 18S, Gruppe 0\nTitel: VO Einführung in soziologische Perspektiven und Denkweisen\nOrt: Aula (Sowi)\n\nhttps://lfuonline.uibk.ac.at/public/lfuonline_lv.details?sem_id_in=18S&lvnr_id_in=408001\n
CLASS:PUBLIC
DTSTART:20180322T120000Z
DTEND:20180322T134500Z
DTSTAMP:20260423T012932Z
LOCATION:Aula (Sowi)
END:VEVENT
BEGIN:VEVENT
UID:18S_408001_2971962@uibk.ac.at
ORGANIZER;CN="LFU:online Universität Innsbruck":MAILTO:Uni-Innsbruck-noreply@uibk.ac.at
SUMMARY:VO Einführung in soziologische Perspektiven und Denkweisen (LV 408001-0 18S)
DESCRIPTION:Lehrveranstaltung 408001 18S, Gruppe 0\nTitel: VO Einführung in soziologische Perspektiven und Denkweisen\nOrt: Aula (Sowi)\n\nhttps://lfuonline.uibk.ac.at/public/lfuonline_lv.details?sem_id_in=18S&lvnr_id_in=408001\n
CLASS:PUBLIC
DTSTART:20180410T110000Z
DTEND:20180410T124500Z
DTSTAMP:20260423T012932Z
LOCATION:Aula (Sowi)
END:VEVENT
BEGIN:VEVENT
UID:18S_408001_2971969@uibk.ac.at
ORGANIZER;CN="LFU:online Universität Innsbruck":MAILTO:Uni-Innsbruck-noreply@uibk.ac.at
SUMMARY:VO Einführung in soziologische Perspektiven und Denkweisen (LV 408001-0 18S)
DESCRIPTION:Lehrveranstaltung 408001 18S, Gruppe 0\nTitel: VO Einführung in soziologische Perspektiven und Denkweisen\nOrt: Aula (Sowi)\n\nhttps://lfuonline.uibk.ac.at/public/lfuonline_lv.details?sem_id_in=18S&lvnr_id_in=408001\n
CLASS:PUBLIC
DTSTART:20180412T110000Z
DTEND:20180412T124500Z
DTSTAMP:20260423T012932Z
LOCATION:Aula (Sowi)
END:VEVENT
BEGIN:VEVENT
UID:18S_408001_2971963@uibk.ac.at
ORGANIZER;CN="LFU:online Universität Innsbruck":MAILTO:Uni-Innsbruck-noreply@uibk.ac.at
SUMMARY:VO Einführung in soziologische Perspektiven und Denkweisen (LV 408001-0 18S)
DESCRIPTION:Lehrveranstaltung 408001 18S, Gruppe 0\nTitel: VO Einführung in soziologische Perspektiven und Denkweisen\nOrt: Aula (Sowi)\n\nhttps://lfuonline.uibk.ac.at/public/lfuonline_lv.details?sem_id_in=18S&lvnr_id_in=408001\n
CLASS:PUBLIC
DTSTART:20180417T110000Z
DTEND:20180417T124500Z
DTSTAMP:20260423T012932Z
LOCATION:Aula (Sowi)
END:VEVENT
BEGIN:VEVENT
UID:18S_408001_2971970@uibk.ac.at
ORGANIZER;CN="LFU:online Universität Innsbruck":MAILTO:Uni-Innsbruck-noreply@uibk.ac.at
SUMMARY:VO Einführung in soziologische Perspektiven und Denkweisen (LV 408001-0 18S)
DESCRIPTION:Lehrveranstaltung 408001 18S, Gruppe 0\nTitel: VO Einführung in soziologische Perspektiven und Denkweisen\nOrt: Aula (Sowi)\n\nhttps://lfuonline.uibk.ac.at/public/lfuonline_lv.details?sem_id_in=18S&lvnr_id_in=408001\n
CLASS:PUBLIC
DTSTART:20180419T110000Z
DTEND:20180419T124500Z
DTSTAMP:20260423T012932Z
LOCATION:Aula (Sowi)
END:VEVENT
BEGIN:VEVENT
UID:18S_408001_2971964@uibk.ac.at
ORGANIZER;CN="LFU:online Universität Innsbruck":MAILTO:Uni-Innsbruck-noreply@uibk.ac.at
SUMMARY:VO Einführung in soziologische Perspektiven und Denkweisen (LV 408001-0 18S)
DESCRIPTION:Lehrveranstaltung 408001 18S, Gruppe 0\nTitel: VO Einführung in soziologische Perspektiven und Denkweisen\nOrt: Aula (Sowi)\n\nhttps://lfuonline.uibk.ac.at/public/lfuonline_lv.details?sem_id_in=18S&lvnr_id_in=408001\n
CLASS:PUBLIC
DTSTART:20180424T110000Z
DTEND:20180424T124500Z
DTSTAMP:20260423T012932Z
LOCATION:Aula (Sowi)
END:VEVENT
BEGIN:VEVENT
UID:18S_408001_2971971@uibk.ac.at
ORGANIZER;CN="LFU:online Universität Innsbruck":MAILTO:Uni-Innsbruck-noreply@uibk.ac.at
SUMMARY:VO Einführung in soziologische Perspektiven und Denkweisen (LV 408001-0 18S)
DESCRIPTION:Lehrveranstaltung 408001 18S, Gruppe 0\nTitel: VO Einführung in soziologische Perspektiven und Denkweisen\nOrt: Aula (Sowi)\n\nhttps://lfuonline.uibk.ac.at/public/lfuonline_lv.details?sem_id_in=18S&lvnr_id_in=408001\n
CLASS:PUBLIC
DTSTART:20180426T110000Z
DTEND:20180426T124500Z
DTSTAMP:20260423T012932Z
LOCATION:Aula (Sowi)
END:VEVENT
BEGIN:VEVENT
UID:18S_408001_2971972@uibk.ac.at
ORGANIZER;CN="LFU:online Universität Innsbruck":MAILTO:Uni-Innsbruck-noreply@uibk.ac.at
SUMMARY:VO Einführung in soziologische Perspektiven und Denkweisen (LV 408001-0 18S)
DESCRIPTION:Lehrveranstaltung 408001 18S, Gruppe 0\nTitel: VO Einführung in soziologische Perspektiven und Denkweisen\nOrt: Aula (Sowi)\n\nhttps://lfuonline.uibk.ac.at/public/lfuonline_lv.details?sem_id_in=18S&lvnr_id_in=408001\n
CLASS:PUBLIC
DTSTART:20180503T110000Z
DTEND:20180503T124500Z
DTSTAMP:20260423T012932Z
LOCATION:Aula (Sowi)
COMMENT:Klausur
END:VEVENT
BEGIN:VEVENT
UID:18S_408001_3124273@uibk.ac.at
ORGANIZER;CN="LFU:online Universität Innsbruck":MAILTO:Uni-Innsbruck-noreply@uibk.ac.at
SUMMARY:VO Einführung in soziologische Perspektiven und Denkweisen (LV 408001-0 18S)
DESCRIPTION:Lehrveranstaltung 408001 18S, Gruppe 0\nTitel: VO Einführung in soziologische Perspektiven und Denkweisen\nOrt: HS 3 (Sowi)\n\nhttps://lfuonline.uibk.ac.at/public/lfuonline_lv.details?sem_id_in=18S&lvnr_id_in=408001\n
CLASS:PUBLIC
DTSTART:20180608T060000Z
DTEND:20180608T074500Z
DTSTAMP:20260423T012932Z
LOCATION:HS 3 (Sowi)
COMMENT:2. Klausur
END:VEVENT
BEGIN:VEVENT
UID:18S_408001_3124274@uibk.ac.at
ORGANIZER;CN="LFU:online Universität Innsbruck":MAILTO:Uni-Innsbruck-noreply@uibk.ac.at
SUMMARY:VO Einführung in soziologische Perspektiven und Denkweisen (LV 408001-0 18S)
DESCRIPTION:Lehrveranstaltung 408001 18S, Gruppe 0\nTitel: VO Einführung in soziologische Perspektiven und Denkweisen\nOrt: MS (Theologie)\n\nhttps://lfuonline.uibk.ac.at/public/lfuonline_lv.details?sem_id_in=18S&lvnr_id_in=408001\n
CLASS:PUBLIC
DTSTART:20180627T060000Z
DTEND:20180627T074500Z
DTSTAMP:20260423T012932Z
LOCATION:MS (Theologie)
COMMENT:3. Klausur
END:VEVENT
END:VCALENDAR